Workbook
Name CHINNING_CALON_WANITA: 'TABEL CALON WANITA'!$M$3:$N$56
Name Lari12menit_tabel69_pria: '[1]tabel 12 mnt pria (69_I_2019)'!$R$9:$AB$157
Name LARI12mnt_CALON_PRIA: 'tabel calon pria'!$K$3:$L$105
Name LARI12mnt_CALON_WANITA: 'TABEL CALON WANITA'!$J$3:$K$104
Name LUNGES_CALON_PRIA: 'tabel calon pria'!$T$3:$U$33
Name LUNGES_CALON_WANITA: 'TABEL CALON WANITA'!$S$3:$T$27
Name lunges_tabel69_pria: '[1]tabel 12 mnt pria (69_I_2019)'!$BN$9:$BX$66
Name MODIFPUSHUP_CALON_WANITA: 'TABEL CALON WANITA'!$V$3:$W$32
Name NILAI_KONVERSI: 'tabel calon pria'!$AE$3:$AF$24
Name NILAI_SGP: 'TABEL POSTUR'!$V$4:$AG$17
Name NILAI_TB_BB: 'TABEL POSTUR'!$G$4:$H$15
Name NSA: 'TABEL POSTUR'!$J$4:$T$17
Name PULLUP_CALON_PRIA: 'tabel calon pria'!$N$3:$O$23
Name pullup_tabel69_pria: '[1]tabel 12 mnt pria (69_I_2019)'!$AD$9:$AN$30
Name PUSHUP_CALON_PRIA: 'tabel calon pria'!$W$3:$X$45
Name pushup_tabel69_pria: '[1]tabel 12 mnt pria (69_I_2019)'!$BB$9:$BL$55
Name SHUTTLERUN_CALON_PRIA: 'tabel calon pria'!$AA$3:$AB$373
Name SHUTTLERUN_CALON_WANITA: 'TABEL CALON WANITA'!$Z$3:$AA$470
Name shuttlerun_tabel69_pria: '[1]tabel 12 mnt pria (69_I_2019)'!$BZ$9:$CJ$559
Name SITUP_CALON_PRIA: 'tabel calon pria'!$Q$3:$R$33
Name SITUP_CALON_WANITA: 'TABEL CALON WANITA'!$P$3:$Q$27
Name situp_tabel69_pria: '[1]tabel 12 mnt pria (69_I_2019)'!$AP$9:$AZ$53

Sheet FORMAT REKAP
A4: REKAPITULASI HASIL TES KESAMAPTAAN JASMANI SELEKSI PENERIMAAN TAMTAMA PK TNI AD GELOMBANG II TA. 2021
A5: SUBPANPUS KODAM ……..
A7: NO | D7: KELAS | E7: NO DADA | F7: NAMA | G7: JENIS KELAMIN | H7: POSTUR TUBUH | AO7: KESEGARAN JASMANI | BE7: KASJAS | BH7: NILAI AKHIR | BI7: NILAI AKHIR (KONVERSI) | BJ7: KLASIFIKASI AKHIR | BK7: KETERANGAN
A8: URUT | B8: TES | C8: GELANG | H8: PERBANDINGAN TB & BB | AE8: KELAINAN STRUTUR ANATOMI | AI8: SIKAP, GERAK & PENAMPILAN (SGP) | AN8: NILAI POSTUR | AO8: GARJAS "A" (LARI 12 MNT) | AS8: GARJAS "B" | BD8: NILAI RATA GARJAS "A+B" | BE8: RENANG DASAR JARAK 50 M | BS8: KLASIFIKASI | CH8: KETERANGAN
AS9: B1 : | AU9: B2 : | AW9: B3 : | AY9: B4 : | BA9: B5 : | BC9: NILAI RATA "B" | BE9: Gaya | BF9: WKT (mnt,dtk)/ JRK (M)
AO10: 400 | AP10: Lbh Jrk | AQ10: Jml Jrk (Meter) | AR10: Nilai | AS10: Pull Up | AU10: Sit Up | AW10: Lunges | AY10: Push Up | BA10: Shuttle Run | BS10: POSTUR | BW10: GARJAS | CE10: NA | CF10: RENANG | CH10: POSTUR | CL10: GARJAS | CT10: NA | CU10: RENANG
H11: TB (cm) | I11: BB (kg) | J11: LLB | K11: LB | M11: NB | O11: HB | Q11: IB | S11: IA | U11: HA | W11: NA | Y11: LA | AA11: LLA | AC11: Klas | AD11: Nilai | AE11: BN | AF11: N- | AG11: Kelainan | AH11: Nilai | AI11: BN | AJ11: N- | AK11: Kelainan | AL11: SGP- | AM11: Nilai | AO11: Putaran | AS11: Jml | AT11: Nilai | AU11: Jml | AV11: Nilai | AW11: Jml | AX11: Nilai | AY11: Jml | AZ11: Nilai | BA11: Wkt (dtk) | BB11: Nilai | BS11: TB & BB | BT11: NSA | BU11: SGP | BV11: NP | BW11: A | BX11: B1 | BY11: B2 | BZ11: B3 | CA11: B4 | CB11: B5 | CC11: /B | CD11: /AB | CH11: TB & BB | CI11: NSA | CJ11: SGP | CK11: NP | CL11: A | CM11: B1 | CN11: B2 | CO11: B3 | CP11: B4 | CQ11: B5 | CR11: /B | CS11: /AB
A13: 1 | B13: 1 | C13: MN3641PL | D13: A | E13: 1 | F13: ROLAN D BUHANG | G13: P | H13: 168 | I13: 54.8 | J13: =IF(OR(H13="",I13="",H13=0),"",K13-0.1) -> 51.495 | K13: =IF(OR(H13="",I13="",H13=0),"",Q13-(Q13*15%)) -> 51.595 | L13: =IF(OR(H13="",I13="",H13=0),"",M13-0.1) -> 53.0125 | M13: =IF(OR(H13="",I13="",H13=0),"",Q13-(Q13*12.5%)) -> 53.1125 | N13: =IF(OR(H13="",I13="",H13=0),"",O13-0.1) -> 56.0475 | O13: =IF(OR(H13="",I13="",H13=0),"",Q13-(Q13*7.5%)) -> 56.1475 | P13: =IF(OR(H13="",I13="",H13=0),"",Q13-0.1) -> 60.6 | Q13: =IF(OR(H13="",I13="",H13=0),"",90%*(H13-100)-0.5) -> 60.7 | R13: =IF(OR(H13="",I13="",H13=0),"",90%*(H13-100)) -> 61.2 | S13: =IF(OR(H13="",I13="",,H13=0),"",R13+0.1) -> 61.3 | T13: =IF(OR(H13="",I13="",H13=0),"",90%*(H13-100)+0.5) -> 61.7 | U13: =IF(OR(H13="",I13="",H13=0),"",T13+0.1) -> 61.8 | V13: =IF(OR(H13="",I13="",H13=0),"",T13+(T13*7.5%)) -> 66.3275 | W13: =IF(OR(H13="",I13="",H13=0),"",V13+0.1) -> 66.4275 | X13: =IF(OR(H13="",I13="",H13=0),"",T13+(T13*12.5%)) -> 69.4125 | Y13: =IF(OR(H13="",I13="",H13=0),"",X13+0.1) -> 69.5125 | Z13: =IF(OR(H13="",I13="",H13=0),"",T13+(T13*15%)) -> 70.955 | AA13: =IF(OR(H13="",I13="",H13=0),"",Z13+0.1) -> 71.055 | AB13: =IF(AC13="LLA","BB lebih"&" "&FIXED((I13-Z13),1) &" kg",IF(AC13="LLB","BB kurang"&" "&FIXED((I13-K13),1)&" kg","")) | AC13: =IF(OR(H13="",I13="", H13=0),"",IF(I13<K13,"LLB",IF(AND(I13>J13,I13<M13),"LB",IF(AND(I13>L13,I13<O13),"NB",IF(AND(I13>N13,I13<Q13),"HB",IF(AND(I13>P13,I13<S13),"IB",IF(AND(I13>R13,I13<U13),"IA",IF(AND(I13>T13,I13<W13),"HA",IF(AND(I13>V13,I13<Y13),"NA",IF(AND(I13>X13,I13<AA13),"LA",IF(I13>=AA13,"LLA",""))))))))))) -> NB | AD13: =IF(AC13="","", VLOOKUP(AC13,NILAI_TB_BB,2)) -> 50 | AE13: 0 | AF13: 5 | AG13: NM-= HA, SDL, HAS-A, KT | AH13: =IF(OR(AE13="",AF13=""),"", IF(OR(AE13="-",AF13="-"),"-", IF(AE13=0,VLOOKUP(AF13,NSA,2), IF(AE13=1,VLOOKUP(AF13,NSA,3), IF(AE13=2,VLOOKUP(AF13,NSA,4), IF(AE13=3,VLOOKUP(AF13,NSA,5), IF(AE13=4,VLOOKUP(AF13,NSA,6), IF(AE13=5,VLOOKUP(AF13,NSA,7), IF(AE13=6,VLOOKUP(AF13,NSA,8), IF(AE13=7,VLOOKUP(AF13,NSA,9), IF(AE13=8,VLOOKUP(AF13,NSA,10), IF(AE13=9,VLOOKUP(AF13,NSA,11), IF(AE13=10,VLOOKUP(AF13,NSA,12),""))))))))))))) -> 50 | AI13: 0 | AJ13: 3 | AK13: NM-= Mulut cakil, Keloid-2 | AL13: =IF(AM13="","",IF(AM13>=81,"SGP-0",IF(AND(AM13>=61,AM13<=80),"SGP-1",IF(AND(AM13>=41,AM13<=60),"SGP-2",IF(AND(AM13>=21,AM13<=40),"SGP-3",IF(AND(AM13>=0,AM13<=20),"SGP-4","")))))) -> SGP-1 | AM13: =IF(OR(AI13="",AJ13=""),"",IF(AI13=0,VLOOKUP(AJ13,NILAI_SGP,2),IF(AI13=1,VLOOKUP(AJ13,NILAI_SGP,3),IF(AI13=2,VLOOKUP(AJ13,NILAI_SGP,4),IF(AI13=3,VLOOKUP(AJ13,NILAI_SGP,5),IF(AI13=4,VLOOKUP(AJ13,NILAI_SGP,6),IF(AI13=5,VLOOKUP(AJ13,NILAI_SGP,7),IF(AI13=6,VLOOKUP(AJ13,NILAI_SGP,8),IF(AI13=7,VLOOKUP(AJ13,NILAI_SGP,9),IF(AI13=8,VLOOKUP(AJ13,NILAI_SGP,10),IF(AI13=9,VLOOKUP(AJ13,NILAI_SGP,11),IF(AI13=10,VLOOKUP(AJ13,NILAI_SGP,12),"")))))))))))) -> 70 | AN13: =IF(OR(AD13="",AH13="",AM13=""),"",VALUE(FIXED(((AD13+AH13+AM13)/3),2))) -> 56.67 | AO13: 8 | AP13: 20 | AQ13: =IF(OR(AO13="",AP13="",AO13=0),"",IF(OR(AO13="-",AP13="-"),"-",(AO13*$AO$10)+AP13)) -> 3220 | AR13: =IF(OR(G13="",AQ13="",AQ13=0),"",IF(OR(AO13="-",AP13="-"),"-",IF(G13="P",VLOOKUP(AQ13,LARI12mnt_CALON_PRIA,2),IF(G13="W",VLOOKUP(AQ13,LARI12mnt_CALON_WANITA,2),"")))) -> 84 | AS13: 18 | AT13: =IF(OR(G13="",AS13=""),"", IF(AS13="-","-", IF(G13="P",VLOOKUP(AS13,PULLUP_CALON_PRIA,2),IF(G13="W",VLOOKUP(AS13,CHINNING_CALON_WANITA,2),"")))) -> 100 | AU13: 41 | AV13: =IF(OR(G13="",AU13=""),"", IF(AU13="-","-", IF(G13="P",VLOOKUP(AU13,SITUP_CALON_PRIA,2),IF(G13="W",VLOOKUP(AU13,SITUP_CALON_WANITA,2),"")))) -> 100 | AW13: 49 | AX13: =IF(OR(G13="",AW13=""),"",IF(AW13="-","-", IF(G13="P",VLOOKUP(AW13,LUNGES_CALON_PRIA,2),IF(G13="W",VLOOKUP(AW13,LUNGES_CALON_WANITA,2),"")))) -> 75 | AY13: 40 | AZ13: =IF(OR(G13="",AY13=""),"", IF(AY13="-","-", IF(G13="P",VLOOKUP(AY13,PUSHUP_CALON_PRIA,2),IF(G13="W",VLOOKUP(AY13,MODIFPUSHUP_CALON_WANITA,2),"")))) -> 93 | BA13: 5.08 | BB13: =IF(OR(G13="",BA13="",BA13=0),"",IF(BA13="-","-", IF(G13="P",VLOOKUP(BA13,SHUTTLERUN_CALON_PRIA,2),IF(G13="W",VLOOKUP(BA13,SHUTTLERUN_CALON_WANITA,2),"")))) -> 77 | BC13: =IF(OR(AT13="",AV13="",AX13="",AZ13="",BB13=""),"",IF(OR(AS13="-",AU13="-",AW13="-",AY13="-",BA13="-"),0,VALUE(FIXED(((AT13+AV13+AX13+AZ13+BB13)/5),2)))) -> 89 | BD13: =IF(OR(AR13="",BC13=""),"",IF(OR(AS13="-",AU13="-",AW13="-",AY13="-",BA13="-"),0, VALUE(FIXED(((AR13+BC13)/2),2)))) -> 86.5 | BE13: G | BF13: 0.51 | BG13: =IF(BF13="","",IF(RIGHT(BF13,1)="M","","""")) -> " | BH13: =IF(OR(G13="",AN13="",BD13=""),"", IF(OR(AE13="-",AF13="-",AI13="-",AJ13="-",AS13="-",AU13="-",AW13="-",AY13="-",BA13="-"),0, VALUE(FIXED(((AN13*30%)+(BD13*70%)),2)))) -> 77.55 | BI13: =IF(OR(G13="",BH13=""),"", IF(OR(AE13="-",AF13="-",AI13="-",AJ13="-",AS13="-",AU13="-",AW13="-",BA13="-"),0, IF(AND(BJ13="TL",OR(BH13<=40.99,BH13>=41)),VLOOKUP(BH13,NILAI_KONVERSI,2),IF(BJ13="L",BH13,"")))) -> 77.55 | BJ13: =IF(BH13="","", IF(OR(AQ13="-",AS13="-",AU13="-",AW13="-",AY13="-", BA13="-"),"-", IF(COUNTIF(BS13:CE13,"TL")>=1,"TL","L"))) -> L | BK13: =IF(BJ13="","",CONCATENATE(CH13,CI13,CJ13,CK13,CL13,CM13,CN13,CO13,CP13,CQ13,CR13,CS13,CU13,CT13)) | BS13: =IF(AD13="","",IF(AD13="-","-",IF(AD13<=20,"TL","L"))) -> L | BT13: =IF(AH13="","",IF(AH13="-","-",IF(AH13<=30,"TL","L"))) -> L | BU13: =IF(AM13="","",IF(AM13="-","-",IF(AM13<=20,"TL","L"))) -> L | BV13: =IF(AN13="","",IF(AN13="-","-",IF(AN13<=20.99,"TL","L"))) -> L | BW13: =IF(AR13="","", IF(AR13="-","-", IF(AR13<=34,"TL","L"))) -> L | BX13: =IF(AT13="","",IF(AT13="-","-",IF(G13="P",IF(AT13<=24,"TL",IF(AT13>=25,"L")),IF(G13="W",IF(AT13<=30,"TL",IF(AT13>=31,"L")))))) -> L | BY13: =IF(AV13="","",IF(AV13="-","-",IF(G13="P",IF(AV13<=30,"TL",IF(AV13>=31,"L")),IF(G13="W",IF(AV13<=30,"TL",IF(AV13>=31,"L")))))) -> L | BZ13: =IF(AX13="","",IF(AX13="-","-",IF(G13="P",IF(AX13<=30,"TL",IF(AX13>=31,"L")),IF(G13="W",IF(AX13<=30,"TL",IF(AX13>=31,"L")))))) -> L | CA13: =IF(AZ13="","",IF(AZ13="-","-",IF(G13="P",IF(AZ13<=30,"TL",IF(AZ13>=31,"L")),IF(G13="W",IF(AZ13<=30,"TL",IF(AZ13>=31,"L")))))) -> L | CB13: =IF(BB13="","",IF(BB13="-","-",IF(G13="P",IF(BB13<=30,"TL",IF(BB13>=31,"L")),IF(G13="W",IF(BB13<=30,"TL",IF(BB13>=31,"L")))))) -> L | CC13: =IF(BC13="","", IF(G13="P",IF(BC13<=34.99,"TL", IF(BC13>=35,"L")), IF(G13="W", IF(BC13<=34.99,"TL", IF(BC13>=35,"L"))))) -> L | CD13: =IF(BD13="","", IF(G13="P",IF(BD13<=40.99,"TL", IF(BD13>=41,"L")), IF(G13="W", IF(BD13<=40.99,"TL", IF(BD13>=41,"L"))))) -> L | CE13: =IF(BH13="","",IF(BH13<=40.99,"TL", IF(BH13>=41,"L"))) -> L | CH13: =IF(BS13="TL","BB="&""&AC13&"("&AD13&"), ", "") | CI13: =IF(OR(AE13="-",AF13="-"),"NSA= tdk melaks"&", ",IF(BT13="TL","NSA=N-"&AF13&""&"("&AH13&")"&"("&AG13&")"&", ","")) | CJ13: =IF(AL13="-","SGP= tdk melaks"&", ",IF(BU13="TL",AL13&"="&""&"("&AM13&"), ","")) | CK13: =IF(BV13="TL","NP="&"("&FIXED((AN13),2)&"), ","") | CL13: =IF(AQ13="-","A= tdk melaks"&", ", IF(BW13="TL","A="&"("&AR13&")"&" (Lari Kurang "&(AQ13-2272)&"m), ","")) | CM13: =IF(AS13="-","B1= tdk melaks"&", ",IF(BX13="TL","B1="&"("&AT13&"), ","")) | CN13: =IF(AU13="-","B2= tdk melaks"&", ",IF(BY13="TL","B2="&"("&AV13&"), ","")) | CO13: =IF(AW13="-","B3= tdk melaks"&", ",IF(BZ13="TL","B3="&"("&AX13&"), ","")) | CP13: =IF(BA13="-","B4= tdk melaks"&", ",IF(CA13="TL","B4="&"("&AZ13&"), ","")) | CQ13: =IF(BB13="-","B4= tdk melaks"&", ",IF(CB13="TL","B5="&"("&BB13&"), ","")) | CR13: =IF(CC13="TL","R.B="&"("&FIXED((BC13),2)&"), ", "") | CS13: =IF(CD13="TL","R.AB="&"("&FIXED((BD13),2)&"), ", "") | CT13: =IF(CE13="TL","N.A="&"("&FIXED((BH13),2)&").", "") | CU13: =IF(BF13="-","Renang= tdk melaks"&", ", IF(RIGHT(BF13,1)="M","Renang="&""&BF13&", ",""))
A14: 2 | B14: 2 | C14: MN3642PL | D14: A | E14: 2 | F14: ABDULLAH | G14: P | H14: 166.5 | I14: 68.8 | J14: =IF(OR(H14="",I14="",H14=0),"",K14-0.1) -> 50.3475 | K14: =IF(OR(H14="",I14="",H14=0),"",Q14-(Q14*15%)) -> 50.4475 | L14: =IF(OR(H14="",I14="",H14=0),"",M14-0.1) -> 51.83125 | M14: =IF(OR(H14="",I14="",H14=0),"",Q14-(Q14*12.5%)) -> 51.93125 | N14: =IF(OR(H14="",I14="",H14=0),"",O14-0.1) -> 54.79875 | O14: =IF(OR(H14="",I14="",H14=0),"",Q14-(Q14*7.5%)) -> 54.89875 | P14: =IF(OR(H14="",I14="",H14=0),"",Q14-0.1) -> 59.25 | Q14: =IF(OR(H14="",I14="",H14=0),"",90%*(H14-100)-0.5) -> 59.35 | R14: =IF(OR(H14="",I14="",H14=0),"",90%*(H14-100)) -> 59.85 | S14: =IF(OR(H14="",I14="",,H14=0),"",R14+0.1) -> 59.95 | T14: =IF(OR(H14="",I14="",H14=0),"",90%*(H14-100)+0.5) -> 60.35 | U14: =IF(OR(H14="",I14="",H14=0),"",T14+0.1) -> 60.45 | V14: =IF(OR(H14="",I14="",H14=0),"",T14+(T14*7.5%)) -> 64.87625 | W14: =IF(OR(H14="",I14="",H14=0),"",V14+0.1) -> 64.97625 | X14: =IF(OR(H14="",I14="",H14=0),"",T14+(T14*12.5%)) -> 67.89375 | Y14: =IF(OR(H14="",I14="",H14=0),"",X14+0.1) -> 67.99375 | Z14: =IF(OR(H14="",I14="",H14=0),"",T14+(T14*15%)) -> 69.4025 | AA14: =IF(OR(H14="",I14="",H14=0),"",Z14+0.1) -> 69.5025 | AB14: =IF(AC14="LLA","BB lebih"&" "&FIXED((I14-Z14),1) &" kg",IF(AC14="LLB","BB kurang"&" "&FIXED((I14-K14),1)&" kg","")) | AC14: =IF(OR(H14="",I14="", H14=0),"",IF(I14<K14,"LLB",IF(AND(I14>J14,I14<M14),"LB",IF(AND(I14>L14,I14<O14),"NB",IF(AND(I14>N14,I14<Q14),"HB",IF(AND(I14>P14,I14<S14),"IB",IF(AND(I14>R14,I14<U14),"IA",IF(AND(I14>T14,I14<W14),"HA",IF(AND(I14>V14,I14<Y14),"NA",IF(AND(I14>X14,I14<AA14),"LA",IF(I14>=AA14,"LLA",""))))))))))) -> LA | AD14: =IF(AC14="","", VLOOKUP(AC14,NILAI_TB_BB,2)) -> 40 | AE14: 0 | AF14: 4 | AG14: NM-= SDR, HAS, LD, HAP | AH14: =IF(OR(AE14="",AF14=""),"", IF(OR(AE14="-",AF14="-"),"-", IF(AE14=0,VLOOKUP(AF14,NSA,2), IF(AE14=1,VLOOKUP(AF14,NSA,3), IF(AE14=2,VLOOKUP(AF14,NSA,4), IF(AE14=3,VLOOKUP(AF14,NSA,5), IF(AE14=4,VLOOKUP(AF14,NSA,6), IF(AE14=5,VLOOKUP(AF14,NSA,7), IF(AE14=6,VLOOKUP(AF14,NSA,8), IF(AE14=7,VLOOKUP(AF14,NSA,9), IF(AE14=8,VLOOKUP(AF14,NSA,10), IF(AE14=9,VLOOKUP(AF14,NSA,11), IF(AE14=10,VLOOKUP(AF14,NSA,12),""))))))))))))) -> 60 | AI14: 0 | AJ14: 3 | AK14: NM-= Berjalan kaki tinggi sebelah, Gigi bertaring, Keloid | AL14: =IF(AM14="","",IF(AM14>=81,"SGP-0",IF(AND(AM14>=61,AM14<=80),"SGP-1",IF(AND(AM14>=41,AM14<=60),"SGP-2",IF(AND(AM14>=21,AM14<=40),"SGP-3",IF(AND(AM14>=0,AM14<=20),"SGP-4","")))))) -> SGP-1 | AM14: =IF(OR(AI14="",AJ14=""),"",IF(AI14=0,VLOOKUP(AJ14,NILAI_SGP,2),IF(AI14=1,VLOOKUP(AJ14,NILAI_SGP,3),IF(AI14=2,VLOOKUP(AJ14,NILAI_SGP,4),IF(AI14=3,VLOOKUP(AJ14,NILAI_SGP,5),IF(AI14=4,VLOOKUP(AJ14,NILAI_SGP,6),IF(AI14=5,VLOOKUP(AJ14,NILAI_SGP,7),IF(AI14=6,VLOOKUP(AJ14,NILAI_SGP,8),IF(AI14=7,VLOOKUP(AJ14,NILAI_SGP,9),IF(AI14=8,VLOOKUP(AJ14,NILAI_SGP,10),IF(AI14=9,VLOOKUP(AJ14,NILAI_SGP,11),IF(AI14=10,VLOOKUP(AJ14,NILAI_SGP,12),"")))))))))))) -> 70 | AN14: =IF(OR(AD14="",AH14="",AM14=""),"",VALUE(FIXED(((AD14+AH14+AM14)/3),2))) -> 56.67 | AO14: 8 | AP14: 110 | AQ14: =IF(OR(AO14="",AP14="",AO14=0),"",IF(OR(AO14="-",AP14="-"),"-",(AO14*$AO$10)+AP14)) -> 3310 | AR14: =IF(OR(G14="",AQ14="",AQ14=0),"",IF(OR(AO14="-",AP14="-"),"-",IF(G14="P",VLOOKUP(AQ14,LARI12mnt_CALON_PRIA,2),IF(G14="W",VLOOKUP(AQ14,LARI12mnt_CALON_WANITA,2),"")))) -> 89 | AS14: 18 | AT14: =IF(OR(G14="",AS14=""),"", IF(AS14="-","-", IF(G14="P",VLOOKUP(AS14,PULLUP_CALON_PRIA,2),IF(G14="W",VLOOKUP(AS14,CHINNING_CALON_WANITA,2),"")))) -> 100 | AU14: 41 | AV14: =IF(OR(G14="",AU14=""),"", IF(AU14="-","-", IF(G14="P",VLOOKUP(AU14,SITUP_CALON_PRIA,2),IF(G14="W",VLOOKUP(AU14,SITUP_CALON_WANITA,2),"")))) -> 100 | AW14: 54 | AX14: =IF(OR(G14="",AW14=""),"",IF(AW14="-","-", IF(G14="P",VLOOKUP(AW14,LUNGES_CALON_PRIA,2),IF(G14="W",VLOOKUP(AW14,LUNGES_CALON_WANITA,2),"")))) -> 100 | AY14: 43 | AZ14: =IF(OR(G14="",AY14=""),"", IF(AY14="-","-", IF(G14="P",VLOOKUP(AY14,PUSHUP_CALON_PRIA,2),IF(G14="W",VLOOKUP(AY14,MODIFPUSHUP_CALON_WANITA,2),"")))) -> 100 | BA14: 4.09 | BB14: =IF(OR(G14="",BA14="",BA14=0),"",IF(BA14="-","-", IF(G14="P",VLOOKUP(BA14,SHUTTLERUN_CALON_PRIA,2),IF(G14="W",VLOOKUP(BA14,SHUTTLERUN_CALON_WANITA,2),"")))) -> 100 | BC14: =IF(OR(AT14="",AV14="",AX14="",AZ14="",BB14=""),"",IF(OR(AS14="-",AU14="-",AW14="-",AY14="-",BA14="-"),0,VALUE(FIXED(((AT14+AV14+AX14+AZ14+BB14)/5),2)))) -> 100 | BD14: =IF(OR(AR14="",BC14=""),"",IF(OR(AS14="-",AU14="-",AW14="-",AY14="-",BA14="-"),0, VALUE(FIXED(((AR14+BC14)/2),2)))) -> 94.5 | BE14: G | BF14: 0.56 | BG14: =IF(BF14="","",IF(RIGHT(BF14,1)="M","","""")) -> " | BH14: =IF(OR(G14="",AN14="",BD14=""),"", IF(OR(AE14="-",AF14="-",AI14="-",AJ14="-",AS14="-",AU14="-",AW14="-",AY14="-",BA14="-"),0, VALUE(FIXED(((AN14*30%)+(BD14*70%)),2)))) -> 83.15 | BI14: =IF(OR(G14="",BH14=""),"", IF(OR(AE14="-",AF14="-",AI14="-",AJ14="-",AS14="-",AU14="-",AW14="-",BA14="-"),0, IF(AND(BJ14="TL",OR(BH14<=40.99,BH14>=41)),VLOOKUP(BH14,NILAI_KONVERSI,2),IF(BJ14="L",BH14,"")))) -> 83.15 | BJ14: =IF(BH14="","", IF(OR(AQ14="-",AS14="-",AU14="-",AW14="-",AY14="-", BA14="-"),"-", IF(COUNTIF(BS14:CE14,"TL")>=1,"TL","L"))) -> L | BK14: =IF(BJ14="","",CONCATENATE(CH14,CI14,CJ14,CK14,CL14,CM14,CN14,CO14,CP14,CQ14,CR14,CS14,CU14,CT14)) | BS14: =IF(AD14="","",IF(AD14="-","-",IF(AD14<=20,"TL","L"))) -> L | BT14: =IF(AH14="","",IF(AH14="-","-",IF(AH14<=30,"TL","L"))) -> L | BU14: =IF(AM14="","",IF(AM14="-","-",IF(AM14<=20,"TL","L"))) -> L | BV14: =IF(AN14="","",IF(AN14="-","-",IF(AN14<=20.99,"TL","L"))) -> L | BW14: =IF(AR14="","", IF(AR14="-","-", IF(AR14<=34,"TL","L"))) -> L | BX14: =IF(AT14="","",IF(AT14="-","-",IF(G14="P",IF(AT14<=24,"TL",IF(AT14>=25,"L")),IF(G14="W",IF(AT14<=30,"TL",IF(AT14>=31,"L")))))) -> L | BY14: =IF(AV14="","",IF(AV14="-","-",IF(G14="P",IF(AV14<=30,"TL",IF(AV14>=31,"L")),IF(G14="W",IF(AV14<=30,"TL",IF(AV14>=31,"L")))))) -> L | BZ14: =IF(AX14="","",IF(AX14="-","-",IF(G14="P",IF(AX14<=30,"TL",IF(AX14>=31,"L")),IF(G14="W",IF(AX14<=30,"TL",IF(AX14>=31,"L")))))) -> L | CA14: =IF(AZ14="","",IF(AZ14="-","-",IF(G14="P",IF(AZ14<=30,"TL",IF(AZ14>=31,"L")),IF(G14="W",IF(AZ14<=30,"TL",IF(AZ14>=31,"L")))))) -> L | CB14: =IF(BB14="","",IF(BB14="-","-",IF(G14="P",IF(BB14<=30,"TL",IF(BB14>=31,"L")),IF(G14="W",IF(BB14<=30,"TL",IF(BB14>=31,"L")))))) -> L | CC14: =IF(BC14="","", IF(G14="P",IF(BC14<=34.99,"TL", IF(BC14>=35,"L")), IF(G14="W", IF(BC14<=34.99,"TL", IF(BC14>=35,"L"))))) -> L | CD14: =IF(BD14="","", IF(G14="P",IF(BD14<=40.99,"TL", IF(BD14>=41,"L")), IF(G14="W", IF(BD14<=40.99,"TL", IF(BD14>=41,"L"))))) -> L | CE14: =IF(BH14="","",IF(BH14<=40.99,"TL", IF(BH14>=41,"L"))) -> L | CH14: =IF(BS14="TL","BB="&""&AC14&"("&AD14&"), ", "") | CI14: =IF(OR(AE14="-",AF14="-"),"NSA= tdk melaks"&", ",IF(BT14="TL","NSA=N-"&AF14&""&"("&AH14&")"&"("&AG14&")"&", ","")) | CJ14: =IF(AL14="-","SGP= tdk melaks"&", ",IF(BU14="TL",AL14&"="&""&"("&AM14&"), ","")) | CK14: =IF(BV14="TL","NP="&"("&FIXED((AN14),2)&"), ","") | CL14: =IF(AQ14="-","A= tdk melaks"&", ", IF(BW14="TL","A="&"("&AR14&")"&" (Lari Kurang "&(AQ14-2272)&"m), ","")) | CM14: =IF(AS14="-","B1= tdk melaks"&", ",IF(BX14="TL","B1="&"("&AT14&"), ","")) | CN14: =IF(AU14="-","B2= tdk melaks"&", ",IF(BY14="TL","B2="&"("&AV14&"), ","")) | CO14: =IF(AW14="-","B3= tdk melaks"&", ",IF(BZ14="TL","B3="&"("&AX14&"), ","")) | CP14: =IF(BA14="-","B4= tdk melaks"&", ",IF(CA14="TL","B4="&"("&AZ14&"), ","")) | CQ14: =IF(BB14="-","B4= tdk melaks"&", ",IF(CB14="TL","B5="&"("&BB14&"), ","")) | CR14: =IF(CC14="TL","R.B="&"("&FIXED((BC14),2)&"), ", "") | CS14: =IF(CD14="TL","R.AB="&"("&FIXED((BD14),2)&"), ", "") | CT14: =IF(CE14="TL","N.A="&"("&FIXED((BH14),2)&").", "") | CU14: =IF(BF14="-","Renang= tdk melaks"&", ", IF(RIGHT(BF14,1)="M","Renang="&""&BF14&", ",""))
A15: 3 | B15: 3 | C15: MN3643PL | D15: A | E15: 3 | F15: REPALDI PAKAYA | G15: P | H15: 166.6 | I15: 59.6 | J15: =IF(OR(H15="",I15="",H15=0),"",K15-0.1) -> 50.424 | K15: =IF(OR(H15="",I15="",H15=0),"",Q15-(Q15*15%)) -> 50.524 | L15: =IF(OR(H15="",I15="",H15=0),"",M15-0.1) -> 51.91 | M15: =IF(OR(H15="",I15="",H15=0),"",Q15-(Q15*12.5%)) -> 52.01 | N15: =IF(OR(H15="",I15="",H15=0),"",O15-0.1) -> 54.882 | O15: =IF(OR(H15="",I15="",H15=0),"",Q15-(Q15*7.5%)) -> 54.982 | P15: =IF(OR(H15="",I15="",H15=0),"",Q15-0.1) -> 59.34 | Q15: =IF(OR(H15="",I15="",H15=0),"",90%*(H15-100)-0.5) -> 59.44 | R15: =IF(OR(H15="",I15="",H15=0),"",90%*(H15-100)) -> 59.94 | S15: =IF(OR(H15="",I15="",,H15=0),"",R15+0.1) -> 60.04 | T15: =IF(OR(H15="",I15="",H15=0),"",90%*(H15-100)+0.5) -> 60.44 | U15: =IF(OR(H15="",I15="",H15=0),"",T15+0.1) -> 60.54 | V15: =IF(OR(H15="",I15="",H15=0),"",T15+(T15*7.5%)) -> 64.973 | W15: =IF(OR(H15="",I15="",H15=0),"",V15+0.1) -> 65.073 | X15: =IF(OR(H15="",I15="",H15=0),"",T15+(T15*12.5%)) -> 67.995 | Y15: =IF(OR(H15="",I15="",H15=0),"",X15+0.1) -> 68.095 | Z15: =IF(OR(H15="",I15="",H15=0),"",T15+(T15*15%)) -> 69.506 | AA15: =IF(OR(H15="",I15="",H15=0),"",Z15+0.1) -> 69.606 | AB15: =IF(AC15="LLA","BB lebih"&" "&FIXED((I15-Z15),1) &" kg",IF(AC15="LLB","BB kurang"&" "&FIXED((I15-K15),1)&" kg","")) | AC15: =IF(OR(H15="",I15="", H15=0),"",IF(I15<K15,"LLB",IF(AND(I15>J15,I15<M15),"LB",IF(AND(I15>L15,I15<O15),"NB",IF(AND(I15>N15,I15<Q15),"HB",IF(AND(I15>P15,I15<S15),"IB",IF(AND(I15>R15,I15<U15),"IA",IF(AND(I15>T15,I15<W15),"HA",IF(AND(I15>V15,I15<Y15),"NA",IF(AND(I15>X15,I15<AA15),"LA",IF(I15>=AA15,"LLA",""))))))))))) -> IB | AD15: =IF(AC15="","", VLOOKUP(AC15,NILAI_TB_BB,2)) -> 90 | AE15: 0 | AF15: 5 | AG15: NM-= HA, SDR, LD-2, HEX | AH15: =IF(OR(AE15="",AF15=""),"", IF(OR(AE15="-",AF15="-"),"-", IF(AE15=0,VLOOKUP(AF15,NSA,2), IF(AE15=1,VLOOKUP(AF15,NSA,3), IF(AE15=2,VLOOKUP(AF15,NSA,4), IF(AE15=3,VLOOKUP(AF15,NSA,5), IF(AE15=4,VLOOKUP(AF15,NSA,6), IF(AE15=5,VLOOKUP(AF15,NSA,7), IF(AE15=6,VLOOKUP(AF15,NSA,8), IF(AE15=7,VLOOKUP(AF15,NSA,9), IF(AE15=8,VLOOKUP(AF15,NSA,10), IF(AE15=9,VLOOKUP(AF15,NSA,11), IF(AE15=10,VLOOKUP(AF15,NSA,12),""))))))))))))) -> 50 | AI15: 1 | AJ15: 3 | AK15: BN-= Berjalan mengangkang / NM-= Gigi kelinci, Keloid-2 | AL15: =IF(AM15="","",IF(AM15>=81,"SGP-0",IF(AND(AM15>=61,AM15<=80),"SGP-1",IF(AND(AM15>=41,AM15<=60),"SGP-2",IF(AND(AM15>=21,AM15<=40),"SGP-3",IF(AND(AM15>=0,AM15<=20),"SGP-4","")))))) -> SGP-1 | AM15: =IF(OR(AI15="",AJ15=""),"",IF(AI15=0,VLOOKUP(AJ15,NILAI_SGP,2),IF(AI15=1,VLOOKUP(AJ15,NILAI_SGP,3),IF(AI15=2,VLOOKUP(AJ15,NILAI_SGP,4),IF(AI15=3,VLOOKUP(AJ15,NILAI_SGP,5),IF(AI15=4,VLOOKUP(AJ15,NILAI_SGP,6),IF(AI15=5,VLOOKUP(AJ15,NILAI_SGP,7),IF(AI15=6,VLOOKUP(AJ15,NILAI_SGP,8),IF(AI15=7,VLOOKUP(AJ15,NILAI_SGP,9),IF(AI15=8,VLOOKUP(AJ15,NILAI_SGP,10),IF(AI15=9,VLOOKUP(AJ15,NILAI_SGP,11),IF(AI15=10,VLOOKUP(AJ15,NILAI_SGP,12),"")))))))))))) -> 69 | AN15: =IF(OR(AD15="",AH15="",AM15=""),"",VALUE(FIXED(((AD15+AH15+AM15)/3),2))) -> 69.67 | AO15: 7 | AP15: 140 | AQ15: =IF(OR(AO15="",AP15="",AO15=0),"",IF(OR(AO15="-",AP15="-"),"-",(AO15*$AO$10)+AP15)) -> 2940 | AR15: =IF(OR(G15="",AQ15="",AQ15=0),"",IF(OR(AO15="-",AP15="-"),"-",IF(G15="P",VLOOKUP(AQ15,LARI12mnt_CALON_PRIA,2),IF(G15="W",VLOOKUP(AQ15,LARI12mnt_CALON_WANITA,2),"")))) -> 70 | AS15: 17 | AT15: =IF(OR(G15="",AS15=""),"", IF(AS15="-","-", IF(G15="P",VLOOKUP(AS15,PULLUP_CALON_PRIA,2),IF(G15="W",VLOOKUP(AS15,CHINNING_CALON_WANITA,2),"")))) -> 95 | AU15: 41 | AV15: =IF(OR(G15="",AU15=""),"", IF(AU15="-","-", IF(G15="P",VLOOKUP(AU15,SITUP_CALON_PRIA,2),IF(G15="W",VLOOKUP(AU15,SITUP_CALON_WANITA,2),"")))) -> 100 | AW15: 53 | AX15: =IF(OR(G15="",AW15=""),"",IF(AW15="-","-", IF(G15="P",VLOOKUP(AW15,LUNGES_CALON_PRIA,2),IF(G15="W",VLOOKUP(AW15,LUNGES_CALON_WANITA,2),"")))) -> 95 | AY15: 43 | AZ15: =IF(OR(G15="",AY15=""),"", IF(AY15="-","-", IF(G15="P",VLOOKUP(AY15,PUSHUP_CALON_PRIA,2),IF(G15="W",VLOOKUP(AY15,MODIFPUSHUP_CALON_WANITA,2),"")))) -> 100 | BA15: 5.03 | BB15: =IF(OR(G15="",BA15="",BA15=0),"",IF(BA15="-","-", IF(G15="P",VLOOKUP(BA15,SHUTTLERUN_CALON_PRIA,2),IF(G15="W",VLOOKUP(BA15,SHUTTLERUN_CALON_WANITA,2),"")))) -> 79 | BC15: =IF(OR(AT15="",AV15="",AX15="",AZ15="",BB15=""),"",IF(OR(AS15="-",AU15="-",AW15="-",AY15="-",BA15="-"),0,VALUE(FIXED(((AT15+AV15+AX15+AZ15+BB15)/5),2)))) -> 93.8 | BD15: =IF(OR(AR15="",BC15=""),"",IF(OR(AS15="-",AU15="-",AW15="-",AY15="-",BA15="-"),0, VALUE(FIXED(((AR15+BC15)/2),2)))) -> 81.9 | BE15: G | BF15: 0.55 | BG15: =IF(BF15="","",IF(RIGHT(BF15,1)="M","","""")) -> " | BH15: =IF(OR(G15="",AN15="",BD15=""),"", IF(OR(AE15="-",AF15="-",AI15="-",AJ15="-",AS15="-",AU15="-",AW15="-",AY15="-",BA15="-"),0, VALUE(FIXED(((AN15*30%)+(BD15*70%)),2)))) -> 78.23 | BI15: =IF(OR(G15="",BH15=""),"", IF(OR(AE15="-",AF15="-",AI15="-",AJ15="-",AS15="-",AU15="-",AW15="-",BA15="-"),0, IF(AND(BJ15="TL",OR(BH15<=40.99,BH15>=41)),VLOOKUP(BH15,NILAI_KONVERSI,2),IF(BJ15="L",BH15,"")))) -> 78.23 | BJ15: =IF(BH15="","", IF(OR(AQ15="-",AS15="-",AU15="-",AW15="-",AY15="-", BA15="-"),"-", IF(COUNTIF(BS15:CE15,"TL")>=1,"TL","L"))) -> L | BK15: =IF(BJ15="","",CONCATENATE(CH15,CI15,CJ15,CK15,CL15,CM15,CN15,CO15,CP15,CQ15,CR15,CS15,CU15,CT15)) | BS15: =IF(AD15="","",IF(AD15="-","-",IF(AD15<=20,"TL","L"))) -> L | BT15: =IF(AH15="","",IF(AH15="-","-",IF(AH15<=30,"TL","L"))) -> L | BU15: =IF(AM15="","",IF(AM15="-","-",IF(AM15<=20,"TL","L"))) -> L | BV15: =IF(AN15="","",IF(AN15="-","-",IF(AN15<=20.99,"TL","L"))) -> L | BW15: =IF(AR15="","", IF(AR15="-","-", IF(AR15<=34,"TL","L"))) -> L | BX15: =IF(AT15="","",IF(AT15="-","-",IF(G15="P",IF(AT15<=24,"TL",IF(AT15>=25,"L")),IF(G15="W",IF(AT15<=30,"TL",IF(AT15>=31,"L")))))) -> L | BY15: =IF(AV15="","",IF(AV15="-","-",IF(G15="P",IF(AV15<=30,"TL",IF(AV15>=31,"L")),IF(G15="W",IF(AV15<=30,"TL",IF(AV15>=31,"L")))))) -> L | BZ15: =IF(AX15="","",IF(AX15="-","-",IF(G15="P",IF(AX15<=30,"TL",IF(AX15>=31,"L")),IF(G15="W",IF(AX15<=30,"TL",IF(AX15>=31,"L")))))) -> L | CA15: =IF(AZ15="","",IF(AZ15="-","-",IF(G15="P",IF(AZ15<=30,"TL",IF(AZ15>=31,"L")),IF(G15="W",IF(AZ15<=30,"TL",IF(AZ15>=31,"L")))))) -> L | CB15: =IF(BB15="","",IF(BB15="-","-",IF(G15="P",IF(BB15<=30,"TL",IF(BB15>=31,"L")),IF(G15="W",IF(BB15<=30,"TL",IF(BB15>=31,"L")))))) -> L | CC15: =IF(BC15="","", IF(G15="P",IF(BC15<=34.99,"TL", IF(BC15>=35,"L")), IF(G15="W", IF(BC15<=34.99,"TL", IF(BC15>=35,"L"))))) -> L | CD15: =IF(BD15="","", IF(G15="P",IF(BD15<=40.99,"TL", IF(BD15>=41,"L")), IF(G15="W", IF(BD15<=40.99,"TL", IF(BD15>=41,"L"))))) -> L | CE15: =IF(BH15="","",IF(BH15<=40.99,"TL", IF(BH15>=41,"L"))) -> L | CH15: =IF(BS15="TL","BB="&""&AC15&"("&AD15&"), ", "") | CI15: =IF(OR(AE15="-",AF15="-"),"NSA= tdk melaks"&", ",IF(BT15="TL","NSA=N-"&AF15&""&"("&AH15&")"&"("&AG15&")"&", ","")) | CJ15: =IF(AL15="-","SGP= tdk melaks"&", ",IF(BU15="TL",AL15&"="&""&"("&AM15&"), ","")) | CK15: =IF(BV15="TL","NP="&"("&FIXED((AN15),2)&"), ","") | CL15: =IF(AQ15="-","A= tdk melaks"&", ", IF(BW15="TL","A="&"("&AR15&")"&" (Lari Kurang "&(AQ15-2272)&"m), ","")) | CM15: =IF(AS15="-","B1= tdk melaks"&", ",IF(BX15="TL","B1="&"("&AT15&"), ","")) | CN15: =IF(AU15="-","B2= tdk melaks"&", ",IF(BY15="TL","B2="&"("&AV15&"), ","")) | CO15: =IF(AW15="-","B3= tdk melaks"&", ",IF(BZ15="TL","B3="&"("&AX15&"), ","")) | CP15: =IF(BA15="-","B4= tdk melaks"&", ",IF(CA15="TL","B4="&"("&AZ15&"), ","")) | CQ15: =IF(BB15="-","B4= tdk melaks"&", ",IF(CB15="TL","B5="&"("&BB15&"), ","")) | CR15: =IF(CC15="TL","R.B="&"("&FIXED((BC15),2)&"), ", "") | CS15: =IF(CD15="TL","R.AB="&"("&FIXED((BD15),2)&"), ", "") | CT15: =IF(CE15="TL","N.A="&"("&FIXED((BH15),2)&").", "") | CU15: =IF(BF15="-","Renang= tdk melaks"&", ", IF(RIGHT(BF15,1)="M","Renang="&""&BF15&", ",""))
A16: 4 | B16: 4 | C16: MN3644PL | D16: A | E16: 4 | F16: ANDRI A RAHMAN | G16: P | H16: 164.1 | I16: 58.1 | J16: =IF(OR(H16="",I16="",H16=0),"",K16-0.1) -> 48.5115 | K16: =IF(OR(H16="",I16="",H16=0),"",Q16-(Q16*15%)) -> 48.6115 | L16: =IF(OR(H16="",I16="",H16=0),"",M16-0.1) -> 49.94125 | M16: =IF(OR(H16="",I16="",H16=0),"",Q16-(Q16*12.5%)) -> 50.04125 | N16: =IF(OR(H16="",I16="",H16=0),"",O16-0.1) -> 52.80075 | O16: =IF(OR(H16="",I16="",H16=0),"",Q16-(Q16*7.5%)) -> 52.90075 | P16: =IF(OR(H16="",I16="",H16=0),"",Q16-0.1) -> 57.09 | Q16: =IF(OR(H16="",I16="",H16=0),"",90%*(H16-100)-0.5) -> 57.19 | R16: =IF(OR(H16="",I16="",H16=0),"",90%*(H16-100)) -> 57.69 | S16: =IF(OR(H16="",I16="",,H16=0),"",R16+0.1) -> 57.79 | T16: =IF(OR(H16="",I16="",H16=0),"",90%*(H16-100)+0.5) -> 58.19 | U16: =IF(OR(H16="",I16="",H16=0),"",T16+0.1) -> 58.29 | V16: =IF(OR(H16="",I16="",H16=0),"",T16+(T16*7.5%)) -> 62.55425 | W16: =IF(OR(H16="",I16="",H16=0),"",V16+0.1) -> 62.65425 | X16: =IF(OR(H16="",I16="",H16=0),"",T16+(T16*12.5%)) -> 65.46375 | Y16: =IF(OR(H16="",I16="",H16=0),"",X16+0.1) -> 65.56375 | Z16: =IF(OR(H16="",I16="",H16=0),"",T16+(T16*15%)) -> 66.9185 | AA16: =IF(OR(H16="",I16="",H16=0),"",Z16+0.1) -> 67.0185 | AB16: =IF(AC16="LLA","BB lebih"&" "&FIXED((I16-Z16),1) &" kg",IF(AC16="LLB","BB kurang"&" "&FIXED((I16-K16),1)&" kg","")) | AC16: =IF(OR(H16="",I16="", H16=0),"",IF(I16<K16,"LLB",IF(AND(I16>J16,I16<M16),"LB",IF(AND(I16>L16,I16<O16),"NB",IF(AND(I16>N16,I16<Q16),"HB",IF(AND(I16>P16,I16<S16),"IB",IF(AND(I16>R16,I16<U16),"IA",IF(AND(I16>T16,I16<W16),"HA",IF(AND(I16>V16,I16<Y16),"NA",IF(AND(I16>X16,I16<AA16),"LA",IF(I16>=AA16,"LLA",""))))))))))) -> IA | AD16: =IF(AC16="","", VLOOKUP(AC16,NILAI_TB_BB,2)) -> 100 | AE16: 0 | AF16: 7 | AG16: NM-= SDR, XBEEN-3, HAP-3 | AH16: =IF(OR(AE16="",AF16=""),"", IF(OR(AE16="-",AF16="-"),"-", IF(AE16=0,VLOOKUP(AF16,NSA,2), IF(AE16=1,VLOOKUP(AF16,NSA,3), IF(AE16=2,VLOOKUP(AF16,NSA,4), IF(AE16=3,VLOOKUP(AF16,NSA,5), IF(AE16=4,VLOOKUP(AF16,NSA,6), IF(AE16=5,VLOOKUP(AF16,NSA,7), IF(AE16=6,VLOOKUP(AF16,NSA,8), IF(AE16=7,VLOOKUP(AF16,NSA,9), IF(AE16=8,VLOOKUP(AF16,NSA,10), IF(AE16=9,VLOOKUP(AF16,NSA,11), IF(AE16=10,VLOOKUP(AF16,NSA,12),""))))))))))))) -> 30 | AI16: 0 | AJ16: 2 | AK16: NM-= Berjalan feminim, Mata mengantuk | AL16: =IF(AM16="","",IF(AM16>=81,"SGP-0",IF(AND(AM16>=61,AM16<=80),"SGP-1",IF(AND(AM16>=41,AM16<=60),"SGP-2",IF(AND(AM16>=21,AM16<=40),"SGP-3",IF(AND(AM16>=0,AM16<=20),"SGP-4","")))))) -> SGP-1 | AM16: =IF(OR(AI16="",AJ16=""),"",IF(AI16=0,VLOOKUP(AJ16,NILAI_SGP,2),IF(AI16=1,VLOOKUP(AJ16,NILAI_SGP,3),IF(AI16=2,VLOOKUP(AJ16,NILAI_SGP,4),IF(AI16=3,VLOOKUP(AJ16,NILAI_SGP,5),IF(AI16=4,VLOOKUP(AJ16,NILAI_SGP,6),IF(AI16=5,VLOOKUP(AJ16,NILAI_SGP,7),IF(AI16=6,VLOOKUP(AJ16,NILAI_SGP,8),IF(AI16=7,VLOOKUP(AJ16,NILAI_SGP,9),IF(AI16=8,VLOOKUP(AJ16,NILAI_SGP,10),IF(AI16=9,VLOOKUP(AJ16,NILAI_SGP,11),IF(AI16=10,VLOOKUP(AJ16,NILAI_SGP,12),"")))))))))))) -> 80 | AN16: =IF(OR(AD16="",AH16="",AM16=""),"",VALUE(FIXED(((AD16+AH16+AM16)/3),2))) -> 70 | AO16: 7 | AP16: 70 | AQ16: =IF(OR(AO16="",AP16="",AO16=0),"",IF(OR(AO16="-",AP16="-"),"-",(AO16*$AO$10)+AP16)) -> 2870 | AR16: =IF(OR(G16="",AQ16="",AQ16=0),"",IF(OR(AO16="-",AP16="-"),"-",IF(G16="P",VLOOKUP(AQ16,LARI12mnt_CALON_PRIA,2),IF(G16="W",VLOOKUP(AQ16,LARI12mnt_CALON_WANITA,2),"")))) -> 66 | AS16: 16 | AT16: =IF(OR(G16="",AS16=""),"", IF(AS16="-","-", IF(G16="P",VLOOKUP(AS16,PULLUP_CALON_PRIA,2),IF(G16="W",VLOOKUP(AS16,CHINNING_CALON_WANITA,2),"")))) -> 90 | AU16: 41 | AV16: =IF(OR(G16="",AU16=""),"", IF(AU16="-","-", IF(G16="P",VLOOKUP(AU16,SITUP_CALON_PRIA,2),IF(G16="W",VLOOKUP(AU16,SITUP_CALON_WANITA,2),"")))) -> 100 | AW16: 54 | AX16: =IF(OR(G16="",AW16=""),"",IF(AW16="-","-", IF(G16="P",VLOOKUP(AW16,LUNGES_CALON_PRIA,2),IF(G16="W",VLOOKUP(AW16,LUNGES_CALON_WANITA,2),"")))) -> 100 | AY16: 43 | AZ16: =IF(OR(G16="",AY16=""),"", IF(AY16="-","-", IF(G16="P",VLOOKUP(AY16,PUSHUP_CALON_PRIA,2),IF(G16="W",VLOOKUP(AY16,MODIFPUSHUP_CALON_WANITA,2),"")))) -> 100 | BA16: 5.08 | BB16: =IF(OR(G16="",BA16="",BA16=0),"",IF(BA16="-","-", IF(G16="P",VLOOKUP(BA16,SHUTTLERUN_CALON_PRIA,2),IF(G16="W",VLOOKUP(BA16,SHUTTLERUN_CALON_WANITA,2),"")))) -> 77 | BC16: =IF(OR(AT16="",AV16="",AX16="",AZ16="",BB16=""),"",IF(OR(AS16="-",AU16="-",AW16="-",AY16="-",BA16="-"),0,VALUE(FIXED(((AT16+AV16+AX16+AZ16+BB16)/5),2)))) -> 93.4 | BD16: =IF(OR(AR16="",BC16=""),"",IF(OR(AS16="-",AU16="-",AW16="-",AY16="-",BA16="-"),0, VALUE(FIXED(((AR16+BC16)/2),2)))) -> 79.7 | BE16: G | BF16: 1.07 | BG16: =IF(BF16="","",IF(RIGHT(BF16,1)="M","","""")) -> " | BH16: =IF(OR(G16="",AN16="",BD16=""),"", IF(OR(AE16="-",AF16="-",AI16="-",AJ16="-",AS16="-",AU16="-",AW16="-",AY16="-",BA16="-"),0, VALUE(FIXED(((AN16*30%)+(BD16*70%)),2)))) -> 76.79 | BI16: =IF(OR(G16="",BH16=""),"", IF(OR(AE16="-",AF16="-",AI16="-",AJ16="-",AS16="-",AU16="-",AW16="-",BA16="-"),0, IF(AND(BJ16="TL",OR(BH16<=40.99,BH16>=41)),VLOOKUP(BH16,NILAI_KONVERSI,2),IF(BJ16="L",BH16,"")))) -> 38 | BJ16: =IF(BH16="","", IF(OR(AQ16="-",AS16="-",AU16="-",AW16="-",AY16="-", BA16="-"),"-", IF(COUNTIF(BS16:CE16,"TL")>=1,"TL","L"))) -> TL | BK16: =IF(BJ16="","",CONCATENATE(CH16,CI16,CJ16,CK16,CL16,CM16,CN16,CO16,CP16,CQ16,CR16,CS16,CU16,CT16)) -> NSA=N-7(30)(NM-= SDR, XBEEN-3, HAP-3), | BS16: =IF(AD16="","",IF(AD16="-","-",IF(AD16<=20,"TL","L"))) -> L | BT16: =IF(AH16="","",IF(AH16="-","-",IF(AH16<=30,"TL","L"))) -> TL | BU16: =IF(AM16="","",IF(AM16="-","-",IF(AM16<=20,"TL","L"))) -> L | BV16: =IF(AN16="","",IF(AN16="-","-",IF(AN16<=20.99,"TL","L"))) -> L | BW16: =IF(AR16="","", IF(AR16="-","-", IF(AR16<=34,"TL","L"))) -> L | BX16: =IF(AT16="","",IF(AT16="-","-",IF(G16="P",IF(AT16<=24,"TL",IF(AT16>=25,"L")),IF(G16="W",IF(AT16<=30,"TL",IF(AT16>=31,"L")))))) -> L | BY16: =IF(AV16="","",IF(AV16="-","-",IF(G16="P",IF(AV16<=30,"TL",IF(AV16>=31,"L")),IF(G16="W",IF(AV16<=30,"TL",IF(AV16>=31,"L")))))) -> L | BZ16: =IF(AX16="","",IF(AX16="-","-",IF(G16="P",IF(AX16<=30,"TL",IF(AX16>=31,"L")),IF(G16="W",IF(AX16<=30,"TL",IF(AX16>=31,"L")))))) -> L | CA16: =IF(AZ16="","",IF(AZ16="-","-",IF(G16="P",IF(AZ16<=30,"TL",IF(AZ16>=31,"L")),IF(G16="W",IF(AZ16<=30,"TL",IF(AZ16>=31,"L")))))) -> L | CB16: =IF(BB16="","",IF(BB16="-","-",IF(G16="P",IF(BB16<=30,"TL",IF(BB16>=31,"L")),IF(G16="W",IF(BB16<=30,"TL",IF(BB16>=31,"L")))))) -> L | CC16: =IF(BC16="","", IF(G16="P",IF(BC16<=34.99,"TL", IF(BC16>=35,"L")), IF(G16="W", IF(BC16<=34.99,"TL", IF(BC16>=35,"L"))))) -> L | CD16: =IF(BD16="","", IF(G16="P",IF(BD16<=40.99,"TL", IF(BD16>=41,"L")), IF(G16="W", IF(BD16<=40.99,"TL", IF(BD16>=41,"L"))))) -> L | CE16: =IF(BH16="","",IF(BH16<=40.99,"TL", IF(BH16>=41,"L"))) -> L | CH16: =IF(BS16="TL","BB="&""&AC16&"("&AD16&"), ", "") | CI16: =IF(OR(AE16="-",AF16="-"),"NSA= tdk melaks"&", ",IF(BT16="TL","NSA=N-"&AF16&""&"("&AH16&")"&"("&AG16&")"&", ","")) -> NSA=N-7(30)(NM-= SDR, XBEEN-3, HAP-3), | CJ16: =IF(AL16="-","SGP= tdk melaks"&", ",IF(BU16="TL",AL16&"="&""&"("&AM16&"), ","")) | CK16: =IF(BV16="TL","NP="&"("&FIXED((AN16),2)&"), ","") | CL16: =IF(AQ16="-","A= tdk melaks"&", ", IF(BW16="TL","A="&"("&AR16&")"&" (Lari Kurang "&(AQ16-2272)&"m), ","")) | CM16: =IF(AS16="-","B1= tdk melaks"&", ",IF(BX16="TL","B1="&"("&AT16&"), ","")) | CN16: =IF(AU16="-","B2= tdk melaks"&", ",IF(BY16="TL","B2="&"("&AV16&"), ","")) | CO16: =IF(AW16="-","B3= tdk melaks"&", ",IF(BZ16="TL","B3="&"("&AX16&"), ","")) | CP16: =IF(BA16="-","B4= tdk melaks"&", ",IF(CA16="TL","B4="&"("&AZ16&"), ","")) | CQ16: =IF(BB16="-","B4= tdk melaks"&", ",IF(CB16="TL","B5="&"("&BB16&"), ","")) | CR16: =IF(CC16="TL","R.B="&"("&FIXED((BC16),2)&"), ", "") | CS16: =IF(CD16="TL","R.AB="&"("&FIXED((BD16),2)&"), ", "") | CT16: =IF(CE16="TL","N.A="&"("&FIXED((BH16),2)&").", "") | CU16: =IF(BF16="-","Renang= tdk melaks"&", ", IF(RIGHT(BF16,1)="M","Renang="&""&BF16&", ",""))
A17: 5 | B17: 5 | C17: MN3645PL | D17: A | E17: 5 | F17: ABD KADIR JAELANI B KANOLI | G17: P | H17: 170.5 | I17: 59.2 | J17: =IF(OR(H17="",I17="",H17=0),"",K17-0.1) -> 53.4075 | K17: =IF(OR(H17="",I17="",H17=0),"",Q17-(Q17*15%)) -> 53.5075 | L17: =IF(OR(H17="",I17="",H17=0),"",M17-0.1) -> 54.98125 | M17: =IF(OR(H17="",I17="",H17=0),"",Q17-(Q17*12.5%)) -> 55.08125 | N17: =IF(OR(H17="",I17="",H17=0),"",O17-0.1) -> 58.12875 | O17: =IF(OR(H17="",I17="",H17=0),"",Q17-(Q17*7.5%)) -> 58.22875 | P17: =IF(OR(H17="",I17="",H17=0),"",Q17-0.1) -> 62.85 | Q17: =IF(OR(H17="",I17="",H17=0),"",90%*(H17-100)-0.5) -> 62.95 | R17: =IF(OR(H17="",I17="",H17=0),"",90%*(H17-100)) -> 63.45 | S17: =IF(OR(H17="",I17="",,H17=0),"",R17+0.1) -> 63.55 | T17: =IF(OR(H17="",I17="",H17=0),"",90%*(H17-100)+0.5) -> 63.95 | U17: =IF(OR(H17="",I17="",H17=0),"",T17+0.1) -> 64.05 | V17: =IF(OR(H17="",I17="",H17=0),"",T17+(T17*7.5%)) -> 68.74625 | W17: =IF(OR(H17="",I17="",H17=0),"",V17+0.1) -> 68.84625 | X17: =IF(OR(H17="",I17="",H17=0),"",T17+(T17*12.5%)) -> 71.94375 | Y17: =IF(OR(H17="",I17="",H17=0),"",X17+0.1) -> 72.04375 | Z17: =IF(OR(H17="",I17="",H17=0),"",T17+(T17*15%)) -> 73.5425 | AA17: =IF(OR(H17="",I17="",H17=0),"",Z17+0.1) -> 73.6425 | AB17: =IF(AC17="LLA","BB lebih"&" "&FIXED((I17-Z17),1) &" kg",IF(AC17="LLB","BB kurang"&" "&FIXED((I17-K17),1)&" kg","")) | AC17: =IF(OR(H17="",I17="", H17=0),"",IF(I17<K17,"LLB",IF(AND(I17>J17,I17<M17),"LB",IF(AND(I17>L17,I17<O17),"NB",IF(AND(I17>N17,I17<Q17),"HB",IF(AND(I17>P17,I17<S17),"IB",IF(AND(I17>R17,I17<U17),"IA",IF(AND(I17>T17,I17<W17),"HA",IF(AND(I17>V17,I17<Y17),"NA",IF(AND(I17>X17,I17<AA17),"LA",IF(I17>=AA17,"LLA",""))))))))))) -> HB | AD17: =IF(AC17="","", VLOOKUP(AC17,NILAI_TB_BB,2)) -> 70 | AE17: 0 | AF17: 4 | AG17: NM-= SDL, HAS, KT, HAP | AH17: =IF(OR(AE17="",AF17=""),"", IF(OR(AE17="-",AF17="-"),"-", IF(AE17=0,VLOOKUP(AF17,NSA,2), IF(AE17=1,VLOOKUP(AF17,NSA,3), IF(AE17=2,VLOOKUP(AF17,NSA,4), IF(AE17=3,VLOOKUP(AF17,NSA,5), IF(AE17=4,VLOOKUP(AF17,NSA,6), IF(AE17=5,VLOOKUP(AF17,NSA,7), IF(AE17=6,VLOOKUP(AF17,NSA,8), IF(AE17=7,VLOOKUP(AF17,NSA,9), IF(AE17=8,VLOOKUP(AF17,NSA,10), IF(AE17=9,VLOOKUP(AF17,NSA,11), IF(AE17=10,VLOOKUP(AF17,NSA,12),""))))))))))))) -> 60 | AI17: 1 | AJ17: 1 | AK17: BN= Tahi lalat / NM-= Berjalan mengangkat tumit | AL17: =IF(AM17="","",IF(AM17>=81,"SGP-0",IF(AND(AM17>=61,AM17<=80),"SGP-1",IF(AND(AM17>=41,AM17<=60),"SGP-2",IF(AND(AM17>=21,AM17<=40),"SGP-3",IF(AND(AM17>=0,AM17<=20),"SGP-4","")))))) -> SGP-0 | AM17: =IF(OR(AI17="",AJ17=""),"",IF(AI17=0,VLOOKUP(AJ17,NILAI_SGP,2),IF(AI17=1,VLOOKUP(AJ17,NILAI_SGP,3),IF(AI17=2,VLOOKUP(AJ17,NILAI_SGP,4),IF(AI17=3,VLOOKUP(AJ17,NILAI_SGP,5),IF(AI17=4,VLOOKUP(AJ17,NILAI_SGP,6),IF(AI17=5,VLOOKUP(AJ17,NILAI_SGP,7),IF(AI17=6,VLOOKUP(AJ17,NILAI_SGP,8),IF(AI17=7,VLOOKUP(AJ17,NILAI_SGP,9),IF(AI17=8,VLOOKUP(AJ17,NILAI_SGP,10),IF(AI17=9,VLOOKUP(AJ17,NILAI_SGP,11),IF(AI17=10,VLOOKUP(AJ17,NILAI_SGP,12),"")))))))))))) -> 89 | AN17: =IF(OR(AD17="",AH17="",AM17=""),"",VALUE(FIXED(((AD17+AH17+AM17)/3),2))) -> 73 | AO17: 7 | AP17: 390 | AQ17: =IF(OR(AO17="",AP17="",AO17=0),"",IF(OR(AO17="-",AP17="-"),"-",(AO17*$AO$10)+AP17)) -> 3190 | AR17: =IF(OR(G17="",AQ17="",AQ17=0),"",IF(OR(AO17="-",AP17="-"),"-",IF(G17="P",VLOOKUP(AQ17,LARI12mnt_CALON_PRIA,2),IF(G17="W",VLOOKUP(AQ17,LARI12mnt_CALON_WANITA,2),"")))) -> 83 | AS17: 13 | AT17: =IF(OR(G17="",AS17=""),"", IF(AS17="-","-", IF(G17="P",VLOOKUP(AS17,PULLUP_CALON_PRIA,2),IF(G17="W",VLOOKUP(AS17,CHINNING_CALON_WANITA,2),"")))) -> 75 | AU17: 41 | AV17: =IF(OR(G17="",AU17=""),"", IF(AU17="-","-", IF(G17="P",VLOOKUP(AU17,SITUP_CALON_PRIA,2),IF(G17="W",VLOOKUP(AU17,SITUP_CALON_WANITA,2),"")))) -> 100 | AW17: 54 | AX17: =IF(OR(G17="",AW17=""),"",IF(AW17="-","-", IF(G17="P",VLOOKUP(AW17,LUNGES_CALON_PRIA,2),IF(G17="W",VLOOKUP(AW17,LUNGES_CALON_WANITA,2),"")))) -> 100 | AY17: 43 | AZ17: =IF(OR(G17="",AY17=""),"", IF(AY17="-","-", IF(G17="P",VLOOKUP(AY17,PUSHUP_CALON_PRIA,2),IF(G17="W",VLOOKUP(AY17,MODIFPUSHUP_CALON_WANITA,2),"")))) -> 100 | BA17: 5.08 | BB17: =IF(OR(G17="",BA17="",BA17=0),"",IF(BA17="-","-", IF(G17="P",VLOOKUP(BA17,SHUTTLERUN_CALON_PRIA,2),IF(G17="W",VLOOKUP(BA17,SHUTTLERUN_CALON_WANITA,2),"")))) -> 77 | BC17: =IF(OR(AT17="",AV17="",AX17="",AZ17="",BB17=""),"",IF(OR(AS17="-",AU17="-",AW17="-",AY17="-",BA17="-"),0,VALUE(FIXED(((AT17+AV17+AX17+AZ17+BB17)/5),2)))) -> 90.4 | BD17: =IF(OR(AR17="",BC17=""),"",IF(OR(AS17="-",AU17="-",AW17="-",AY17="-",BA17="-"),0, VALUE(FIXED(((AR17+BC17)/2),2)))) -> 86.7 | BE17: G | BF17: 0.56 | BG17: =IF(BF17="","",IF(RIGHT(BF17,1)="M","","""")) -> " | BH17: =IF(OR(G17="",AN17="",BD17=""),"", IF(OR(AE17="-",AF17="-",AI17="-",AJ17="-",AS17="-",AU17="-",AW17="-",AY17="-",BA17="-"),0, VALUE(FIXED(((AN17*30%)+(BD17*70%)),2)))) -> 82.59 | BI17: =IF(OR(G17="",BH17=""),"", IF(OR(AE17="-",AF17="-",AI17="-",AJ17="-",AS17="-",AU17="-",AW17="-",BA17="-"),0, IF(AND(BJ17="TL",OR(BH17<=40.99,BH17>=41)),VLOOKUP(BH17,NILAI_KONVERSI,2),IF(BJ17="L",BH17,"")))) -> 82.59 | BJ17: =IF(BH17="","", IF(OR(AQ17="-",AS17="-",AU17="-",AW17="-",AY17="-", BA17="-"),"-", IF(COUNTIF(BS17:CE17,"TL")>=1,"TL","L"))) -> L | BK17: =IF(BJ17="","",CONCATENATE(CH17,CI17,CJ17,CK17,CL17,CM17,CN17,CO17,CP17,CQ17,CR17,CS17,CU17,CT17)) | BS17: =IF(AD17="","",IF(AD17="-","-",IF(AD17<=20,"TL","L"))) -> L | BT17: =IF(AH17="","",IF(AH17="-","-",IF(AH17<=30,"TL","L"))) -> L | BU17: =IF(AM17="","",IF(AM17="-","-",IF(AM17<=20,"TL","L"))) -> L | BV17: =IF(AN17="","",IF(AN17="-","-",IF(AN17<=20.99,"TL","L"))) -> L | BW17: =IF(AR17="","", IF(AR17="-","-", IF(AR17<=34,"TL","L"))) -> L | BX17: =IF(AT17="","",IF(AT17="-","-",IF(G17="P",IF(AT17<=24,"TL",IF(AT17>=25,"L")),IF(G17="W",IF(AT17<=30,"TL",IF(AT17>=31,"L")))))) -> L | BY17: =IF(AV17="","",IF(AV17="-","-",IF(G17="P",IF(AV17<=30,"TL",IF(AV17>=31,"L")),IF(G17="W",IF(AV17<=30,"TL",IF(AV17>=31,"L")))))) -> L | BZ17: =IF(AX17="","",IF(AX17="-","-",IF(G17="P",IF(AX17<=30,"TL",IF(AX17>=31,"L")),IF(G17="W",IF(AX17<=30,"TL",IF(AX17>=31,"L")))))) -> L | CA17: =IF(AZ17="","",IF(AZ17="-","-",IF(G17="P",IF(AZ17<=30,"TL",IF(AZ17>=31,"L")),IF(G17="W",IF(AZ17<=30,"TL",IF(AZ17>=31,"L")))))) -> L | CB17: =IF(BB17="","",IF(BB17="-","-",IF(G17="P",IF(BB17<=30,"TL",IF(BB17>=31,"L")),IF(G17="W",IF(BB17<=30,"TL",IF(BB17>=31,"L")))))) -> L | CC17: =IF(BC17="","", IF(G17="P",IF(BC17<=34.99,"TL", IF(BC17>=35,"L")), IF(G17="W", IF(BC17<=34.99,"TL", IF(BC17>=35,"L"))))) -> L | CD17: =IF(BD17="","", IF(G17="P",IF(BD17<=40.99,"TL", IF(BD17>=41,"L")), IF(G17="W", IF(BD17<=40.99,"TL", IF(BD17>=41,"L"))))) -> L | CE17: =IF(BH17="","",IF(BH17<=40.99,"TL", IF(BH17>=41,"L"))) -> L | CH17: =IF(BS17="TL","BB="&""&AC17&"("&AD17&"), ", "") | CI17: =IF(OR(AE17="-",AF17="-"),"NSA= tdk melaks"&", ",IF(BT17="TL","NSA=N-"&AF17&""&"("&AH17&")"&"("&AG17&")"&", ","")) | CJ17: =IF(AL17="-","SGP= tdk melaks"&", ",IF(BU17="TL",AL17&"="&""&"("&AM17&"), ","")) | CK17: =IF(BV17="TL","NP="&"("&FIXED((AN17),2)&"), ","") | CL17: =IF(AQ17="-","A= tdk melaks"&", ", IF(BW17="TL","A="&"("&AR17&")"&" (Lari Kurang "&(AQ17-2272)&"m), ","")) | CM17: =IF(AS17="-","B1= tdk melaks"&", ",IF(BX17="TL","B1="&"("&AT17&"), ","")) | CN17: =IF(AU17="-","B2= tdk melaks"&", ",IF(BY17="TL","B2="&"("&AV17&"), ","")) | CO17: =IF(AW17="-","B3= tdk melaks"&", ",IF(BZ17="TL","B3="&"("&AX17&"), ","")) | CP17: =IF(BA17="-","B4= tdk melaks"&", ",IF(CA17="TL","B4="&"("&AZ17&"), ","")) | CQ17: =IF(BB17="-","B4= tdk melaks"&", ",IF(CB17="TL","B5="&"("&BB17&"), ","")) | CR17: =IF(CC17="TL","R.B="&"("&FIXED((BC17),2)&"), ", "") | CS17: =IF(CD17="TL","R.AB="&"("&FIXED((BD17),2)&"), ", "") | CT17: =IF(CE17="TL","N.A="&"("&FIXED((BH17),2)&").", "") | CU17: =IF(BF17="-","Renang= tdk melaks"&", ", IF(RIGHT(BF17,1)="M","Renang="&""&BF17&", ",""))
A18: 6 | B18: 6 | C18: MN3646PL | D18: A | E18: 11 | F18: REYNALD WENSESLAUS KALANGI | G18: P | H18: 170 | I18: 61.1 | J18: =IF(OR(H18="",I18="",H18=0),"",K18-0.1) -> 53.025 | K18: =IF(OR(H18="",I18="",H18=0),"",Q18-(Q18*15%)) -> 53.125 | L18: =IF(OR(H18="",I18="",H18=0),"",M18-0.1) -> 54.5875 | M18: =IF(OR(H18="",I18="",H18=0),"",Q18-(Q18*12.5%)) -> 54.6875 | N18: =IF(OR(H18="",I18="",H18=0),"",O18-0.1) -> 57.7125 | O18: =IF(OR(H18="",I18="",H18=0),"",Q18-(Q18*7.5%)) -> 57.8125 | P18: =IF(OR(H18="",I18="",H18=0),"",Q18-0.1) -> 62.4 | Q18: =IF(OR(H18="",I18="",H18=0),"",90%*(H18-100)-0.5) -> 62.5 | R18: =IF(OR(H18="",I18="",H18=0),"",90%*(H18-100)) -> 63 | S18: =IF(OR(H18="",I18="",,H18=0),"",R18+0.1) -> 63.1 | T18: =IF(OR(H18="",I18="",H18=0),"",90%*(H18-100)+0.5) -> 63.5 | U18: =IF(OR(H18="",I18="",H18=0),"",T18+0.1) -> 63.6 | V18: =IF(OR(H18="",I18="",H18=0),"",T18+(T18*7.5%)) -> 68.2625 | W18: =IF(OR(H18="",I18="",H18=0),"",V18+0.1) -> 68.3625 | X18: =IF(OR(H18="",I18="",H18=0),"",T18+(T18*12.5%)) -> 71.4375 | Y18: =IF(OR(H18="",I18="",H18=0),"",X18+0.1) -> 71.5375 | Z18: =IF(OR(H18="",I18="",H18=0),"",T18+(T18*15%)) -> 73.025 | AA18: =IF(OR(H18="",I18="",H18=0),"",Z18+0.1) -> 73.125 | AB18: =IF(AC18="LLA","BB lebih"&" "&FIXED((I18-Z18),1) &" kg",IF(AC18="LLB","BB kurang"&" "&FIXED((I18-K18),1)&" kg","")) | AC18: =IF(OR(H18="",I18="", H18=0),"",IF(I18<K18,"LLB",IF(AND(I18>J18,I18<M18),"LB",IF(AND(I18>L18,I18<O18),"NB",IF(AND(I18>N18,I18<Q18),"HB",IF(AND(I18>P18,I18<S18),"IB",IF(AND(I18>R18,I18<U18),"IA",IF(AND(I18>T18,I18<W18),"HA",IF(AND(I18>V18,I18<Y18),"NA",IF(AND(I18>X18,I18<AA18),"LA",IF(I18>=AA18,"LLA",""))))))))))) -> HB | AD18: =IF(AC18="","", VLOOKUP(AC18,NILAI_TB_BB,2)) -> 70 | AE18: 0 | AF18: 6 | AG18: NM-= SDR, LD-2, KP, XBEEN, HAP | AH18: =IF(OR(AE18="",AF18=""),"", IF(OR(AE18="-",AF18="-"),"-", IF(AE18=0,VLOOKUP(AF18,NSA,2), IF(AE18=1,VLOOKUP(AF18,NSA,3), IF(AE18=2,VLOOKUP(AF18,NSA,4), IF(AE18=3,VLOOKUP(AF18,NSA,5), IF(AE18=4,VLOOKUP(AF18,NSA,6), IF(AE18=5,VLOOKUP(AF18,NSA,7), IF(AE18=6,VLOOKUP(AF18,NSA,8), IF(AE18=7,VLOOKUP(AF18,NSA,9), IF(AE18=8,VLOOKUP(AF18,NSA,10), IF(AE18=9,VLOOKUP(AF18,NSA,11), IF(AE18=10,VLOOKUP(AF18,NSA,12),""))))))))))))) -> 40 | AI18: 0 | AJ18: 2 | AK18: NM-= Berjalan mengangkang, Muka bercak | AL18: =IF(AM18="","",IF(AM18>=81,"SGP-0",IF(AND(AM18>=61,AM18<=80),"SGP-1",IF(AND(AM18>=41,AM18<=60),"SGP-2",IF(AND(AM18>=21,AM18<=40),"SGP-3",IF(AND(AM18>=0,AM18<=20),"SGP-4","")))))) -> SGP-1 | AM18: =IF(OR(AI18="",AJ18=""),"",IF(AI18=0,VLOOKUP(AJ18,NILAI_SGP,2),IF(AI18=1,VLOOKUP(AJ18,NILAI_SGP,3),IF(AI18=2,VLOOKUP(AJ18,NILAI_SGP,4),IF(AI18=3,VLOOKUP(AJ18,NILAI_SGP,5),IF(AI18=4,VLOOKUP(AJ18,NILAI_SGP,6),IF(AI18=5,VLOOKUP(AJ18,NILAI_SGP,7),IF(AI18=6,VLOOKUP(AJ18,NILAI_SGP,8),IF(AI18=7,VLOOKUP(AJ18,NILAI_SGP,9),IF(AI18=8,VLOOKUP(AJ18,NILAI_SGP,10),IF(AI18=9,VLOOKUP(AJ18,NILAI_SGP,11),IF(AI18=10,VLOOKUP(AJ18,NILAI_SGP,12),"")))))))))))) -> 80 | AN18: =IF(OR(AD18="",AH18="",AM18=""),"",VALUE(FIXED(((AD18+AH18+AM18)/3),2))) -> 63.33 | AO18: 7 | AP18: 20 | AQ18: =IF(OR(AO18="",AP18="",AO18=0),"",IF(OR(AO18="-",AP18="-"),"-",(AO18*$AO$10)+AP18)) -> 2820 | AR18: =IF(OR(G18="",AQ18="",AQ18=0),"",IF(OR(AO18="-",AP18="-"),"-",IF(G18="P",VLOOKUP(AQ18,LARI12mnt_CALON_PRIA,2),IF(G18="W",VLOOKUP(AQ18,LARI12mnt_CALON_WANITA,2),"")))) -> 63 | AS18: 16 | AT18: =IF(OR(G18="",AS18=""),"", IF(AS18="-","-", IF(G18="P",VLOOKUP(AS18,PULLUP_CALON_PRIA,2),IF(G18="W",VLOOKUP(AS18,CHINNING_CALON_WANITA,2),"")))) -> 90 | AU18: 41 | AV18: =IF(OR(G18="",AU18=""),"", IF(AU18="-","-", IF(G18="P",VLOOKUP(AU18,SITUP_CALON_PRIA,2),IF(G18="W",VLOOKUP(AU18,SITUP_CALON_WANITA,2),"")))) -> 100 | AW18: 54 | AX18: =IF(OR(G18="",AW18=""),"",IF(AW18="-","-", IF(G18="P",VLOOKUP(AW18,LUNGES_CALON_PRIA,2),IF(G18="W",VLOOKUP(AW18,LUNGES_CALON_WANITA,2),"")))) -> 100 | AY18: 43 | AZ18: =IF(OR(G18="",AY18=""),"", IF(AY18="-","-", IF(G18="P",VLOOKUP(AY18,PUSHUP_CALON_PRIA,2),IF(G18="W",VLOOKUP(AY18,MODIFPUSHUP_CALON_WANITA,2),"")))) -> 100 | BA18: 5.05 | BB18: =IF(OR(G18="",BA18="",BA18=0),"",IF(BA18="-","-", IF(G18="P",VLOOKUP(BA18,SHUTTLERUN_CALON_PRIA,2),IF(G18="W",VLOOKUP(BA18,SHUTTLERUN_CALON_WANITA,2),"")))) -> 78 | BC18: =IF(OR(AT18="",AV18="",AX18="",AZ18="",BB18=""),"",IF(OR(AS18="-",AU18="-",AW18="-",AY18="-",BA18="-"),0,VALUE(FIXED(((AT18+AV18+AX18+AZ18+BB18)/5),2)))) -> 93.6 | BD18: =IF(OR(AR18="",BC18=""),"",IF(OR(AS18="-",AU18="-",AW18="-",AY18="-",BA18="-"),0, VALUE(FIXED(((AR18+BC18)/2),2)))) -> 78.3 | BE18: G | BF18: 1.11 | BG18: =IF(BF18="","",IF(RIGHT(BF18,1)="M","","""")) -> " | BH18: =IF(OR(G18="",AN18="",BD18=""),"", IF(OR(AE18="-",AF18="-",AI18="-",AJ18="-",AS18="-",AU18="-",AW18="-",AY18="-",BA18="-"),0, VALUE(FIXED(((AN18*30%)+(BD18*70%)),2)))) -> 73.81 | BI18: =IF(OR(G18="",BH18=""),"", IF(OR(AE18="-",AF18="-",AI18="-",AJ18="-",AS18="-",AU18="-",AW18="-",BA18="-"),0, IF(AND(BJ18="TL",OR(BH18<=40.99,BH18>=41)),VLOOKUP(BH18,NILAI_KONVERSI,2),IF(BJ18="L",BH18,"")))) -> 73.81 | BJ18: =IF(BH18="","", IF(OR(AQ18="-",AS18="-",AU18="-",AW18="-",AY18="-", BA18="-"),"-", IF(COUNTIF(BS18:CE18,"TL")>=1,"TL","L"))) -> L | BK18: =IF(BJ18="","",CONCATENATE(CH18,CI18,CJ18,CK18,CL18,CM18,CN18,CO18,CP18,CQ18,CR18,CS18,CU18,CT18)) | BS18: =IF(AD18="","",IF(AD18="-","-",IF(AD18<=20,"TL","L"))) -> L | BT18: =IF(AH18="","",IF(AH18="-","-",IF(AH18<=30,"TL","L"))) -> L | BU18: =IF(AM18="","",IF(AM18="-","-",IF(AM18<=20,"TL","L"))) -> L | BV18: =IF(AN18="","",IF(AN18="-","-",IF(AN18<=20.99,"TL","L"))) -> L | BW18: =IF(AR18="","", IF(AR18="-","-", IF(AR18<=34,"TL","L"))) -> L | BX18: =IF(AT18="","",IF(AT18="-","-",IF(G18="P",IF(AT18<=24,"TL",IF(AT18>=25,"L")),IF(G18="W",IF(AT18<=30,"TL",IF(AT18>=31,"L")))))) -> L | BY18: =IF(AV18="","",IF(AV18="-","-",IF(G18="P",IF(AV18<=30,"TL",IF(AV18>=31,"L")),IF(G18="W",IF(AV18<=30,"TL",IF(AV18>=31,"L")))))) -> L | BZ18: =IF(AX18="","",IF(AX18="-","-",IF(G18="P",IF(AX18<=30,"TL",IF(AX18>=31,"L")),IF(G18="W",IF(AX18<=30,"TL",IF(AX18>=31,"L")))))) -> L | CA18: =IF(AZ18="","",IF(AZ18="-","-",IF(G18="P",IF(AZ18<=30,"TL",IF(AZ18>=31,"L")),IF(G18="W",IF(AZ18<=30,"TL",IF(AZ18>=31,"L")))))) -> L | CB18: =IF(BB18="","",IF(BB18="-","-",IF(G18="P",IF(BB18<=30,"TL",IF(BB18>=31,"L")),IF(G18="W",IF(BB18<=30,"TL",IF(BB18>=31,"L")))))) -> L | CC18: =IF(BC18="","", IF(G18="P",IF(BC18<=34.99,"TL", IF(BC18>=35,"L")), IF(G18="W", IF(BC18<=34.99,"TL", IF(BC18>=35,"L"))))) -> L | CD18: =IF(BD18="","", IF(G18="P",IF(BD18<=40.99,"TL", IF(BD18>=41,"L")), IF(G18="W", IF(BD18<=40.99,"TL", IF(BD18>=41,"L"))))) -> L | CE18: =IF(BH18="","",IF(BH18<=40.99,"TL", IF(BH18>=41,"L"))) -> L | CH18: =IF(BS18="TL","BB="&""&AC18&"("&AD18&"), ", "") | CI18: =IF(OR(AE18="-",AF18="-"),"NSA= tdk melaks"&", ",IF(BT18="TL","NSA=N-"&AF18&""&"("&AH18&")"&"("&AG18&")"&", ","")) | CJ18: =IF(AL18="-","SGP= tdk melaks"&", ",IF(BU18="TL",AL18&"="&""&"("&AM18&"), ","")) | CK18: =IF(BV18="TL","NP="&"("&FIXED((AN18),2)&"), ","") | CL18: =IF(AQ18="-","A= tdk melaks"&", ", IF(BW18="TL","A="&"("&AR18&")"&" (Lari Kurang "&(AQ18-2272)&"m), ","")) | CM18: =IF(AS18="-","B1= tdk melaks"&", ",IF(BX18="TL","B1="&"("&AT18&"), ","")) | CN18: =IF(AU18="-","B2= tdk melaks"&", ",IF(BY18="TL","B2="&"("&AV18&"), ","")) | CO18: =IF(AW18="-","B3= tdk melaks"&", ",IF(BZ18="TL","B3="&"("&AX18&"), ","")) | CP18: =IF(BA18="-","B4= tdk melaks"&", ",IF(CA18="TL","B4="&"("&AZ18&"), ","")) | CQ18: =IF(BB18="-","B4= tdk melaks"&", ",IF(CB18="TL","B5="&"("&BB18&"), ","")) | CR18: =IF(CC18="TL","R.B="&"("&FIXED((BC18),2)&"), ", "") | CS18: =IF(CD18="TL","R.AB="&"("&FIXED((BD18),2)&"), ", "") | CT18: =IF(CE18="TL","N.A="&"("&FIXED((BH18),2)&").", "") | CU18: =IF(BF18="-","Renang= tdk melaks"&", ", IF(RIGHT(BF18,1)="M","Renang="&""&BF18&", ",""))
A19: 7 | B19: 7 | C19: MN3647PL | D19: A | E19: 12 | F19: NOPRI JAMALUDIN | G19: P | H19: 173.2 | I19: 61.5 | J19: =IF(OR(H19="",I19="",H19=0),"",K19-0.1) -> 55.473 | K19: =IF(OR(H19="",I19="",H19=0),"",Q19-(Q19*15%)) -> 55.573 | L19: =IF(OR(H19="",I19="",H19=0),"",M19-0.1) -> 57.1075 | M19: =IF(OR(H19="",I19="",H19=0),"",Q19-(Q19*12.5%)) -> 57.2075 | N19: =IF(OR(H19="",I19="",H19=0),"",O19-0.1) -> 60.3765 | O19: =IF(OR(H19="",I19="",H19=0),"",Q19-(Q19*7.5%)) -> 60.4765 | P19: =IF(OR(H19="",I19="",H19=0),"",Q19-0.1) -> 65.28 | Q19: =IF(OR(H19="",I19="",H19=0),"",90%*(H19-100)-0.5) -> 65.38 | R19: =IF(OR(H19="",I19="",H19=0),"",90%*(H19-100)) -> 65.88 | S19: =IF(OR(H19="",I19="",,H19=0),"",R19+0.1) -> 65.98 | T19: =IF(OR(H19="",I19="",H19=0),"",90%*(H19-100)+0.5) -> 66.38 | U19: =IF(OR(H19="",I19="",H19=0),"",T19+0.1) -> 66.48 | V19: =IF(OR(H19="",I19="",H19=0),"",T19+(T19*7.5%)) -> 71.3585 | W19: =IF(OR(H19="",I19="",H19=0),"",V19+0.1) -> 71.4585 | X19: =IF(OR(H19="",I19="",H19=0),"",T19+(T19*12.5%)) -> 74.6775 | Y19: =IF(OR(H19="",I19="",H19=0),"",X19+0.1) -> 74.7775 | Z19: =IF(OR(H19="",I19="",H19=0),"",T19+(T19*15%)) -> 76.337 | AA19: =IF(OR(H19="",I19="",H19=0),"",Z19+0.1) -> 76.437 | AB19: =IF(AC19="LLA","BB lebih"&" "&FIXED((I19-Z19),1) &" kg",IF(AC19="LLB","BB kurang"&" "&FIXED((I19-K19),1)&" kg","")) | AC19: =IF(OR(H19="",I19="", H19=0),"",IF(I19<K19,"LLB",IF(AND(I19>J19,I19<M19),"LB",IF(AND(I19>L19,I19<O19),"NB",IF(AND(I19>N19,I19<Q19),"HB",IF(AND(I19>P19,I19<S19),"IB",IF(AND(I19>R19,I19<U19),"IA",IF(AND(I19>T19,I19<W19),"HA",IF(AND(I19>V19,I19<Y19),"NA",IF(AND(I19>X19,I19<AA19),"LA",IF(I19>=AA19,"LLA",""))))))))))) -> HB | AD19: =IF(AC19="","", VLOOKUP(AC19,NILAI_TB_BB,2)) -> 70 | AE19: 0 | AF19: 8 | AG19: NM-= HA-2, HAS-2, LD, KP-2, HAP | AH19: =IF(OR(AE19="",AF19=""),"", IF(OR(AE19="-",AF19="-"),"-", IF(AE19=0,VLOOKUP(AF19,NSA,2), IF(AE19=1,VLOOKUP(AF19,NSA,3), IF(AE19=2,VLOOKUP(AF19,NSA,4), IF(AE19=3,VLOOKUP(AF19,NSA,5), IF(AE19=4,VLOOKUP(AF19,NSA,6), IF(AE19=5,VLOOKUP(AF19,NSA,7), IF(AE19=6,VLOOKUP(AF19,NSA,8), IF(AE19=7,VLOOKUP(AF19,NSA,9), IF(AE19=8,VLOOKUP(AF19,NSA,10), IF(AE19=9,VLOOKUP(AF19,NSA,11), IF(AE19=10,VLOOKUP(AF19,NSA,12),""))))))))))))) -> 20 | AI19: 0 | AJ19: 2 | AK19: NM-= Bibir tidak simetris, Keloid | AL19: =IF(AM19="","",IF(AM19>=81,"SGP-0",IF(AND(AM19>=61,AM19<=80),"SGP-1",IF(AND(AM19>=41,AM19<=60),"SGP-2",IF(AND(AM19>=21,AM19<=40),"SGP-3",IF(AND(AM19>=0,AM19<=20),"SGP-4","")))))) -> SGP-1 | AM19: =IF(OR(AI19="",AJ19=""),"",IF(AI19=0,VLOOKUP(AJ19,NILAI_SGP,2),IF(AI19=1,VLOOKUP(AJ19,NILAI_SGP,3),IF(AI19=2,VLOOKUP(AJ19,NILAI_SGP,4),IF(AI19=3,VLOOKUP(AJ19,NILAI_SGP,5),IF(AI19=4,VLOOKUP(AJ19,NILAI_SGP,6),IF(AI19=5,VLOOKUP(AJ19,NILAI_SGP,7),IF(AI19=6,VLOOKUP(AJ19,NILAI_SGP,8),IF(AI19=7,VLOOKUP(AJ19,NILAI_SGP,9),IF(AI19=8,VLOOKUP(AJ19,NILAI_SGP,10),IF(AI19=9,VLOOKUP(AJ19,NILAI_SGP,11),IF(AI19=10,VLOOKUP(AJ19,NILAI_SGP,12),"")))))))))))) -> 80 | AN19: =IF(OR(AD19="",AH19="",AM19=""),"",VALUE(FIXED(((AD19+AH19+AM19)/3),2))) -> 56.67 | AO19: 7 | AP19: 110 | AQ19: =IF(OR(AO19="",AP19="",AO19=0),"",IF(OR(AO19="-",AP19="-"),"-",(AO19*$AO$10)+AP19)) -> 2910 | AR19: =IF(OR(G19="",AQ19="",AQ19=0),"",IF(OR(AO19="-",AP19="-"),"-",IF(G19="P",VLOOKUP(AQ19,LARI12mnt_CALON_PRIA,2),IF(G19="W",VLOOKUP(AQ19,LARI12mnt_CALON_WANITA,2),"")))) -> 68 | AS19: 18 | AT19: =IF(OR(G19="",AS19=""),"", IF(AS19="-","-", IF(G19="P",VLOOKUP(AS19,PULLUP_CALON_PRIA,2),IF(G19="W",VLOOKUP(AS19,CHINNING_CALON_WANITA,2),"")))) -> 100 | AU19: 41 | AV19: =IF(OR(G19="",AU19=""),"", IF(AU19="-","-", IF(G19="P",VLOOKUP(AU19,SITUP_CALON_PRIA,2),IF(G19="W",VLOOKUP(AU19,SITUP_CALON_WANITA,2),"")))) -> 100 | AW19: 54 | AX19: =IF(OR(G19="",AW19=""),"",IF(AW19="-","-", IF(G19="P",VLOOKUP(AW19,LUNGES_CALON_PRIA,2),IF(G19="W",VLOOKUP(AW19,LUNGES_CALON_WANITA,2),"")))) -> 100 | AY19: 40 | AZ19: =IF(OR(G19="",AY19=""),"", IF(AY19="-","-", IF(G19="P",VLOOKUP(AY19,PUSHUP_CALON_PRIA,2),IF(G19="W",VLOOKUP(AY19,MODIFPUSHUP_CALON_WANITA,2),"")))) -> 93 | BA19: 5.06 | BB19: =IF(OR(G19="",BA19="",BA19=0),"",IF(BA19="-","-", IF(G19="P",VLOOKUP(BA19,SHUTTLERUN_CALON_PRIA,2),IF(G19="W",VLOOKUP(BA19,SHUTTLERUN_CALON_WANITA,2),"")))) -> 78 | BC19: =IF(OR(AT19="",AV19="",AX19="",AZ19="",BB19=""),"",IF(OR(AS19="-",AU19="-",AW19="-",AY19="-",BA19="-"),0,VALUE(FIXED(((AT19+AV19+AX19+AZ19+BB19)/5),2)))) -> 94.2 | BD19: =IF(OR(AR19="",BC19=""),"",IF(OR(AS19="-",AU19="-",AW19="-",AY19="-",BA19="-"),0, VALUE(FIXED(((AR19+BC19)/2),2)))) -> 81.1 | BE19: G | BF19: 1.07 | BG19: =IF(BF19="","",IF(RIGHT(BF19,1)="M","","""")) -> " | BH19: =IF(OR(G19="",AN19="",BD19=""),"", IF(OR(AE19="-",AF19="-",AI19="-",AJ19="-",AS19="-",AU19="-",AW19="-",AY19="-",BA19="-"),0, VALUE(FIXED(((AN19*30%)+(BD19*70%)),2)))) -> 73.77 | BI19: =IF(OR(G19="",BH19=""),"", IF(OR(AE19="-",AF19="-",AI19="-",AJ19="-",AS19="-",AU19="-",AW19="-",BA19="-"),0, IF(AND(BJ19="TL",OR(BH19<=40.99,BH19>=41)),VLOOKUP(BH19,NILAI_KONVERSI,2),IF(BJ19="L",BH19,"")))) -> 37.5 | BJ19: =IF(BH19="","", IF(OR(AQ19="-",AS19="-",AU19="-",AW19="-",AY19="-", BA19="-"),"-", IF(COUNTIF(BS19:CE19,"TL")>=1,"TL","L"))) -> TL | BK19: =IF(BJ19="","",CONCATENATE(CH19,CI19,CJ19,CK19,CL19,CM19,CN19,CO19,CP19,CQ19,CR19,CS19,CU19,CT19)) -> NSA=N-8(20)(NM-= HA-2, HAS-2, LD, KP-2, HAP), | BS19: =IF(AD19="","",IF(AD19="-","-",IF(AD19<=20,"TL","L"))) -> L | BT19: =IF(AH19="","",IF(AH19="-","-",IF(AH19<=30,"TL","L"))) -> TL | BU19: =IF(AM19="","",IF(AM19="-","-",IF(AM19<=20,"TL","L"))) -> L | BV19: =IF(AN19="","",IF(AN19="-","-",IF(AN19<=20.99,"TL","L"))) -> L | BW19: =IF(AR19="","", IF(AR19="-","-", IF(AR19<=34,"TL","L"))) -> L | BX19: =IF(AT19="","",IF(AT19="-","-",IF(G19="P",IF(AT19<=24,"TL",IF(AT19>=25,"L")),IF(G19="W",IF(AT19<=30,"TL",IF(AT19>=31,"L")))))) -> L | BY19: =IF(AV19="","",IF(AV19="-","-",IF(G19="P",IF(AV19<=30,"TL",IF(AV19>=31,"L")),IF(G19="W",IF(AV19<=30,"TL",IF(AV19>=31,"L")))))) -> L | BZ19: =IF(AX19="","",IF(AX19="-","-",IF(G19="P",IF(AX19<=30,"TL",IF(AX19>=31,"L")),IF(G19="W",IF(AX19<=30,"TL",IF(AX19>=31,"L")))))) -> L | CA19: =IF(AZ19="","",IF(AZ19="-","-",IF(G19="P",IF(AZ19<=30,"TL",IF(AZ19>=31,"L")),IF(G19="W",IF(AZ19<=30,"TL",IF(AZ19>=31,"L")))))) -> L | CB19: =IF(BB19="","",IF(BB19="-","-",IF(G19="P",IF(BB19<=30,"TL",IF(BB19>=31,"L")),IF(G19="W",IF(BB19<=30,"TL",IF(BB19>=31,"L")))))) -> L | CC19: =IF(BC19="","", IF(G19="P",IF(BC19<=34.99,"TL", IF(BC19>=35,"L")), IF(G19="W", IF(BC19<=34.99,"TL", IF(BC19>=35,"L"))))) -> L | CD19: =IF(BD19="","", IF(G19="P",IF(BD19<=40.99,"TL", IF(BD19>=41,"L")), IF(G19="W", IF(BD19<=40.99,"TL", IF(BD19>=41,"L"))))) -> L | CE19: =IF(BH19="","",IF(BH19<=40.99,"TL", IF(BH19>=41,"L"))) -> L | CH19: =IF(BS19="TL","BB="&""&AC19&"("&AD19&"), ", "") | CI19: =IF(OR(AE19="-",AF19="-"),"NSA= tdk melaks"&", ",IF(BT19="TL","NSA=N-"&AF19&""&"("&AH19&")"&"("&AG19&")"&", ","")) -> NSA=N-8(20)(NM-= HA-2, HAS-2, LD, KP-2, HAP), | CJ19: =IF(AL19="-","SGP= tdk melaks"&", ",IF(BU19="TL",AL19&"="&""&"("&AM19&"), ","")) | CK19: =IF(BV19="TL","NP="&"("&FIXED((AN19),2)&"), ","") | CL19: =IF(AQ19="-","A= tdk melaks"&", ", IF(BW19="TL","A="&"("&AR19&")"&" (Lari Kurang "&(AQ19-2272)&"m), ","")) | CM19: =IF(AS19="-","B1= tdk melaks"&", ",IF(BX19="TL","B1="&"("&AT19&"), ","")) | CN19: =IF(AU19="-","B2= tdk melaks"&", ",IF(BY19="TL","B2="&"("&AV19&"), ","")) | CO19: =IF(AW19="-","B3= tdk melaks"&", ",IF(BZ19="TL","B3="&"("&AX19&"), ","")) | CP19: =IF(BA19="-","B4= tdk melaks"&", ",IF(CA19="TL","B4="&"("&AZ19&"), ","")) | CQ19: =IF(BB19="-","B4= tdk melaks"&", ",IF(CB19="TL","B5="&"("&BB19&"), ","")) | CR19: =IF(CC19="TL","R.B="&"("&FIXED((BC19),2)&"), ", "") | CS19: =IF(CD19="TL","R.AB="&"("&FIXED((BD19),2)&"), ", "") | CT19: =IF(CE19="TL","N.A="&"("&FIXED((BH19),2)&").", "") | CU19: =IF(BF19="-","Renang= tdk melaks"&", ", IF(RIGHT(BF19,1)="M","Renang="&""&BF19&", ",""))
A20: 8 | B20: 8 | C20: MN3648PL | D20: A | E20: 13 | F20: ABD HAFIZ | G20: P | H20: 172.5 | I20: 69.3 | J20: =IF(OR(H20="",I20="",H20=0),"",K20-0.1) -> 54.9375 | K20: =IF(OR(H20="",I20="",H20=0),"",Q20-(Q20*15%)) -> 55.0375 | L20: =IF(OR(H20="",I20="",H20=0),"",M20-0.1) -> 56.55625 | M20: =IF(OR(H20="",I20="",H20=0),"",Q20-(Q20*12.5%)) -> 56.65625 | N20: =IF(OR(H20="",I20="",H20=0),"",O20-0.1) -> 59.79375 | O20: =IF(OR(H20="",I20="",H20=0),"",Q20-(Q20*7.5%)) -> 59.89375 | P20: =IF(OR(H20="",I20="",H20=0),"",Q20-0.1) -> 64.65 | Q20: =IF(OR(H20="",I20="",H20=0),"",90%*(H20-100)-0.5) -> 64.75 | R20: =IF(OR(H20="",I20="",H20=0),"",90%*(H20-100)) -> 65.25 | S20: =IF(OR(H20="",I20="",,H20=0),"",R20+0.1) -> 65.35 | T20: =IF(OR(H20="",I20="",H20=0),"",90%*(H20-100)+0.5) -> 65.75 | U20: =IF(OR(H20="",I20="",H20=0),"",T20+0.1) -> 65.85 | V20: =IF(OR(H20="",I20="",H20=0),"",T20+(T20*7.5%)) -> 70.68125 | W20: =IF(OR(H20="",I20="",H20=0),"",V20+0.1) -> 70.78125 | X20: =IF(OR(H20="",I20="",H20=0),"",T20+(T20*12.5%)) -> 73.96875 | Y20: =IF(OR(H20="",I20="",H20=0),"",X20+0.1) -> 74.06875 | Z20: =IF(OR(H20="",I20="",H20=0),"",T20+(T20*15%)) -> 75.6125 | AA20: =IF(OR(H20="",I20="",H20=0),"",Z20+0.1) -> 75.7125 | AB20: =IF(AC20="LLA","BB lebih"&" "&FIXED((I20-Z20),1) &" kg",IF(AC20="LLB","BB kurang"&" "&FIXED((I20-K20),1)&" kg","")) | AC20: =IF(OR(H20="",I20="", H20=0),"",IF(I20<K20,"LLB",IF(AND(I20>J20,I20<M20),"LB",IF(AND(I20>L20,I20<O20),"NB",IF(AND(I20>N20,I20<Q20),"HB",IF(AND(I20>P20,I20<S20),"IB",IF(AND(I20>R20,I20<U20),"IA",IF(AND(I20>T20,I20<W20),"HA",IF(AND(I20>V20,I20<Y20),"NA",IF(AND(I20>X20,I20<AA20),"LA",IF(I20>=AA20,"LLA",""))))))))))) -> HA | AD20: =IF(AC20="","", VLOOKUP(AC20,NILAI_TB_BB,2)) -> 80 | AE20: 0 | AF20: 4 | AG20: NM-= SDL, HAS-2, OBEEN | AH20: =IF(OR(AE20="",AF20=""),"", IF(OR(AE20="-",AF20="-"),"-", IF(AE20=0,VLOOKUP(AF20,NSA,2), IF(AE20=1,VLOOKUP(AF20,NSA,3), IF(AE20=2,VLOOKUP(AF20,NSA,4), IF(AE20=3,VLOOKUP(AF20,NSA,5), IF(AE20=4,VLOOKUP(AF20,NSA,6), IF(AE20=5,VLOOKUP(AF20,NSA,7), IF(AE20=6,VLOOKUP(AF20,NSA,8), IF(AE20=7,VLOOKUP(AF20,NSA,9), IF(AE20=8,VLOOKUP(AF20,NSA,10), IF(AE20=9,VLOOKUP(AF20,NSA,11), IF(AE20=10,VLOOKUP(AF20,NSA,12),""))))))))))))) -> 60 | AI20: 0 | AJ20: 2 | AK20: NM-= Berjalan mengangkang, Kulit bercak | AL20: =IF(AM20="","",IF(AM20>=81,"SGP-0",IF(AND(AM20>=61,AM20<=80),"SGP-1",IF(AND(AM20>=41,AM20<=60),"SGP-2",IF(AND(AM20>=21,AM20<=40),"SGP-3",IF(AND(AM20>=0,AM20<=20),"SGP-4","")))))) -> SGP-1 | AM20: =IF(OR(AI20="",AJ20=""),"",IF(AI20=0,VLOOKUP(AJ20,NILAI_SGP,2),IF(AI20=1,VLOOKUP(AJ20,NILAI_SGP,3),IF(AI20=2,VLOOKUP(AJ20,NILAI_SGP,4),IF(AI20=3,VLOOKUP(AJ20,NILAI_SGP,5),IF(AI20=4,VLOOKUP(AJ20,NILAI_SGP,6),IF(AI20=5,VLOOKUP(AJ20,NILAI_SGP,7),IF(AI20=6,VLOOKUP(AJ20,NILAI_SGP,8),IF(AI20=7,VLOOKUP(AJ20,NILAI_SGP,9),IF(AI20=8,VLOOKUP(AJ20,NILAI_SGP,10),IF(AI20=9,VLOOKUP(AJ20,NILAI_SGP,11),IF(AI20=10,VLOOKUP(AJ20,NILAI_SGP,12),"")))))))))))) -> 80 | AN20: =IF(OR(AD20="",AH20="",AM20=""),"",VALUE(FIXED(((AD20+AH20+AM20)/3),2))) -> 73.33 | AO20: 6 | AP20: 350 | AQ20: =IF(OR(AO20="",AP20="",AO20=0),"",IF(OR(AO20="-",AP20="-"),"-",(AO20*$AO$10)+AP20)) -> 2750 | AR20: =IF(OR(G20="",AQ20="",AQ20=0),"",IF(OR(AO20="-",AP20="-"),"-",IF(G20="P",VLOOKUP(AQ20,LARI12mnt_CALON_PRIA,2),IF(G20="W",VLOOKUP(AQ20,LARI12mnt_CALON_WANITA,2),"")))) -> 60 | AS20: 18 | AT20: =IF(OR(G20="",AS20=""),"", IF(AS20="-","-", IF(G20="P",VLOOKUP(AS20,PULLUP_CALON_PRIA,2),IF(G20="W",VLOOKUP(AS20,CHINNING_CALON_WANITA,2),"")))) -> 100 | AU20: 41 | AV20: =IF(OR(G20="",AU20=""),"", IF(AU20="-","-", IF(G20="P",VLOOKUP(AU20,SITUP_CALON_PRIA,2),IF(G20="W",VLOOKUP(AU20,SITUP_CALON_WANITA,2),"")))) -> 100 | AW20: 54 | AX20: =IF(OR(G20="",AW20=""),"",IF(AW20="-","-", IF(G20="P",VLOOKUP(AW20,LUNGES_CALON_PRIA,2),IF(G20="W",VLOOKUP(AW20,LUNGES_CALON_WANITA,2),"")))) -> 100 | AY20: 43 | AZ20: =IF(OR(G20="",AY20=""),"", IF(AY20="-","-", IF(G20="P",VLOOKUP(AY20,PUSHUP_CALON_PRIA,2),IF(G20="W",VLOOKUP(AY20,MODIFPUSHUP_CALON_WANITA,2),"")))) -> 100 | BA20: 5.09 | BB20: =IF(OR(G20="",BA20="",BA20=0),"",IF(BA20="-","-", IF(G20="P",VLOOKUP(BA20,SHUTTLERUN_CALON_PRIA,2),IF(G20="W",VLOOKUP(BA20,SHUTTLERUN_CALON_WANITA,2),"")))) -> 77 | BC20: =IF(OR(AT20="",AV20="",AX20="",AZ20="",BB20=""),"",IF(OR(AS20="-",AU20="-",AW20="-",AY20="-",BA20="-"),0,VALUE(FIXED(((AT20+AV20+AX20+AZ20+BB20)/5),2)))) -> 95.4 | BD20: =IF(OR(AR20="",BC20=""),"",IF(OR(AS20="-",AU20="-",AW20="-",AY20="-",BA20="-"),0, VALUE(FIXED(((AR20+BC20)/2),2)))) -> 77.7 | BE20: G | BF20: 0.48 | BG20: =IF(BF20="","",IF(RIGHT(BF20,1)="M","","""")) -> " | BH20: =IF(OR(G20="",AN20="",BD20=""),"", IF(OR(AE20="-",AF20="-",AI20="-",AJ20="-",AS20="-",AU20="-",AW20="-",AY20="-",BA20="-"),0, VALUE(FIXED(((AN20*30%)+(BD20*70%)),2)))) -> 76.39 | BI20: =IF(OR(G20="",BH20=""),"", IF(OR(AE20="-",AF20="-",AI20="-",AJ20="-",AS20="-",AU20="-",AW20="-",BA20="-"),0, IF(AND(BJ20="TL",OR(BH20<=40.99,BH20>=41)),VLOOKUP(BH20,NILAI_KONVERSI,2),IF(BJ20="L",BH20,"")))) -> 76.39 | BJ20: =IF(BH20="","", IF(OR(AQ20="-",AS20="-",AU20="-",AW20="-",AY20="-", BA20="-"),"-", IF(COUNTIF(BS20:CE20,"TL")>=1,"TL","L"))) -> L | BK20: =IF(BJ20="","",CONCATENATE(CH20,CI20,CJ20,CK20,CL20,CM20,CN20,CO20,CP20,CQ20,CR20,CS20,CU20,CT20)) | BS20: =IF(AD20="","",IF(AD20="-","-",IF(AD20<=20,"TL","L"))) -> L | BT20: =IF(AH20="","",IF(AH20="-","-",IF(AH20<=30,"TL","L"))) -> L | BU20: =IF(AM20="","",IF(AM20="-","-",IF(AM20<=20,"TL","L"))) -> L | BV20: =IF(AN20="","",IF(AN20="-","-",IF(AN20<=20.99,"TL","L"))) -> L | BW20: =IF(AR20="","", IF(AR20="-","-", IF(AR20<=34,"TL","L"))) -> L | BX20: =IF(AT20="","",IF(AT20="-","-",IF(G20="P",IF(AT20<=24,"TL",IF(AT20>=25,"L")),IF(G20="W",IF(AT20<=30,"TL",IF(AT20>=31,"L")))))) -> L | BY20: =IF(AV20="","",IF(AV20="-","-",IF(G20="P",IF(AV20<=30,"TL",IF(AV20>=31,"L")),IF(G20="W",IF(AV20<=30,"TL",IF(AV20>=31,"L")))))) -> L | BZ20: =IF(AX20="","",IF(AX20="-","-",IF(G20="P",IF(AX20<=30,"TL",IF(AX20>=31,"L")),IF(G20="W",IF(AX20<=30,"TL",IF(AX20>=31,"L")))))) -> L | CA20: =IF(AZ20="","",IF(AZ20="-","-",IF(G20="P",IF(AZ20<=30,"TL",IF(AZ20>=31,"L")),IF(G20="W",IF(AZ20<=30,"TL",IF(AZ20>=31,"L")))))) -> L | CB20: =IF(BB20="","",IF(BB20="-","-",IF(G20="P",IF(BB20<=30,"TL",IF(BB20>=31,"L")),IF(G20="W",IF(BB20<=30,"TL",IF(BB20>=31,"L")))))) -> L | CC20: =IF(BC20="","", IF(G20="P",IF(BC20<=34.99,"TL", IF(BC20>=35,"L")), IF(G20="W", IF(BC20<=34.99,"TL", IF(BC20>=35,"L"))))) -> L | CD20: =IF(BD20="","", IF(G20="P",IF(BD20<=40.99,"TL", IF(BD20>=41,"L")), IF(G20="W", IF(BD20<=40.99,"TL", IF(BD20>=41,"L"))))) -> L | CE20: =IF(BH20="","",IF(BH20<=40.99,"TL", IF(BH20>=41,"L"))) -> L | CH20: =IF(BS20="TL","BB="&""&AC20&"("&AD20&"), ", "") | CI20: =IF(OR(AE20="-",AF20="-"),"NSA= tdk melaks"&", ",IF(BT20="TL","NSA=N-"&AF20&""&"("&AH20&")"&"("&AG20&")"&", ","")) | CJ20: =IF(AL20="-","SGP= tdk melaks"&", ",IF(BU20="TL",AL20&"="&""&"("&AM20&"), ","")) | CK20: =IF(BV20="TL","NP="&"("&FIXED((AN20),2)&"), ","") | CL20: =IF(AQ20="-","A= tdk melaks"&", ", IF(BW20="TL","A="&"("&AR20&")"&" (Lari Kurang "&(AQ20-2272)&"m), ","")) | CM20: =IF(AS20="-","B1= tdk melaks"&", ",IF(BX20="TL","B1="&"("&AT20&"), ","")) | CN20: =IF(AU20="-","B2= tdk melaks"&", ",IF(BY20="TL","B2="&"("&AV20&"), ","")) | CO20: =IF(AW20="-","B3= tdk melaks"&", ",IF(BZ20="TL","B3="&"("&AX20&"), ","")) | CP20: =IF(BA20="-","B4= tdk melaks"&", ",IF(CA20="TL","B4="&"("&AZ20&"), ","")) | CQ20: =IF(BB20="-","B4= tdk melaks"&", ",IF(CB20="TL","B5="&"("&BB20&"), ","")) | CR20: =IF(CC20="TL","R.B="&"("&FIXED((BC20),2)&"), ", "") | CS20: =IF(CD20="TL","R.AB="&"("&FIXED((BD20),2)&"), ", "") | CT20: =IF(CE20="TL","N.A="&"("&FIXED((BH20),2)&").", "") | CU20: =IF(BF20="-","Renang= tdk melaks"&", ", IF(RIGHT(BF20,1)="M","Renang="&""&BF20&", ",""))
A21: 9 | B21: 9 | C21: MN3649PL | D21: A | E21: 1 | F21: TIO INDRA M | G21: P | H21: 174.4 | I21: 73.5 | J21: =IF(OR(H21="",I21="",H21=0),"",K21-0.1) -> 56.391 | K21: =IF(OR(H21="",I21="",H21=0),"",Q21-(Q21*15%)) -> 56.491 | L21: =IF(OR(H21="",I21="",H21=0),"",M21-0.1) -> 58.0525 | M21: =IF(OR(H21="",I21="",H21=0),"",Q21-(Q21*12.5%)) -> 58.1525 | N21: =IF(OR(H21="",I21="",H21=0),"",O21-0.1) -> 61.3755 | O21: =IF(OR(H21="",I21="",H21=0),"",Q21-(Q21*7.5%)) -> 61.4755 | P21: =IF(OR(H21="",I21="",H21=0),"",Q21-0.1) -> 66.36 | Q21: =IF(OR(H21="",I21="",H21=0),"",90%*(H21-100)-0.5) -> 66.46 | R21: =IF(OR(H21="",I21="",H21=0),"",90%*(H21-100)) -> 66.96 | S21: =IF(OR(H21="",I21="",,H21=0),"",R21+0.1) -> 67.06 | T21: =IF(OR(H21="",I21="",H21=0),"",90%*(H21-100)+0.5) -> 67.46 | U21: =IF(OR(H21="",I21="",H21=0),"",T21+0.1) -> 67.56 | V21: =IF(OR(H21="",I21="",H21=0),"",T21+(T21*7.5%)) -> 72.5195 | W21: =IF(OR(H21="",I21="",H21=0),"",V21+0.1) -> 72.6195 | X21: =IF(OR(H21="",I21="",H21=0),"",T21+(T21*12.5%)) -> 75.8925 | Y21: =IF(OR(H21="",I21="",H21=0),"",X21+0.1) -> 75.9925 | Z21: =IF(OR(H21="",I21="",H21=0),"",T21+(T21*15%)) -> 77.579 | AA21: =IF(OR(H21="",I21="",H21=0),"",Z21+0.1) -> 77.679 | AB21: =IF(AC21="LLA","BB lebih"&" "&FIXED((I21-Z21),1) &" kg",IF(AC21="LLB","BB kurang"&" "&FIXED((I21-K21),1)&" kg","")) | AC21: =IF(OR(H21="",I21="", H21=0),"",IF(I21<K21,"LLB",IF(AND(I21>J21,I21<M21),"LB",IF(AND(I21>L21,I21<O21),"NB",IF(AND(I21>N21,I21<Q21),"HB",IF(AND(I21>P21,I21<S21),"IB",IF(AND(I21>R21,I21<U21),"IA",IF(AND(I21>T21,I21<W21),"HA",IF(AND(I21>V21,I21<Y21),"NA",IF(AND(I21>X21,I21<AA21),"LA",IF(I21>=AA21,"LLA",""))))))))))) -> NA | AD21: =IF(AC21="","", VLOOKUP(AC21,NILAI_TB_BB,2)) -> 60 | AE21: 0 | AF21: 4 | AG21: NM-= HA, KCR, HAS, KT | AH21: =IF(OR(AE21="",AF21=""),"", IF(OR(AE21="-",AF21="-"),"-", IF(AE21=0,VLOOKUP(AF21,NSA,2), IF(AE21=1,VLOOKUP(AF21,NSA,3), IF(AE21=2,VLOOKUP(AF21,NSA,4), IF(AE21=3,VLOOKUP(AF21,NSA,5), IF(AE21=4,VLOOKUP(AF21,NSA,6), IF(AE21=5,VLOOKUP(AF21,NSA,7), IF(AE21=6,VLOOKUP(AF21,NSA,8), IF(AE21=7,VLOOKUP(AF21,NSA,9), IF(AE21=8,VLOOKUP(AF21,NSA,10), IF(AE21=9,VLOOKUP(AF21,NSA,11), IF(AE21=10,VLOOKUP(AF21,NSA,12),""))))))))))))) -> 60 | AI21: 1 | AJ21: 2 | AK21: BN= Berjalan mengangkang / NM-= Teling kelelawar, Mulut cakil | AL21: =IF(AM21="","",IF(AM21>=81,"SGP-0",IF(AND(AM21>=61,AM21<=80),"SGP-1",IF(AND(AM21>=41,AM21<=60),"SGP-2",IF(AND(AM21>=21,AM21<=40),"SGP-3",IF(AND(AM21>=0,AM21<=20),"SGP-4","")))))) -> SGP-1 | AM21: =IF(OR(AI21="",AJ21=""),"",IF(AI21=0,VLOOKUP(AJ21,NILAI_SGP,2),IF(AI21=1,VLOOKUP(AJ21,NILAI_SGP,3),IF(AI21=2,VLOOKUP(AJ21,NILAI_SGP,4),IF(AI21=3,VLOOKUP(AJ21,NILAI_SGP,5),IF(AI21=4,VLOOKUP(AJ21,NILAI_SGP,6),IF(AI21=5,VLOOKUP(AJ21,NILAI_SGP,7),IF(AI21=6,VLOOKUP(AJ21,NILAI_SGP,8),IF(AI21=7,VLOOKUP(AJ21,NILAI_SGP,9),IF(AI21=8,VLOOKUP(AJ21,NILAI_SGP,10),IF(AI21=9,VLOOKUP(AJ21,NILAI_SGP,11),IF(AI21=10,VLOOKUP(AJ21,NILAI_SGP,12),"")))))))))))) -> 79 | AN21: =IF(OR(AD21="",AH21="",AM21=""),"",VALUE(FIXED(((AD21+AH21+AM21)/3),2))) -> 66.33 | AO21: 6 | AP21: 330 | AQ21: =IF(OR(AO21="",AP21="",AO21=0),"",IF(OR(AO21="-",AP21="-"),"-",(AO21*$AO$10)+AP21)) -> 2730 | AR21: =IF(OR(G21="",AQ21="",AQ21=0),"",IF(OR(AO21="-",AP21="-"),"-",IF(G21="P",VLOOKUP(AQ21,LARI12mnt_CALON_PRIA,2),IF(G21="W",VLOOKUP(AQ21,LARI12mnt_CALON_WANITA,2),"")))) -> 59 | AS21: 18 | AT21: =IF(OR(G21="",AS21=""),"", IF(AS21="-","-", IF(G21="P",VLOOKUP(AS21,PULLUP_CALON_PRIA,2),IF(G21="W",VLOOKUP(AS21,CHINNING_CALON_WANITA,2),"")))) -> 100 | AU21: 41 | AV21: =IF(OR(G21="",AU21=""),"", IF(AU21="-","-", IF(G21="P",VLOOKUP(AU21,SITUP_CALON_PRIA,2),IF(G21="W",VLOOKUP(AU21,SITUP_CALON_WANITA,2),"")))) -> 100 | AW21: 52 | AX21: =IF(OR(G21="",AW21=""),"",IF(AW21="-","-", IF(G21="P",VLOOKUP(AW21,LUNGES_CALON_PRIA,2),IF(G21="W",VLOOKUP(AW21,LUNGES_CALON_WANITA,2),"")))) -> 90 | AY21: 43 | AZ21: =IF(OR(G21="",AY21=""),"", IF(AY21="-","-", IF(G21="P",VLOOKUP(AY21,PUSHUP_CALON_PRIA,2),IF(G21="W",VLOOKUP(AY21,MODIFPUSHUP_CALON_WANITA,2),"")))) -> 100 | BA21: 5.7 | BB21: =IF(OR(G21="",BA21="",BA21=0),"",IF(BA21="-","-", IF(G21="P",VLOOKUP(BA21,SHUTTLERUN_CALON_PRIA,2),IF(G21="W",VLOOKUP(BA21,SHUTTLERUN_CALON_WANITA,2),"")))) -> 60 | BC21: =IF(OR(AT21="",AV21="",AX21="",AZ21="",BB21=""),"",IF(OR(AS21="-",AU21="-",AW21="-",AY21="-",BA21="-"),0,VALUE(FIXED(((AT21+AV21+AX21+AZ21+BB21)/5),2)))) -> 90 | BD21: =IF(OR(AR21="",BC21=""),"",IF(OR(AS21="-",AU21="-",AW21="-",AY21="-",BA21="-"),0, VALUE(FIXED(((AR21+BC21)/2),2)))) -> 74.5 | BE21: G | BF21: 0.5 | BG21: =IF(BF21="","",IF(RIGHT(BF21,1)="M","","""")) -> " | BH21: =IF(OR(G21="",AN21="",BD21=""),"", IF(OR(AE21="-",AF21="-",AI21="-",AJ21="-",AS21="-",AU21="-",AW21="-",AY21="-",BA21="-"),0, VALUE(FIXED(((AN21*30%)+(BD21*70%)),2)))) -> 72.05 | BI21: =IF(OR(G21="",BH21=""),"", IF(OR(AE21="-",AF21="-",AI21="-",AJ21="-",AS21="-",AU21="-",AW21="-",BA21="-"),0, IF(AND(BJ21="TL",OR(BH21<=40.99,BH21>=41)),VLOOKUP(BH21,NILAI_KONVERSI,2),IF(BJ21="L",BH21,"")))) -> 72.05 | BJ21: =IF(BH21="","", IF(OR(AQ21="-",AS21="-",AU21="-",AW21="-",AY21="-", BA21="-"),"-", IF(COUNTIF(BS21:CE21,"TL")>=1,"TL","L"))) -> L | BK21: =IF(BJ21="","",CONCATENATE(CH21,CI21,CJ21,CK21,CL21,CM21,CN21,CO21,CP21,CQ21,CR21,CS21,CU21,CT21)) | BS21: =IF(AD21="","",IF(AD21="-","-",IF(AD21<=20,"TL","L"))) -> L | BT21: =IF(AH21="","",IF(AH21="-","-",IF(AH21<=30,"TL","L"))) -> L | BU21: =IF(AM21="","",IF(AM21="-","-",IF(AM21<=20,"TL","L"))) -> L | BV21: =IF(AN21="","",IF(AN21="-","-",IF(AN21<=20.99,"TL","L"))) -> L | BW21: =IF(AR21="","", IF(AR21="-","-", IF(AR21<=34,"TL","L"))) -> L | BX21: =IF(AT21="","",IF(AT21="-","-",IF(G21="P",IF(AT21<=24,"TL",IF(AT21>=25,"L")),IF(G21="W",IF(AT21<=30,"TL",IF(AT21>=31,"L")))))) -> L | BY21: =IF(AV21="","",IF(AV21="-","-",IF(G21="P",IF(AV21<=30,"TL",IF(AV21>=31,"L")),IF(G21="W",IF(AV21<=30,"TL",IF(AV21>=31,"L")))))) -> L | BZ21: =IF(AX21="","",IF(AX21="-","-",IF(G21="P",IF(AX21<=30,"TL",IF(AX21>=31,"L")),IF(G21="W",IF(AX21<=30,"TL",IF(AX21>=31,"L")))))) -> L | CA21: =IF(AZ21="","",IF(AZ21="-","-",IF(G21="P",IF(AZ21<=30,"TL",IF(AZ21>=31,"L")),IF(G21="W",IF(AZ21<=30,"TL",IF(AZ21>=31,"L")))))) -> L | CB21: =IF(BB21="","",IF(BB21="-","-",IF(G21="P",IF(BB21<=30,"TL",IF(BB21>=31,"L")),IF(G21="W",IF(BB21<=30,"TL",IF(BB21>=31,"L")))))) -> L | CC21: =IF(BC21="","", IF(G21="P",IF(BC21<=34.99,"TL", IF(BC21>=35,"L")), IF(G21="W", IF(BC21<=34.99,"TL", IF(BC21>=35,"L"))))) -> L | CD21: =IF(BD21="","", IF(G21="P",IF(BD21<=40.99,"TL", IF(BD21>=41,"L")), IF(G21="W", IF(BD21<=40.99,"TL", IF(BD21>=41,"L"))))) -> L | CE21: =IF(BH21="","",IF(BH21<=40.99,"TL", IF(BH21>=41,"L"))) -> L | CH21: =IF(BS21="TL","BB="&""&AC21&"("&AD21&"), ", "") | CI21: =IF(OR(AE21="-",AF21="-"),"NSA= tdk melaks"&", ",IF(BT21="TL","NSA=N-"&AF21&""&"("&AH21&")"&"("&AG21&")"&", ","")) | CJ21: =IF(AL21="-","SGP= tdk melaks"&", ",IF(BU21="TL",AL21&"="&""&"("&AM21&"), ","")) | CK21: =IF(BV21="TL","NP="&"("&FIXED((AN21),2)&"), ","") | CL21: =IF(AQ21="-","A= tdk melaks"&", ", IF(BW21="TL","A="&"("&AR21&")"&" (Lari Kurang "&(AQ21-2272)&"m), ","")) | CM21: =IF(AS21="-","B1= tdk melaks"&", ",IF(BX21="TL","B1="&"("&AT21&"), ","")) | CN21: =IF(AU21="-","B2= tdk melaks"&", ",IF(BY21="TL","B2="&"("&AV21&"), ","")) | CO21: =IF(AW21="-","B3= tdk melaks"&", ",IF(BZ21="TL","B3="&"("&AX21&"), ","")) | CP21: =IF(BA21="-","B4= tdk melaks"&", ",IF(CA21="TL","B4="&"("&AZ21&"), ","")) | CQ21: =IF(BB21="-","B4= tdk melaks"&", ",IF(CB21="TL","B5="&"("&BB21&"), ","")) | CR21: =IF(CC21="TL","R.B="&"("&FIXED((BC21),2)&"), ", "") | CS21: =IF(CD21="TL","R.AB="&"("&FIXED((BD21),2)&"), ", "") | CT21: =IF(CE21="TL","N.A="&"("&FIXED((BH21),2)&").", "") | CU21: =IF(BF21="-","Renang= tdk melaks"&", ", IF(RIGHT(BF21,1)="M","Renang="&""&BF21&", ",""))
A22: 10 | B22: 10 | C22: MN3650PL | D22: A | E22: 14 | F22: MOH YUNUS HAMID | G22: P | H22: 163.2 | I22: 51.4 | J22: =IF(OR(H22="",I22="",H22=0),"",K22-0.1) -> 47.823 | K22: =IF(OR(H22="",I22="",H22=0),"",Q22-(Q22*15%)) -> 47.923 | L22: =IF(OR(H22="",I22="",H22=0),"",M22-0.1) -> 49.2325 | M22: =IF(OR(H22="",I22="",H22=0),"",Q22-(Q22*12.5%)) -> 49.3325 | N22: =IF(OR(H22="",I22="",H22=0),"",O22-0.1) -> 52.0515 | O22: =IF(OR(H22="",I22="",H22=0),"",Q22-(Q22*7.5%)) -> 52.1515 | P22: =IF(OR(H22="",I22="",H22=0),"",Q22-0.1) -> 56.28 | Q22: =IF(OR(H22="",I22="",H22=0),"",90%*(H22-100)-0.5) -> 56.38 | R22: =IF(OR(H22="",I22="",H22=0),"",90%*(H22-100)) -> 56.88 | S22: =IF(OR(H22="",I22="",,H22=0),"",R22+0.1) -> 56.98 | T22: =IF(OR(H22="",I22="",H22=0),"",90%*(H22-100)+0.5) -> 57.38 | U22: =IF(OR(H22="",I22="",H22=0),"",T22+0.1) -> 57.48 | V22: =IF(OR(H22="",I22="",H22=0),"",T22+(T22*7.5%)) -> 61.6835 | W22: =IF(OR(H22="",I22="",H22=0),"",V22+0.1) -> 61.7835 | X22: =IF(OR(H22="",I22="",H22=0),"",T22+(T22*12.5%)) -> 64.5525 | Y22: =IF(OR(H22="",I22="",H22=0),"",X22+0.1) -> 64.6525 | Z22: =IF(OR(H22="",I22="",H22=0),"",T22+(T22*15%)) -> 65.987 | AA22: =IF(OR(H22="",I22="",H22=0),"",Z22+0.1) -> 66.087 | AB22: =IF(AC22="LLA","BB lebih"&" "&FIXED((I22-Z22),1) &" kg",IF(AC22="LLB","BB kurang"&" "&FIXED((I22-K22),1)&" kg","")) | AC22: =IF(OR(H22="",I22="", H22=0),"",IF(I22<K22,"LLB",IF(AND(I22>J22,I22<M22),"LB",IF(AND(I22>L22,I22<O22),"NB",IF(AND(I22>N22,I22<Q22),"HB",IF(AND(I22>P22,I22<S22),"IB",IF(AND(I22>R22,I22<U22),"IA",IF(AND(I22>T22,I22<W22),"HA",IF(AND(I22>V22,I22<Y22),"NA",IF(AND(I22>X22,I22<AA22),"LA",IF(I22>=AA22,"LLA",""))))))))))) -> NB | AD22: =IF(AC22="","", VLOOKUP(AC22,NILAI_TB_BB,2)) -> 50 | AE22: 0 | AF22: 3 | AG22: NM-= HA, SDL, XBEEN | AH22: =IF(OR(AE22="",AF22=""),"", IF(OR(AE22="-",AF22="-"),"-", IF(AE22=0,VLOOKUP(AF22,NSA,2), IF(AE22=1,VLOOKUP(AF22,NSA,3), IF(AE22=2,VLOOKUP(AF22,NSA,4), IF(AE22=3,VLOOKUP(AF22,NSA,5), IF(AE22=4,VLOOKUP(AF22,NSA,6), IF(AE22=5,VLOOKUP(AF22,NSA,7), IF(AE22=6,VLOOKUP(AF22,NSA,8), IF(AE22=7,VLOOKUP(AF22,NSA,9), IF(AE22=8,VLOOKUP(AF22,NSA,10), IF(AE22=9,VLOOKUP(AF22,NSA,11), IF(AE22=10,VLOOKUP(AF22,NSA,12),""))))))))))))) -> 70 | AI22: 0 | AJ22: 2 | AK22: NM-= Berjalan mengangkang, Gigi tonggos | AL22: =IF(AM22="","",IF(AM22>=81,"SGP-0",IF(AND(AM22>=61,AM22<=80),"SGP-1",IF(AND(AM22>=41,AM22<=60),"SGP-2",IF(AND(AM22>=21,AM22<=40),"SGP-3",IF(AND(AM22>=0,AM22<=20),"SGP-4","")))))) -> SGP-1 | AM22: =IF(OR(AI22="",AJ22=""),"",IF(AI22=0,VLOOKUP(AJ22,NILAI_SGP,2),IF(AI22=1,VLOOKUP(AJ22,NILAI_SGP,3),IF(AI22=2,VLOOKUP(AJ22,NILAI_SGP,4),IF(AI22=3,VLOOKUP(AJ22,NILAI_SGP,5),IF(AI22=4,VLOOKUP(AJ22,NILAI_SGP,6),IF(AI22=5,VLOOKUP(AJ22,NILAI_SGP,7),IF(AI22=6,VLOOKUP(AJ22,NILAI_SGP,8),IF(AI22=7,VLOOKUP(AJ22,NILAI_SGP,9),IF(AI22=8,VLOOKUP(AJ22,NILAI_SGP,10),IF(AI22=9,VLOOKUP(AJ22,NILAI_SGP,11),IF(AI22=10,VLOOKUP(AJ22,NILAI_SGP,12),"")))))))))))) -> 80 | AN22: =IF(OR(AD22="",AH22="",AM22=""),"",VALUE(FIXED(((AD22+AH22+AM22)/3),2))) -> 66.67 | AO22: 6 | AP22: 130 | AQ22: =IF(OR(AO22="",AP22="",AO22=0),"",IF(OR(AO22="-",AP22="-"),"-",(AO22*$AO$10)+AP22)) -> 2530 | AR22: =IF(OR(G22="",AQ22="",AQ22=0),"",IF(OR(AO22="-",AP22="-"),"-",IF(G22="P",VLOOKUP(AQ22,LARI12mnt_CALON_PRIA,2),IF(G22="W",VLOOKUP(AQ22,LARI12mnt_CALON_WANITA,2),"")))) -> 48 | AS22: 18 | AT22: =IF(OR(G22="",AS22=""),"", IF(AS22="-","-", IF(G22="P",VLOOKUP(AS22,PULLUP_CALON_PRIA,2),IF(G22="W",VLOOKUP(AS22,CHINNING_CALON_WANITA,2),"")))) -> 100 | AU22: 40 | AV22: =IF(OR(G22="",AU22=""),"", IF(AU22="-","-", IF(G22="P",VLOOKUP(AU22,SITUP_CALON_PRIA,2),IF(G22="W",VLOOKUP(AU22,SITUP_CALON_WANITA,2),"")))) -> 95 | AW22: 51 | AX22: =IF(OR(G22="",AW22=""),"",IF(AW22="-","-", IF(G22="P",VLOOKUP(AW22,LUNGES_CALON_PRIA,2),IF(G22="W",VLOOKUP(AW22,LUNGES_CALON_WANITA,2),"")))) -> 85 | AY22: 35 | AZ22: =IF(OR(G22="",AY22=""),"", IF(AY22="-","-", IF(G22="P",VLOOKUP(AY22,PUSHUP_CALON_PRIA,2),IF(G22="W",VLOOKUP(AY22,MODIFPUSHUP_CALON_WANITA,2),"")))) -> 82 | BA22: 6 | BB22: =IF(OR(G22="",BA22="",BA22=0),"",IF(BA22="-","-", IF(G22="P",VLOOKUP(BA22,SHUTTLERUN_CALON_PRIA,2),IF(G22="W",VLOOKUP(BA22,SHUTTLERUN_CALON_WANITA,2),"")))) -> 52 | BC22: =IF(OR(AT22="",AV22="",AX22="",AZ22="",BB22=""),"",IF(OR(AS22="-",AU22="-",AW22="-",AY22="-",BA22="-"),0,VALUE(FIXED(((AT22+AV22+AX22+AZ22+BB22)/5),2)))) -> 82.8 | BD22: =IF(OR(AR22="",BC22=""),"",IF(OR(AS22="-",AU22="-",AW22="-",AY22="-",BA22="-"),0, VALUE(FIXED(((AR22+BC22)/2),2)))) -> 65.4 | BE22: BG | BF22: 35 M | BG22: =IF(BF22="","",IF(RIGHT(BF22,1)="M","","""")) | BH22: =IF(OR(G22="",AN22="",BD22=""),"", IF(OR(AE22="-",AF22="-",AI22="-",AJ22="-",AS22="-",AU22="-",AW22="-",AY22="-",BA22="-"),0, VALUE(FIXED(((AN22*30%)+(BD22*70%)),2)))) -> 65.78 | BI22: =IF(OR(G22="",BH22=""),"", IF(OR(AE22="-",AF22="-",AI22="-",AJ22="-",AS22="-",AU22="-",AW22="-",BA22="-"),0, IF(AND(BJ22="TL",OR(BH22<=40.99,BH22>=41)),VLOOKUP(BH22,NILAI_KONVERSI,2),IF(BJ22="L",BH22,"")))) -> 65.78 | BJ22: =IF(BH22="","", IF(OR(AQ22="-",AS22="-",AU22="-",AW22="-",AY22="-", BA22="-"),"-", IF(COUNTIF(BS22:CE22,"TL")>=1,"TL","L"))) -> L | BK22: =IF(BJ22="","",CONCATENATE(CH22,CI22,CJ22,CK22,CL22,CM22,CN22,CO22,CP22,CQ22,CR22,CS22,CU22,CT22)) -> Renang=35 M, | BS22: =IF(AD22="","",IF(AD22="-","-",IF(AD22<=20,"TL","L"))) -> L | BT22: =IF(AH22="","",IF(AH22="-","-",IF(AH22<=30,"TL","L"))) -> L | BU22: =IF(AM22="","",IF(AM22="-","-",IF(AM22<=20,"TL","L"))) -> L | BV22: =IF(AN22="","",IF(AN22="-","-",IF(AN22<=20.99,"TL","L"))) -> L | BW22: =IF(AR22="","", IF(AR22="-","-", IF(AR22<=34,"TL","L"))) -> L | BX22: =IF(AT22="","",IF(AT22="-","-",IF(G22="P",IF(AT22<=24,"TL",IF(AT22>=25,"L")),IF(G22="W",IF(AT22<=30,"TL",IF(AT22>=31,"L")))))) -> L | BY22: =IF(AV22="","",IF(AV22="-","-",IF(G22="P",IF(AV22<=30,"TL",IF(AV22>=31,"L")),IF(G22="W",IF(AV22<=30,"TL",IF(AV22>=31,"L")))))) -> L | BZ22: =IF(AX22="","",IF(AX22="-","-",IF(G22="P",IF(AX22<=30,"TL",IF(AX22>=31,"L")),IF(G22="W",IF(AX22<=30,"TL",IF(AX22>=31,"L")))))) -> L | CA22: =IF(AZ22="","",IF(AZ22="-","-",IF(G22="P",IF(AZ22<=30,"TL",IF(AZ22>=31,"L")),IF(G22="W",IF(AZ22<=30,"TL",IF(AZ22>=31,"L")))))) -> L | CB22: =IF(BB22="","",IF(BB22="-","-",IF(G22="P",IF(BB22<=30,"TL",IF(BB22>=31,"L")),IF(G22="W",IF(BB22<=30,"TL",IF(BB22>=31,"L")))))) -> L | CC22: =IF(BC22="","", IF(G22="P",IF(BC22<=34.99,"TL", IF(BC22>=35,"L")), IF(G22="W", IF(BC22<=34.99,"TL", IF(BC22>=35,"L"))))) -> L | CD22: =IF(BD22="","", IF(G22="P",IF(BD22<=40.99,"TL", IF(BD22>=41,"L")), IF(G22="W", IF(BD22<=40.99,"TL", IF(BD22>=41,"L"))))) -> L | CE22: =IF(BH22="","",IF(BH22<=40.99,"TL", IF(BH22>=41,"L"))) -> L | CH22: =IF(BS22="TL","BB="&""&AC22&"("&AD22&"), ", "") | CI22: =IF(OR(AE22="-",AF22="-"),"NSA= tdk melaks"&", ",IF(BT22="TL","NSA=N-"&AF22&""&"("&AH22&")"&"("&AG22&")"&", ","")) | CJ22: =IF(AL22="-","SGP= tdk melaks"&", ",IF(BU22="TL",AL22&"="&""&"("&AM22&"), ","")) | CK22: =IF(BV22="TL","NP="&"("&FIXED((AN22),2)&"), ","") | CL22: =IF(AQ22="-","A= tdk melaks"&", ", IF(BW22="TL","A="&"("&AR22&")"&" (Lari Kurang "&(AQ22-2272)&"m), ","")) | CM22: =IF(AS22="-","B1= tdk melaks"&", ",IF(BX22="TL","B1="&"("&AT22&"), ","")) | CN22: =IF(AU22="-","B2= tdk melaks"&", ",IF(BY22="TL","B2="&"("&AV22&"), ","")) | CO22: =IF(AW22="-","B3= tdk melaks"&", ",IF(BZ22="TL","B3="&"("&AX22&"), ","")) | CP22: =IF(BA22="-","B4= tdk melaks"&", ",IF(CA22="TL","B4="&"("&AZ22&"), ","")) | CQ22: =IF(BB22="-","B4= tdk melaks"&", ",IF(CB22="TL","B5="&"("&BB22&"), ","")) | CR22: =IF(CC22="TL","R.B="&"("&FIXED((BC22),2)&"), ", "") | CS22: =IF(CD22="TL","R.AB="&"("&FIXED((BD22),2)&"), ", "") | CT22: =IF(CE22="TL","N.A="&"("&FIXED((BH22),2)&").", "") | CU22: =IF(BF22="-","Renang= tdk melaks"&", ", IF(RIGHT(BF22,1)="M","Renang="&""&BF22&", ","")) -> Renang=35 M,
A23: 11 | B23: 11 | C23: MN3651PL | D23: A | E23: 15 | F23: BAHYUNIANGSAH | G23: P | H23: 165 | I23: 62.7 | J23: =IF(OR(H23="",I23="",H23=0),"",K23-0.1) -> 49.2 | K23: =IF(OR(H23="",I23="",H23=0),"",Q23-(Q23*15%)) -> 49.3 | L23: =IF(OR(H23="",I23="",H23=0),"",M23-0.1) -> 50.65 | M23: =IF(OR(H23="",I23="",H23=0),"",Q23-(Q23*12.5%)) -> 50.75 | N23: =IF(OR(H23="",I23="",H23=0),"",O23-0.1) -> 53.55 | O23: =IF(OR(H23="",I23="",H23=0),"",Q23-(Q23*7.5%)) -> 53.65 | P23: =IF(OR(H23="",I23="",H23=0),"",Q23-0.1) -> 57.9 | Q23: =IF(OR(H23="",I23="",H23=0),"",90%*(H23-100)-0.5) -> 58 | R23: =IF(OR(H23="",I23="",H23=0),"",90%*(H23-100)) -> 58.5 | S23: =IF(OR(H23="",I23="",,H23=0),"",R23+0.1) -> 58.6 | T23: =IF(OR(H23="",I23="",H23=0),"",90%*(H23-100)+0.5) -> 59 | U23: =IF(OR(H23="",I23="",H23=0),"",T23+0.1) -> 59.1 | V23: =IF(OR(H23="",I23="",H23=0),"",T23+(T23*7.5%)) -> 63.425 | W23: =IF(OR(H23="",I23="",H23=0),"",V23+0.1) -> 63.525 | X23: =IF(OR(H23="",I23="",H23=0),"",T23+(T23*12.5%)) -> 66.375 | Y23: =IF(OR(H23="",I23="",H23=0),"",X23+0.1) -> 66.475 | Z23: =IF(OR(H23="",I23="",H23=0),"",T23+(T23*15%)) -> 67.85 | AA23: =IF(OR(H23="",I23="",H23=0),"",Z23+0.1) -> 67.95 | AB23: =IF(AC23="LLA","BB lebih"&" "&FIXED((I23-Z23),1) &" kg",IF(AC23="LLB","BB kurang"&" "&FIXED((I23-K23),1)&" kg","")) | AC23: =IF(OR(H23="",I23="", H23=0),"",IF(I23<K23,"LLB",IF(AND(I23>J23,I23<M23),"LB",IF(AND(I23>L23,I23<O23),"NB",IF(AND(I23>N23,I23<Q23),"HB",IF(AND(I23>P23,I23<S23),"IB",IF(AND(I23>R23,I23<U23),"IA",IF(AND(I23>T23,I23<W23),"HA",IF(AND(I23>V23,I23<Y23),"NA",IF(AND(I23>X23,I23<AA23),"LA",IF(I23>=AA23,"LLA",""))))))))))) -> HA | AD23: =IF(AC23="","", VLOOKUP(AC23,NILAI_TB_BB,2)) -> 80 | AE23: 1 | AF23: 4 | AG23: BN= HAP / NM-= SDL, HAS, HE-2 | AH23: =IF(OR(AE23="",AF23=""),"", IF(OR(AE23="-",AF23="-"),"-", IF(AE23=0,VLOOKUP(AF23,NSA,2), IF(AE23=1,VLOOKUP(AF23,NSA,3), IF(AE23=2,VLOOKUP(AF23,NSA,4), IF(AE23=3,VLOOKUP(AF23,NSA,5), IF(AE23=4,VLOOKUP(AF23,NSA,6), IF(AE23=5,VLOOKUP(AF23,NSA,7), IF(AE23=6,VLOOKUP(AF23,NSA,8), IF(AE23=7,VLOOKUP(AF23,NSA,9), IF(AE23=8,VLOOKUP(AF23,NSA,10), IF(AE23=9,VLOOKUP(AF23,NSA,11), IF(AE23=10,VLOOKUP(AF23,NSA,12),""))))))))))))) -> 59 | AI23: 0 | AJ23: 3 | AK23: NM-= Berjalan mengangkat tumit, Mulut cakil, Gigi tonggos | AL23: =IF(AM23="","",IF(AM23>=81,"SGP-0",IF(AND(AM23>=61,AM23<=80),"SGP-1",IF(AND(AM23>=41,AM23<=60),"SGP-2",IF(AND(AM23>=21,AM23<=40),"SGP-3",IF(AND(AM23>=0,AM23<=20),"SGP-4","")))))) -> SGP-1 | AM23: =IF(OR(AI23="",AJ23=""),"",IF(AI23=0,VLOOKUP(AJ23,NILAI_SGP,2),IF(AI23=1,VLOOKUP(AJ23,NILAI_SGP,3),IF(AI23=2,VLOOKUP(AJ23,NILAI_SGP,4),IF(AI23=3,VLOOKUP(AJ23,NILAI_SGP,5),IF(AI23=4,VLOOKUP(AJ23,NILAI_SGP,6),IF(AI23=5,VLOOKUP(AJ23,NILAI_SGP,7),IF(AI23=6,VLOOKUP(AJ23,NILAI_SGP,8),IF(AI23=7,VLOOKUP(AJ23,NILAI_SGP,9),IF(AI23=8,VLOOKUP(AJ23,NILAI_SGP,10),IF(AI23=9,VLOOKUP(AJ23,NILAI_SGP,11),IF(AI23=10,VLOOKUP(AJ23,NILAI_SGP,12),"")))))))))))) -> 70 | AN23: =IF(OR(AD23="",AH23="",AM23=""),"",VALUE(FIXED(((AD23+AH23+AM23)/3),2))) -> 69.67 | AO23: 6 | AP23: 350 | AQ23: =IF(OR(AO23="",AP23="",AO23=0),"",IF(OR(AO23="-",AP23="-"),"-",(AO23*$AO$10)+AP23)) -> 2750 | AR23: =IF(OR(G23="",AQ23="",AQ23=0),"",IF(OR(AO23="-",AP23="-"),"-",IF(G23="P",VLOOKUP(AQ23,LARI12mnt_CALON_PRIA,2),IF(G23="W",VLOOKUP(AQ23,LARI12mnt_CALON_WANITA,2),"")))) -> 60 | AS23: 18 | AT23: =IF(OR(G23="",AS23=""),"", IF(AS23="-","-", IF(G23="P",VLOOKUP(AS23,PULLUP_CALON_PRIA,2),IF(G23="W",VLOOKUP(AS23,CHINNING_CALON_WANITA,2),"")))) -> 100 | AU23: 41 | AV23: =IF(OR(G23="",AU23=""),"", IF(AU23="-","-", IF(G23="P",VLOOKUP(AU23,SITUP_CALON_PRIA,2),IF(G23="W",VLOOKUP(AU23,SITUP_CALON_WANITA,2),"")))) -> 100 | AW23: 54 | AX23: =IF(OR(G23="",AW23=""),"",IF(AW23="-","-", IF(G23="P",VLOOKUP(AW23,LUNGES_CALON_PRIA,2),IF(G23="W",VLOOKUP(AW23,LUNGES_CALON_WANITA,2),"")))) -> 100 | AY23: 43 | AZ23: =IF(OR(G23="",AY23=""),"", IF(AY23="-","-", IF(G23="P",VLOOKUP(AY23,PUSHUP_CALON_PRIA,2),IF(G23="W",VLOOKUP(AY23,MODIFPUSHUP_CALON_WANITA,2),"")))) -> 100 | BA23: 5.09 | BB23: =IF(OR(G23="",BA23="",BA23=0),"",IF(BA23="-","-", IF(G23="P",VLOOKUP(BA23,SHUTTLERUN_CALON_PRIA,2),IF(G23="W",VLOOKUP(BA23,SHUTTLERUN_CALON_WANITA,2),"")))) -> 77 | BC23: =IF(OR(AT23="",AV23="",AX23="",AZ23="",BB23=""),"",IF(OR(AS23="-",AU23="-",AW23="-",AY23="-",BA23="-"),0,VALUE(FIXED(((AT23+AV23+AX23+AZ23+BB23)/5),2)))) -> 95.4 | BD23: =IF(OR(AR23="",BC23=""),"",IF(OR(AS23="-",AU23="-",AW23="-",AY23="-",BA23="-"),0, VALUE(FIXED(((AR23+BC23)/2),2)))) -> 77.7 | BE23: G | BF23: 1.07 | BG23: =IF(BF23="","",IF(RIGHT(BF23,1)="M","","""")) -> " | BH23: =IF(OR(G23="",AN23="",BD23=""),"", IF(OR(AE23="-",AF23="-",AI23="-",AJ23="-",AS23="-",AU23="-",AW23="-",AY23="-",BA23="-"),0, VALUE(FIXED(((AN23*30%)+(BD23*70%)),2)))) -> 75.29 | BI23: =IF(OR(G23="",BH23=""),"", IF(OR(AE23="-",AF23="-",AI23="-",AJ23="-",AS23="-",AU23="-",AW23="-",BA23="-"),0, IF(AND(BJ23="TL",OR(BH23<=40.99,BH23>=41)),VLOOKUP(BH23,NILAI_KONVERSI,2),IF(BJ23="L",BH23,"")))) -> 75.29 | BJ23: =IF(BH23="","", IF(OR(AQ23="-",AS23="-",AU23="-",AW23="-",AY23="-", BA23="-"),"-", IF(COUNTIF(BS23:CE23,"TL")>=1,"TL","L"))) -> L | BK23: =IF(BJ23="","",CONCATENATE(CH23,CI23,CJ23,CK23,CL23,CM23,CN23,CO23,CP23,CQ23,CR23,CS23,CU23,CT23)) | BS23: =IF(AD23="","",IF(AD23="-","-",IF(AD23<=20,"TL","L"))) -> L | BT23: =IF(AH23="","",IF(AH23="-","-",IF(AH23<=30,"TL","L"))) -> L | BU23: =IF(AM23="","",IF(AM23="-","-",IF(AM23<=20,"TL","L"))) -> L | BV23: =IF(AN23="","",IF(AN23="-","-",IF(AN23<=20.99,"TL","L"))) -> L | BW23: =IF(AR23="","", IF(AR23="-","-", IF(AR23<=34,"TL","L"))) -> L | BX23: =IF(AT23="","",IF(AT23="-","-",IF(G23="P",IF(AT23<=24,"TL",IF(AT23>=25,"L")),IF(G23="W",IF(AT23<=30,"TL",IF(AT23>=31,"L")))))) -> L | BY23: =IF(AV23="","",IF(AV23="-","-",IF(G23="P",IF(AV23<=30,"TL",IF(AV23>=31,"L")),IF(G23="W",IF(AV23<=30,"TL",IF(AV23>=31,"L")))))) -> L | BZ23: =IF(AX23="","",IF(AX23="-","-",IF(G23="P",IF(AX23<=30,"TL",IF(AX23>=31,"L")),IF(G23="W",IF(AX23<=30,"TL",IF(AX23>=31,"L")))))) -> L | CA23: =IF(AZ23="","",IF(AZ23="-","-",IF(G23="P",IF(AZ23<=30,"TL",IF(AZ23>=31,"L")),IF(G23="W",IF(AZ23<=30,"TL",IF(AZ23>=31,"L")))))) -> L | CB23: =IF(BB23="","",IF(BB23="-","-",IF(G23="P",IF(BB23<=30,"TL",IF(BB23>=31,"L")),IF(G23="W",IF(BB23<=30,"TL",IF(BB23>=31,"L")))))) -> L | CC23: =IF(BC23="","", IF(G23="P",IF(BC23<=34.99,"TL", IF(BC23>=35,"L")), IF(G23="W", IF(BC23<=34.99,"TL", IF(BC23>=35,"L"))))) -> L | CD23: =IF(BD23="","", IF(G23="P",IF(BD23<=40.99,"TL", IF(BD23>=41,"L")), IF(G23="W", IF(BD23<=40.99,"TL", IF(BD23>=41,"L"))))) -> L | CE23: =IF(BH23="","",IF(BH23<=40.99,"TL", IF(BH23>=41,"L"))) -> L | CH23: =IF(BS23="TL","BB="&""&AC23&"("&AD23&"), ", "") | CI23: =IF(OR(AE23="-",AF23="-"),"NSA= tdk melaks"&", ",IF(BT23="TL","NSA=N-"&AF23&""&"("&AH23&")"&"("&AG23&")"&", ","")) | CJ23: =IF(AL23="-","SGP= tdk melaks"&", ",IF(BU23="TL",AL23&"="&""&"("&AM23&"), ","")) | CK23: =IF(BV23="TL","NP="&"("&FIXED((AN23),2)&"), ","") | CL23: =IF(AQ23="-","A= tdk melaks"&", ", IF(BW23="TL","A="&"("&AR23&")"&" (Lari Kurang "&(AQ23-2272)&"m), ","")) | CM23: =IF(AS23="-","B1= tdk melaks"&", ",IF(BX23="TL","B1="&"("&AT23&"), ","")) | CN23: =IF(AU23="-","B2= tdk melaks"&", ",IF(BY23="TL","B2="&"("&AV23&"), ","")) | CO23: =IF(AW23="-","B3= tdk melaks"&", ",IF(BZ23="TL","B3="&"("&AX23&"), ","")) | CP23: =IF(BA23="-","B4= tdk melaks"&", ",IF(CA23="TL","B4="&"("&AZ23&"), ","")) | CQ23: =IF(BB23="-","B4= tdk melaks"&", ",IF(CB23="TL","B5="&"("&BB23&"), ","")) | CR23: =IF(CC23="TL","R.B="&"("&FIXED((BC23),2)&"), ", "") | CS23: =IF(CD23="TL","R.AB="&"("&FIXED((BD23),2)&"), ", "") | CT23: =IF(CE23="TL","N.A="&"("&FIXED((BH23),2)&").", "") | CU23: =IF(BF23="-","Renang= tdk melaks"&", ", IF(RIGHT(BF23,1)="M","Renang="&""&BF23&", ",""))
A24: 12 | B24: 12 | C24: MN3652PL | D24: A | E24: 21 | F24: MOH RIDO APANDY | G24: P | H24: 169.5 | I24: 58.5 | J24: =IF(OR(H24="",I24="",H24=0),"",K24-0.1) -> 52.6425 | K24: =IF(OR(H24="",I24="",H24=0),"",Q24-(Q24*15%)) -> 52.7425 | L24: =IF(OR(H24="",I24="",H24=0),"",M24-0.1) -> 54.19375 | M24: =IF(OR(H24="",I24="",H24=0),"",Q24-(Q24*12.5%)) -> 54.29375 | N24: =IF(OR(H24="",I24="",H24=0),"",O24-0.1) -> 57.29625 | O24: =IF(OR(H24="",I24="",H24=0),"",Q24-(Q24*7.5%)) -> 57.39625 | P24: =IF(OR(H24="",I24="",H24=0),"",Q24-0.1) -> 61.95 | Q24: =IF(OR(H24="",I24="",H24=0),"",90%*(H24-100)-0.5) -> 62.05 | R24: =IF(OR(H24="",I24="",H24=0),"",90%*(H24-100)) -> 62.55 | S24: =IF(OR(H24="",I24="",,H24=0),"",R24+0.1) -> 62.65 | T24: =IF(OR(H24="",I24="",H24=0),"",90%*(H24-100)+0.5) -> 63.05 | U24: =IF(OR(H24="",I24="",H24=0),"",T24+0.1) -> 63.15 | V24: =IF(OR(H24="",I24="",H24=0),"",T24+(T24*7.5%)) -> 67.77875 | W24: =IF(OR(H24="",I24="",H24=0),"",V24+0.1) -> 67.87875 | X24: =IF(OR(H24="",I24="",H24=0),"",T24+(T24*12.5%)) -> 70.93125 | Y24: =IF(OR(H24="",I24="",H24=0),"",X24+0.1) -> 71.03125 | Z24: =IF(OR(H24="",I24="",H24=0),"",T24+(T24*15%)) -> 72.5075 | AA24: =IF(OR(H24="",I24="",H24=0),"",Z24+0.1) -> 72.6075 | AB24: =IF(AC24="LLA","BB lebih"&" "&FIXED((I24-Z24),1) &" kg",IF(AC24="LLB","BB kurang"&" "&FIXED((I24-K24),1)&" kg","")) | AC24: =IF(OR(H24="",I24="", H24=0),"",IF(I24<K24,"LLB",IF(AND(I24>J24,I24<M24),"LB",IF(AND(I24>L24,I24<O24),"NB",IF(AND(I24>N24,I24<Q24),"HB",IF(AND(I24>P24,I24<S24),"IB",IF(AND(I24>R24,I24<U24),"IA",IF(AND(I24>T24,I24<W24),"HA",IF(AND(I24>V24,I24<Y24),"NA",IF(AND(I24>X24,I24<AA24),"LA",IF(I24>=AA24,"LLA",""))))))))))) -> HB | AD24: =IF(AC24="","", VLOOKUP(AC24,NILAI_TB_BB,2)) -> 70 | AE24: 1 | AF24: 5 | AG24: BN= HP / NM-= SDR-2, HAS-2, SC | AH24: =IF(OR(AE24="",AF24=""),"", IF(OR(AE24="-",AF24="-"),"-", IF(AE24=0,VLOOKUP(AF24,NSA,2), IF(AE24=1,VLOOKUP(AF24,NSA,3), IF(AE24=2,VLOOKUP(AF24,NSA,4), IF(AE24=3,VLOOKUP(AF24,NSA,5), IF(AE24=4,VLOOKUP(AF24,NSA,6), IF(AE24=5,VLOOKUP(AF24,NSA,7), IF(AE24=6,VLOOKUP(AF24,NSA,8), IF(AE24=7,VLOOKUP(AF24,NSA,9), IF(AE24=8,VLOOKUP(AF24,NSA,10), IF(AE24=9,VLOOKUP(AF24,NSA,11), IF(AE24=10,VLOOKUP(AF24,NSA,12),""))))))))))))) -> 49 | AI24: 0 | AJ24: 3 | AK24: NM-= Muka bercak, Keloid-2 | AL24: =IF(AM24="","",IF(AM24>=81,"SGP-0",IF(AND(AM24>=61,AM24<=80),"SGP-1",IF(AND(AM24>=41,AM24<=60),"SGP-2",IF(AND(AM24>=21,AM24<=40),"SGP-3",IF(AND(AM24>=0,AM24<=20),"SGP-4","")))))) -> SGP-1 | AM24: =IF(OR(AI24="",AJ24=""),"",IF(AI24=0,VLOOKUP(AJ24,NILAI_SGP,2),IF(AI24=1,VLOOKUP(AJ24,NILAI_SGP,3),IF(AI24=2,VLOOKUP(AJ24,NILAI_SGP,4),IF(AI24=3,VLOOKUP(AJ24,NILAI_SGP,5),IF(AI24=4,VLOOKUP(AJ24,NILAI_SGP,6),IF(AI24=5,VLOOKUP(AJ24,NILAI_SGP,7),IF(AI24=6,VLOOKUP(AJ24,NILAI_SGP,8),IF(AI24=7,VLOOKUP(AJ24,NILAI_SGP,9),IF(AI24=8,VLOOKUP(AJ24,NILAI_SGP,10),IF(AI24=9,VLOOKUP(AJ24,NILAI_SGP,11),IF(AI24=10,VLOOKUP(AJ24,NILAI_SGP,12),"")))))))))))) -> 70 | AN24: =IF(OR(AD24="",AH24="",AM24=""),"",VALUE(FIXED(((AD24+AH24+AM24)/3),2))) -> 63 | AO24: 7 | AP24: 20 | AQ24: =IF(OR(AO24="",AP24="",AO24=0),"",IF(OR(AO24="-",AP24="-"),"-",(AO24*$AO$10)+AP24)) -> 2820 | AR24: =IF(OR(G24="",AQ24="",AQ24=0),"",IF(OR(AO24="-",AP24="-"),"-",IF(G24="P",VLOOKUP(AQ24,LARI12mnt_CALON_PRIA,2),IF(G24="W",VLOOKUP(AQ24,LARI12mnt_CALON_WANITA,2),"")))) -> 63 | AS24: 18 | AT24: =IF(OR(G24="",AS24=""),"", IF(AS24="-","-", IF(G24="P",VLOOKUP(AS24,PULLUP_CALON_PRIA,2),IF(G24="W",VLOOKUP(AS24,CHINNING_CALON_WANITA,2),"")))) -> 100 | AU24: 41 | AV24: =IF(OR(G24="",AU24=""),"", IF(AU24="-","-", IF(G24="P",VLOOKUP(AU24,SITUP_CALON_PRIA,2),IF(G24="W",VLOOKUP(AU24,SITUP_CALON_WANITA,2),"")))) -> 100 | AW24: 54 | AX24: =IF(OR(G24="",AW24=""),"",IF(AW24="-","-", IF(G24="P",VLOOKUP(AW24,LUNGES_CALON_PRIA,2),IF(G24="W",VLOOKUP(AW24,LUNGES_CALON_WANITA,2),"")))) -> 100 | AY24: 43 | AZ24: =IF(OR(G24="",AY24=""),"", IF(AY24="-","-", IF(G24="P",VLOOKUP(AY24,PUSHUP_CALON_PRIA,2),IF(G24="W",VLOOKUP(AY24,MODIFPUSHUP_CALON_WANITA,2),"")))) -> 100 | BA24: 5.04 | BB24: =IF(OR(G24="",BA24="",BA24=0),"",IF(BA24="-","-", IF(G24="P",VLOOKUP(BA24,SHUTTLERUN_CALON_PRIA,2),IF(G24="W",VLOOKUP(BA24,SHUTTLERUN_CALON_WANITA,2),"")))) -> 78 | BC24: =IF(OR(AT24="",AV24="",AX24="",AZ24="",BB24=""),"",IF(OR(AS24="-",AU24="-",AW24="-",AY24="-",BA24="-"),0,VALUE(FIXED(((AT24+AV24+AX24+AZ24+BB24)/5),2)))) -> 95.6 | BD24: =IF(OR(AR24="",BC24=""),"",IF(OR(AS24="-",AU24="-",AW24="-",AY24="-",BA24="-"),0, VALUE(FIXED(((AR24+BC24)/2),2)))) -> 79.3 | BE24: G | BF24: 0.57 | BG24: =IF(BF24="","",IF(RIGHT(BF24,1)="M","","""")) -> " | BH24: =IF(OR(G24="",AN24="",BD24=""),"", IF(OR(AE24="-",AF24="-",AI24="-",AJ24="-",AS24="-",AU24="-",AW24="-",AY24="-",BA24="-"),0, VALUE(FIXED(((AN24*30%)+(BD24*70%)),2)))) -> 74.41 | BI24: =IF(OR(G24="",BH24=""),"", IF(OR(AE24="-",AF24="-",AI24="-",AJ24="-",AS24="-",AU24="-",AW24="-",BA24="-"),0, IF(AND(BJ24="TL",OR(BH24<=40.99,BH24>=41)),VLOOKUP(BH24,NILAI_KONVERSI,2),IF(BJ24="L",BH24,"")))) -> 74.41 | BJ24: =IF(BH24="","", IF(OR(AQ24="-",AS24="-",AU24="-",AW24="-",AY24="-", BA24="-"),"-", IF(COUNTIF(BS24:CE24,"TL")>=1,"TL","L"))) -> L | BK24: =IF(BJ24="","",CONCATENATE(CH24,CI24,CJ24,CK24,CL24,CM24,CN24,CO24,CP24,CQ24,CR24,CS24,CU24,CT24)) | BS24: =IF(AD24="","",IF(AD24="-","-",IF(AD24<=20,"TL","L"))) -> L | BT24: =IF(AH24="","",IF(AH24="-","-",IF(AH24<=30,"TL","L"))) -> L | BU24: =IF(AM24="","",IF(AM24="-","-",IF(AM24<=20,"TL","L"))) -> L | BV24: =IF(AN24="","",IF(AN24="-","-",IF(AN24<=20.99,"TL","L"))) -> L | BW24: =IF(AR24="","", IF(AR24="-","-", IF(AR24<=34,"TL","L"))) -> L | BX24: =IF(AT24="","",IF(AT24="-","-",IF(G24="P",IF(AT24<=24,"TL",IF(AT24>=25,"L")),IF(G24="W",IF(AT24<=30,"TL",IF(AT24>=31,"L")))))) -> L | BY24: =IF(AV24="","",IF(AV24="-","-",IF(G24="P",IF(AV24<=30,"TL",IF(AV24>=31,"L")),IF(G24="W",IF(AV24<=30,"TL",IF(AV24>=31,"L")))))) -> L | BZ24: =IF(AX24="","",IF(AX24="-","-",IF(G24="P",IF(AX24<=30,"TL",IF(AX24>=31,"L")),IF(G24="W",IF(AX24<=30,"TL",IF(AX24>=31,"L")))))) -> L | CA24: =IF(AZ24="","",IF(AZ24="-","-",IF(G24="P",IF(AZ24<=30,"TL",IF(AZ24>=31,"L")),IF(G24="W",IF(AZ24<=30,"TL",IF(AZ24>=31,"L")))))) -> L | CB24: =IF(BB24="","",IF(BB24="-","-",IF(G24="P",IF(BB24<=30,"TL",IF(BB24>=31,"L")),IF(G24="W",IF(BB24<=30,"TL",IF(BB24>=31,"L")))))) -> L | CC24: =IF(BC24="","", IF(G24="P",IF(BC24<=34.99,"TL", IF(BC24>=35,"L")), IF(G24="W", IF(BC24<=34.99,"TL", IF(BC24>=35,"L"))))) -> L | CD24: =IF(BD24="","", IF(G24="P",IF(BD24<=40.99,"TL", IF(BD24>=41,"L")), IF(G24="W", IF(BD24<=40.99,"TL", IF(BD24>=41,"L"))))) -> L | CE24: =IF(BH24="","",IF(BH24<=40.99,"TL", IF(BH24>=41,"L"))) -> L | CH24: =IF(BS24="TL","BB="&""&AC24&"("&AD24&"), ", "") | CI24: =IF(OR(AE24="-",AF24="-"),"NSA= tdk melaks"&", ",IF(BT24="TL","NSA=N-"&AF24&""&"("&AH24&")"&"("&AG24&")"&", ","")) | CJ24: =IF(AL24="-","SGP= tdk melaks"&", ",IF(BU24="TL",AL24&"="&""&"("&AM24&"), ","")) | CK24: =IF(BV24="TL","NP="&"("&FIXED((AN24),2)&"), ","") | CL24: =IF(AQ24="-","A= tdk melaks"&", ", IF(BW24="TL","A="&"("&AR24&")"&" (Lari Kurang "&(AQ24-2272)&"m), ","")) | CM24: =IF(AS24="-","B1= tdk melaks"&", ",IF(BX24="TL","B1="&"("&AT24&"), ","")) | CN24: =IF(AU24="-","B2= tdk melaks"&", ",IF(BY24="TL","B2="&"("&AV24&"), ","")) | CO24: =IF(AW24="-","B3= tdk melaks"&", ",IF(BZ24="TL","B3="&"("&AX24&"), ","")) | CP24: =IF(BA24="-","B4= tdk melaks"&", ",IF(CA24="TL","B4="&"("&AZ24&"), ","")) | CQ24: =IF(BB24="-","B4= tdk melaks"&", ",IF(CB24="TL","B5="&"("&BB24&"), ","")) | CR24: =IF(CC24="TL","R.B="&"("&FIXED((BC24),2)&"), ", "") | CS24: =IF(CD24="TL","R.AB="&"("&FIXED((BD24),2)&"), ", "") | CT24: =IF(CE24="TL","N.A="&"("&FIXED((BH24),2)&").", "") | CU24: =IF(BF24="-","Renang= tdk melaks"&", ", IF(RIGHT(BF24,1)="M","Renang="&""&BF24&", ",""))
A25: 13 | B25: 13 | C25: MN3653PL | D25: A | E25: 22 | F25: PIKRI FERDIAN | G25: P | H25: 164.5 | I25: 58.5 | J25: =IF(OR(H25="",I25="",H25=0),"",K25-0.1) -> 48.8175 | K25: =IF(OR(H25="",I25="",H25=0),"",Q25-(Q25*15%)) -> 48.9175 | L25: =IF(OR(H25="",I25="",H25=0),"",M25-0.1) -> 50.25625 | M25: =IF(OR(H25="",I25="",H25=0),"",Q25-(Q25*12.5%)) -> 50.35625 | N25: =IF(OR(H25="",I25="",H25=0),"",O25-0.1) -> 53.13375 | O25: =IF(OR(H25="",I25="",H25=0),"",Q25-(Q25*7.5%)) -> 53.23375 | P25: =IF(OR(H25="",I25="",H25=0),"",Q25-0.1) -> 57.45 | Q25: =IF(OR(H25="",I25="",H25=0),"",90%*(H25-100)-0.5) -> 57.55 | R25: =IF(OR(H25="",I25="",H25=0),"",90%*(H25-100)) -> 58.05 | S25: =IF(OR(H25="",I25="",,H25=0),"",R25+0.1) -> 58.15 | T25: =IF(OR(H25="",I25="",H25=0),"",90%*(H25-100)+0.5) -> 58.55 | U25: =IF(OR(H25="",I25="",H25=0),"",T25+0.1) -> 58.65 | V25: =IF(OR(H25="",I25="",H25=0),"",T25+(T25*7.5%)) -> 62.94125 | W25: =IF(OR(H25="",I25="",H25=0),"",V25+0.1) -> 63.04125 | X25: =IF(OR(H25="",I25="",H25=0),"",T25+(T25*12.5%)) -> 65.86875 | Y25: =IF(OR(H25="",I25="",H25=0),"",X25+0.1) -> 65.96875 | Z25: =IF(OR(H25="",I25="",H25=0),"",T25+(T25*15%)) -> 67.3325 | AA25: =IF(OR(H25="",I25="",H25=0),"",Z25+0.1) -> 67.4325 | AB25: =IF(AC25="LLA","BB lebih"&" "&FIXED((I25-Z25),1) &" kg",IF(AC25="LLB","BB kurang"&" "&FIXED((I25-K25),1)&" kg","")) | AC25: =IF(OR(H25="",I25="", H25=0),"",IF(I25<K25,"LLB",IF(AND(I25>J25,I25<M25),"LB",IF(AND(I25>L25,I25<O25),"NB",IF(AND(I25>N25,I25<Q25),"HB",IF(AND(I25>P25,I25<S25),"IB",IF(AND(I25>R25,I25<U25),"IA",IF(AND(I25>T25,I25<W25),"HA",IF(AND(I25>V25,I25<Y25),"NA",IF(AND(I25>X25,I25<AA25),"LA",IF(I25>=AA25,"LLA",""))))))))))) -> IA | AD25: =IF(AC25="","", VLOOKUP(AC25,NILAI_TB_BB,2)) -> 100 | AE25: 0 | AF25: 5 | AG25: NM-= HP, SDR, HAS, HEX, HAP | AH25: =IF(OR(AE25="",AF25=""),"", IF(OR(AE25="-",AF25="-"),"-", IF(AE25=0,VLOOKUP(AF25,NSA,2), IF(AE25=1,VLOOKUP(AF25,NSA,3), IF(AE25=2,VLOOKUP(AF25,NSA,4), IF(AE25=3,VLOOKUP(AF25,NSA,5), IF(AE25=4,VLOOKUP(AF25,NSA,6), IF(AE25=5,VLOOKUP(AF25,NSA,7), IF(AE25=6,VLOOKUP(AF25,NSA,8), IF(AE25=7,VLOOKUP(AF25,NSA,9), IF(AE25=8,VLOOKUP(AF25,NSA,10), IF(AE25=9,VLOOKUP(AF25,NSA,11), IF(AE25=10,VLOOKUP(AF25,NSA,12),""))))))))))))) -> 50 | AI25: 0 | AJ25: 4 | AK25: NM-= Jalan mengangkat tumit, Muka jerawat-2, Tanda lahir | AL25: =IF(AM25="","",IF(AM25>=81,"SGP-0",IF(AND(AM25>=61,AM25<=80),"SGP-1",IF(AND(AM25>=41,AM25<=60),"SGP-2",IF(AND(AM25>=21,AM25<=40),"SGP-3",IF(AND(AM25>=0,AM25<=20),"SGP-4","")))))) -> SGP-2 | AM25: =IF(OR(AI25="",AJ25=""),"",IF(AI25=0,VLOOKUP(AJ25,NILAI_SGP,2),IF(AI25=1,VLOOKUP(AJ25,NILAI_SGP,3),IF(AI25=2,VLOOKUP(AJ25,NILAI_SGP,4),IF(AI25=3,VLOOKUP(AJ25,NILAI_SGP,5),IF(AI25=4,VLOOKUP(AJ25,NILAI_SGP,6),IF(AI25=5,VLOOKUP(AJ25,NILAI_SGP,7),IF(AI25=6,VLOOKUP(AJ25,NILAI_SGP,8),IF(AI25=7,VLOOKUP(AJ25,NILAI_SGP,9),IF(AI25=8,VLOOKUP(AJ25,NILAI_SGP,10),IF(AI25=9,VLOOKUP(AJ25,NILAI_SGP,11),IF(AI25=10,VLOOKUP(AJ25,NILAI_SGP,12),"")))))))))))) -> 60 | AN25: =IF(OR(AD25="",AH25="",AM25=""),"",VALUE(FIXED(((AD25+AH25+AM25)/3),2))) -> 70 | AO25: 6 | AP25: 80 | AQ25: =IF(OR(AO25="",AP25="",AO25=0),"",IF(OR(AO25="-",AP25="-"),"-",(AO25*$AO$10)+AP25)) -> 2480 | AR25: =IF(OR(G25="",AQ25="",AQ25=0),"",IF(OR(AO25="-",AP25="-"),"-",IF(G25="P",VLOOKUP(AQ25,LARI12mnt_CALON_PRIA,2),IF(G25="W",VLOOKUP(AQ25,LARI12mnt_CALON_WANITA,2),"")))) -> 45 | AS25: 17 | AT25: =IF(OR(G25="",AS25=""),"", IF(AS25="-","-", IF(G25="P",VLOOKUP(AS25,PULLUP_CALON_PRIA,2),IF(G25="W",VLOOKUP(AS25,CHINNING_CALON_WANITA,2),"")))) -> 95 | AU25: 41 | AV25: =IF(OR(G25="",AU25=""),"", IF(AU25="-","-", IF(G25="P",VLOOKUP(AU25,SITUP_CALON_PRIA,2),IF(G25="W",VLOOKUP(AU25,SITUP_CALON_WANITA,2),"")))) -> 100 | AW25: 54 | AX25: =IF(OR(G25="",AW25=""),"",IF(AW25="-","-", IF(G25="P",VLOOKUP(AW25,LUNGES_CALON_PRIA,2),IF(G25="W",VLOOKUP(AW25,LUNGES_CALON_WANITA,2),"")))) -> 100 | AY25: 36 | AZ25: =IF(OR(G25="",AY25=""),"", IF(AY25="-","-", IF(G25="P",VLOOKUP(AY25,PUSHUP_CALON_PRIA,2),IF(G25="W",VLOOKUP(AY25,MODIFPUSHUP_CALON_WANITA,2),"")))) -> 84 | BA25: 5.09 | BB25: =IF(OR(G25="",BA25="",BA25=0),"",IF(BA25="-","-", IF(G25="P",VLOOKUP(BA25,SHUTTLERUN_CALON_PRIA,2),IF(G25="W",VLOOKUP(BA25,SHUTTLERUN_CALON_WANITA,2),"")))) -> 77 | BC25: =IF(OR(AT25="",AV25="",AX25="",AZ25="",BB25=""),"",IF(OR(AS25="-",AU25="-",AW25="-",AY25="-",BA25="-"),0,VALUE(FIXED(((AT25+AV25+AX25+AZ25+BB25)/5),2)))) -> 91.2 | BD25: =IF(OR(AR25="",BC25=""),"",IF(OR(AS25="-",AU25="-",AW25="-",AY25="-",BA25="-"),0, VALUE(FIXED(((AR25+BC25)/2),2)))) -> 68.1 | BE25: BG | BF25: 1.05 | BG25: =IF(BF25="","",IF(RIGHT(BF25,1)="M","","""")) -> " | BH25: =IF(OR(G25="",AN25="",BD25=""),"", IF(OR(AE25="-",AF25="-",AI25="-",AJ25="-",AS25="-",AU25="-",AW25="-",AY25="-",BA25="-"),0, VALUE(FIXED(((AN25*30%)+(BD25*70%)),2)))) -> 68.67 | BI25: =IF(OR(G25="",BH25=""),"", IF(OR(AE25="-",AF25="-",AI25="-",AJ25="-",AS25="-",AU25="-",AW25="-",BA25="-"),0, IF(AND(BJ25="TL",OR(BH25<=40.99,BH25>=41)),VLOOKUP(BH25,NILAI_KONVERSI,2),IF(BJ25="L",BH25,"")))) -> 68.67 | BJ25: =IF(BH25="","", IF(OR(AQ25="-",AS25="-",AU25="-",AW25="-",AY25="-", BA25="-"),"-", IF(COUNTIF(BS25:CE25,"TL")>=1,"TL","L"))) -> L | BK25: =IF(BJ25="","",CONCATENATE(CH25,CI25,CJ25,CK25,CL25,CM25,CN25,CO25,CP25,CQ25,CR25,CS25,CU25,CT25)) | BS25: =IF(AD25="","",IF(AD25="-","-",IF(AD25<=20,"TL","L"))) -> L | BT25: =IF(AH25="","",IF(AH25="-","-",IF(AH25<=30,"TL","L"))) -> L | BU25: =IF(AM25="","",IF(AM25="-","-",IF(AM25<=20,"TL","L"))) -> L | BV25: =IF(AN25="","",IF(AN25="-","-",IF(AN25<=20.99,"TL","L"))) -> L | BW25: =IF(AR25="","", IF(AR25="-","-", IF(AR25<=34,"TL","L"))) -> L | BX25: =IF(AT25="","",IF(AT25="-","-",IF(G25="P",IF(AT25<=24,"TL",IF(AT25>=25,"L")),IF(G25="W",IF(AT25<=30,"TL",IF(AT25>=31,"L")))))) -> L | BY25: =IF(AV25="","",IF(AV25="-","-",IF(G25="P",IF(AV25<=30,"TL",IF(AV25>=31,"L")),IF(G25="W",IF(AV25<=30,"TL",IF(AV25>=31,"L")))))) -> L | BZ25: =IF(AX25="","",IF(AX25="-","-",IF(G25="P",IF(AX25<=30,"TL",IF(AX25>=31,"L")),IF(G25="W",IF(AX25<=30,"TL",IF(AX25>=31,"L")))))) -> L | CA25: =IF(AZ25="","",IF(AZ25="-","-",IF(G25="P",IF(AZ25<=30,"TL",IF(AZ25>=31,"L")),IF(G25="W",IF(AZ25<=30,"TL",IF(AZ25>=31,"L")))))) -> L | CB25: =IF(BB25="","",IF(BB25="-","-",IF(G25="P",IF(BB25<=30,"TL",IF(BB25>=31,"L")),IF(G25="W",IF(BB25<=30,"TL",IF(BB25>=31,"L")))))) -> L | CC25: =IF(BC25="","", IF(G25="P",IF(BC25<=34.99,"TL", IF(BC25>=35,"L")), IF(G25="W", IF(BC25<=34.99,"TL", IF(BC25>=35,"L"))))) -> L | CD25: =IF(BD25="","", IF(G25="P",IF(BD25<=40.99,"TL", IF(BD25>=41,"L")), IF(G25="W", IF(BD25<=40.99,"TL", IF(BD25>=41,"L"))))) -> L | CE25: =IF(BH25="","",IF(BH25<=40.99,"TL", IF(BH25>=41,"L"))) -> L | CH25: =IF(BS25="TL","BB="&""&AC25&"("&AD25&"), ", "") | CI25: =IF(OR(AE25="-",AF25="-"),"NSA= tdk melaks"&", ",IF(BT25="TL","NSA=N-"&AF25&""&"("&AH25&")"&"("&AG25&")"&", ","")) | CJ25: =IF(AL25="-","SGP= tdk melaks"&", ",IF(BU25="TL",AL25&"="&""&"("&AM25&"), ","")) | CK25: =IF(BV25="TL","NP="&"("&FIXED((AN25),2)&"), ","") | CL25: =IF(AQ25="-","A= tdk melaks"&", ", IF(BW25="TL","A="&"("&AR25&")"&" (Lari Kurang "&(AQ25-2272)&"m), ","")) | CM25: =IF(AS25="-","B1= tdk melaks"&", ",IF(BX25="TL","B1="&"("&AT25&"), ","")) | CN25: =IF(AU25="-","B2= tdk melaks"&", ",IF(BY25="TL","B2="&"("&AV25&"), ","")) | CO25: =IF(AW25="-","B3= tdk melaks"&", ",IF(BZ25="TL","B3="&"("&AX25&"), ","")) | CP25: =IF(BA25="-","B4= tdk melaks"&", ",IF(CA25="TL","B4="&"("&AZ25&"), ","")) | CQ25: =IF(BB25="-","B4= tdk melaks"&", ",IF(CB25="TL","B5="&"("&BB25&"), ","")) | CR25: =IF(CC25="TL","R.B="&"("&FIXED((BC25),2)&"), ", "") | CS25: =IF(CD25="TL","R.AB="&"("&FIXED((BD25),2)&"), ", "") | CT25: =IF(CE25="TL","N.A="&"("&FIXED((BH25),2)&").", "") | CU25: =IF(BF25="-","Renang= tdk melaks"&", ", IF(RIGHT(BF25,1)="M","Renang="&""&BF25&", ",""))
A26: 14 | B26: 14 | C26: MN3654PL | D26: A | E26: 2 | F26: MOH IKSAN RAHMAN | G26: P | H26: 163.6 | I26: 57.9 | J26: =IF(OR(H26="",I26="",H26=0),"",K26-0.1) -> 48.129 | K26: =IF(OR(H26="",I26="",H26=0),"",Q26-(Q26*15%)) -> 48.229 | L26: =IF(OR(H26="",I26="",H26=0),"",M26-0.1) -> 49.5475 | M26: =IF(OR(H26="",I26="",H26=0),"",Q26-(Q26*12.5%)) -> 49.6475 | N26: =IF(OR(H26="",I26="",H26=0),"",O26-0.1) -> 52.3845 | O26: =IF(OR(H26="",I26="",H26=0),"",Q26-(Q26*7.5%)) -> 52.4845 | P26: =IF(OR(H26="",I26="",H26=0),"",Q26-0.1) -> 56.64 | Q26: =IF(OR(H26="",I26="",H26=0),"",90%*(H26-100)-0.5) -> 56.74 | R26: =IF(OR(H26="",I26="",H26=0),"",90%*(H26-100)) -> 57.24 | S26: =IF(OR(H26="",I26="",,H26=0),"",R26+0.1) -> 57.34 | T26: =IF(OR(H26="",I26="",H26=0),"",90%*(H26-100)+0.5) -> 57.74 | U26: =IF(OR(H26="",I26="",H26=0),"",T26+0.1) -> 57.84 | V26: =IF(OR(H26="",I26="",H26=0),"",T26+(T26*7.5%)) -> 62.0705 | W26: =IF(OR(H26="",I26="",H26=0),"",V26+0.1) -> 62.1705 | X26: =IF(OR(H26="",I26="",H26=0),"",T26+(T26*12.5%)) -> 64.9575 | Y26: =IF(OR(H26="",I26="",H26=0),"",X26+0.1) -> 65.0575 | Z26: =IF(OR(H26="",I26="",H26=0),"",T26+(T26*15%)) -> 66.401 | AA26: =IF(OR(H26="",I26="",H26=0),"",Z26+0.1) -> 66.501 | AB26: =IF(AC26="LLA","BB lebih"&" "&FIXED((I26-Z26),1) &" kg",IF(AC26="LLB","BB kurang"&" "&FIXED((I26-K26),1)&" kg","")) | AC26: =IF(OR(H26="",I26="", H26=0),"",IF(I26<K26,"LLB",IF(AND(I26>J26,I26<M26),"LB",IF(AND(I26>L26,I26<O26),"NB",IF(AND(I26>N26,I26<Q26),"HB",IF(AND(I26>P26,I26<S26),"IB",IF(AND(I26>R26,I26<U26),"IA",IF(AND(I26>T26,I26<W26),"HA",IF(AND(I26>V26,I26<Y26),"NA",IF(AND(I26>X26,I26<AA26),"LA",IF(I26>=AA26,"LLA",""))))))))))) -> HA | AD26: =IF(AC26="","", VLOOKUP(AC26,NILAI_TB_BB,2)) -> 80 | AE26: 0 | AF26: 5 | AG26: NM-= HA, SDL, LD, XBEEN, HEX | AH26: =IF(OR(AE26="",AF26=""),"", IF(OR(AE26="-",AF26="-"),"-", IF(AE26=0,VLOOKUP(AF26,NSA,2), IF(AE26=1,VLOOKUP(AF26,NSA,3), IF(AE26=2,VLOOKUP(AF26,NSA,4), IF(AE26=3,VLOOKUP(AF26,NSA,5), IF(AE26=4,VLOOKUP(AF26,NSA,6), IF(AE26=5,VLOOKUP(AF26,NSA,7), IF(AE26=6,VLOOKUP(AF26,NSA,8), IF(AE26=7,VLOOKUP(AF26,NSA,9), IF(AE26=8,VLOOKUP(AF26,NSA,10), IF(AE26=9,VLOOKUP(AF26,NSA,11), IF(AE26=10,VLOOKUP(AF26,NSA,12),""))))))))))))) -> 50 | AI26: 1 | AJ26: 2 | AK26: BN= Keloid / NM-= Gigi tonggos-2 | AL26: =IF(AM26="","",IF(AM26>=81,"SGP-0",IF(AND(AM26>=61,AM26<=80),"SGP-1",IF(AND(AM26>=41,AM26<=60),"SGP-2",IF(AND(AM26>=21,AM26<=40),"SGP-3",IF(AND(AM26>=0,AM26<=20),"SGP-4","")))))) -> SGP-1 | AM26: =IF(OR(AI26="",AJ26=""),"",IF(AI26=0,VLOOKUP(AJ26,NILAI_SGP,2),IF(AI26=1,VLOOKUP(AJ26,NILAI_SGP,3),IF(AI26=2,VLOOKUP(AJ26,NILAI_SGP,4),IF(AI26=3,VLOOKUP(AJ26,NILAI_SGP,5),IF(AI26=4,VLOOKUP(AJ26,NILAI_SGP,6),IF(AI26=5,VLOOKUP(AJ26,NILAI_SGP,7),IF(AI26=6,VLOOKUP(AJ26,NILAI_SGP,8),IF(AI26=7,VLOOKUP(AJ26,NILAI_SGP,9),IF(AI26=8,VLOOKUP(AJ26,NILAI_SGP,10),IF(AI26=9,VLOOKUP(AJ26,NILAI_SGP,11),IF(AI26=10,VLOOKUP(AJ26,NILAI_SGP,12),"")))))))))))) -> 79 | AN26: =IF(OR(AD26="",AH26="",AM26=""),"",VALUE(FIXED(((AD26+AH26+AM26)/3),2))) -> 69.67 | AO26: 6 | AP26: 150 | AQ26: =IF(OR(AO26="",AP26="",AO26=0),"",IF(OR(AO26="-",AP26="-"),"-",(AO26*$AO$10)+AP26)) -> 2550 | AR26: =IF(OR(G26="",AQ26="",AQ26=0),"",IF(OR(AO26="-",AP26="-"),"-",IF(G26="P",VLOOKUP(AQ26,LARI12mnt_CALON_PRIA,2),IF(G26="W",VLOOKUP(AQ26,LARI12mnt_CALON_WANITA,2),"")))) -> 49 | AS26: 18 | AT26: =IF(OR(G26="",AS26=""),"", IF(AS26="-","-", IF(G26="P",VLOOKUP(AS26,PULLUP_CALON_PRIA,2),IF(G26="W",VLOOKUP(AS26,CHINNING_CALON_WANITA,2),"")))) -> 100 | AU26: 41 | AV26: =IF(OR(G26="",AU26=""),"", IF(AU26="-","-", IF(G26="P",VLOOKUP(AU26,SITUP_CALON_PRIA,2),IF(G26="W",VLOOKUP(AU26,SITUP_CALON_WANITA,2),"")))) -> 100 | AW26: 54 | AX26: =IF(OR(G26="",AW26=""),"",IF(AW26="-","-", IF(G26="P",VLOOKUP(AW26,LUNGES_CALON_PRIA,2),IF(G26="W",VLOOKUP(AW26,LUNGES_CALON_WANITA,2),"")))) -> 100 | AY26: 38 | AZ26: =IF(OR(G26="",AY26=""),"", IF(AY26="-","-", IF(G26="P",VLOOKUP(AY26,PUSHUP_CALON_PRIA,2),IF(G26="W",VLOOKUP(AY26,MODIFPUSHUP_CALON_WANITA,2),"")))) -> 89 | BA26: 5.9 | BB26: =IF(OR(G26="",BA26="",BA26=0),"",IF(BA26="-","-", IF(G26="P",VLOOKUP(BA26,SHUTTLERUN_CALON_PRIA,2),IF(G26="W",VLOOKUP(BA26,SHUTTLERUN_CALON_WANITA,2),"")))) -> 55 | BC26: =IF(OR(AT26="",AV26="",AX26="",AZ26="",BB26=""),"",IF(OR(AS26="-",AU26="-",AW26="-",AY26="-",BA26="-"),0,VALUE(FIXED(((AT26+AV26+AX26+AZ26+BB26)/5),2)))) -> 88.8 | BD26: =IF(OR(AR26="",BC26=""),"",IF(OR(AS26="-",AU26="-",AW26="-",AY26="-",BA26="-"),0, VALUE(FIXED(((AR26+BC26)/2),2)))) -> 68.9 | BE26: BG | BF26: 1 | BG26: =IF(BF26="","",IF(RIGHT(BF26,1)="M","","""")) -> " | BH26: =IF(OR(G26="",AN26="",BD26=""),"", IF(OR(AE26="-",AF26="-",AI26="-",AJ26="-",AS26="-",AU26="-",AW26="-",AY26="-",BA26="-"),0, VALUE(FIXED(((AN26*30%)+(BD26*70%)),2)))) -> 69.13 | BI26: =IF(OR(G26="",BH26=""),"", IF(OR(AE26="-",AF26="-",AI26="-",AJ26="-",AS26="-",AU26="-",AW26="-",BA26="-"),0, IF(AND(BJ26="TL",OR(BH26<=40.99,BH26>=41)),VLOOKUP(BH26,NILAI_KONVERSI,2),IF(BJ26="L",BH26,"")))) -> 69.13 | BJ26: =IF(BH26="","", IF(OR(AQ26="-",AS26="-",AU26="-",AW26="-",AY26="-", BA26="-"),"-", IF(COUNTIF(BS26:CE26,"TL")>=1,"TL","L"))) -> L | BK26: =IF(BJ26="","",CONCATENATE(CH26,CI26,CJ26,CK26,CL26,CM26,CN26,CO26,CP26,CQ26,CR26,CS26,CU26,CT26)) | BS26: =IF(AD26="","",IF(AD26="-","-",IF(AD26<=20,"TL","L"))) -> L | BT26: =IF(AH26="","",IF(AH26="-","-",IF(AH26<=30,"TL","L"))) -> L | BU26: =IF(AM26="","",IF(AM26="-","-",IF(AM26<=20,"TL","L"))) -> L | BV26: =IF(AN26="","",IF(AN26="-","-",IF(AN26<=20.99,"TL","L"))) -> L | BW26: =IF(AR26="","", IF(AR26="-","-", IF(AR26<=34,"TL","L"))) -> L | BX26: =IF(AT26="","",IF(AT26="-","-",IF(G26="P",IF(AT26<=24,"TL",IF(AT26>=25,"L")),IF(G26="W",IF(AT26<=30,"TL",IF(AT26>=31,"L")))))) -> L | BY26: =IF(AV26="","",IF(AV26="-","-",IF(G26="P",IF(AV26<=30,"TL",IF(AV26>=31,"L")),IF(G26="W",IF(AV26<=30,"TL",IF(AV26>=31,"L")))))) -> L | BZ26: =IF(AX26="","",IF(AX26="-","-",IF(G26="P",IF(AX26<=30,"TL",IF(AX26>=31,"L")),IF(G26="W",IF(AX26<=30,"TL",IF(AX26>=31,"L")))))) -> L | CA26: =IF(AZ26="","",IF(AZ26="-","-",IF(G26="P",IF(AZ26<=30,"TL",IF(AZ26>=31,"L")),IF(G26="W",IF(AZ26<=30,"TL",IF(AZ26>=31,"L")))))) -> L | CB26: =IF(BB26="","",IF(BB26="-","-",IF(G26="P",IF(BB26<=30,"TL",IF(BB26>=31,"L")),IF(G26="W",IF(BB26<=30,"TL",IF(BB26>=31,"L")))))) -> L | CC26: =IF(BC26="","", IF(G26="P",IF(BC26<=34.99,"TL", IF(BC26>=35,"L")), IF(G26="W", IF(BC26<=34.99,"TL", IF(BC26>=35,"L"))))) -> L | CD26: =IF(BD26="","", IF(G26="P",IF(BD26<=40.99,"TL", IF(BD26>=41,"L")), IF(G26="W", IF(BD26<=40.99,"TL", IF(BD26>=41,"L"))))) -> L | CE26: =IF(BH26="","",IF(BH26<=40.99,"TL", IF(BH26>=41,"L"))) -> L | CH26: =IF(BS26="TL","BB="&""&AC26&"("&AD26&"), ", "") | CI26: =IF(OR(AE26="-",AF26="-"),"NSA= tdk melaks"&", ",IF(BT26="TL","NSA=N-"&AF26&""&"("&AH26&")"&"("&AG26&")"&", ","")) | CJ26: =IF(AL26="-","SGP= tdk melaks"&", ",IF(BU26="TL",AL26&"="&""&"("&AM26&"), ","")) | CK26: =IF(BV26="TL","NP="&"("&FIXED((AN26),2)&"), ","") | CL26: =IF(AQ26="-","A= tdk melaks"&", ", IF(BW26="TL","A="&"("&AR26&")"&" (Lari Kurang "&(AQ26-2272)&"m), ","")) | CM26: =IF(AS26="-","B1= tdk melaks"&", ",IF(BX26="TL","B1="&"("&AT26&"), ","")) | CN26: =IF(AU26="-","B2= tdk melaks"&", ",IF(BY26="TL","B2="&"("&AV26&"), ","")) | CO26: =IF(AW26="-","B3= tdk melaks"&", ",IF(BZ26="TL","B3="&"("&AX26&"), ","")) | CP26: =IF(BA26="-","B4= tdk melaks"&", ",IF(CA26="TL","B4="&"("&AZ26&"), ","")) | CQ26: =IF(BB26="-","B4= tdk melaks"&", ",IF(CB26="TL","B5="&"("&BB26&"), ","")) | CR26: =IF(CC26="TL","R.B="&"("&FIXED((BC26),2)&"), ", "") | CS26: =IF(CD26="TL","R.AB="&"("&FIXED((BD26),2)&"), ", "") | CT26: =IF(CE26="TL","N.A="&"("&FIXED((BH26),2)&").", "") | CU26: =IF(BF26="-","Renang= tdk melaks"&", ", IF(RIGHT(BF26,1)="M","Renang="&""&BF26&", ",""))
A27: 15 | B27: 15 | C27: MN3655PL | D27: A | E27: 23 | F27: KAHARUDIN | G27: P | H27: 164.7 | I27: 54.2 | J27: =IF(OR(H27="",I27="",H27=0),"",K27-0.1) -> 48.9705 | K27: =IF(OR(H27="",I27="",H27=0),"",Q27-(Q27*15%)) -> 49.0705 | L27: =IF(OR(H27="",I27="",H27=0),"",M27-0.1) -> 50.41375 | M27: =IF(OR(H27="",I27="",H27=0),"",Q27-(Q27*12.5%)) -> 50.51375 | N27: =IF(OR(H27="",I27="",H27=0),"",O27-0.1) -> 53.30025 | O27: =IF(OR(H27="",I27="",H27=0),"",Q27-(Q27*7.5%)) -> 53.40025 | P27: =IF(OR(H27="",I27="",H27=0),"",Q27-0.1) -> 57.63 | Q27: =IF(OR(H27="",I27="",H27=0),"",90%*(H27-100)-0.5) -> 57.73 | R27: =IF(OR(H27="",I27="",H27=0),"",90%*(H27-100)) -> 58.23 | S27: =IF(OR(H27="",I27="",,H27=0),"",R27+0.1) -> 58.33 | T27: =IF(OR(H27="",I27="",H27=0),"",90%*(H27-100)+0.5) -> 58.73 | U27: =IF(OR(H27="",I27="",H27=0),"",T27+0.1) -> 58.83 | V27: =IF(OR(H27="",I27="",H27=0),"",T27+(T27*7.5%)) -> 63.13475 | W27: =IF(OR(H27="",I27="",H27=0),"",V27+0.1) -> 63.23475 | X27: =IF(OR(H27="",I27="",H27=0),"",T27+(T27*12.5%)) -> 66.07125 | Y27: =IF(OR(H27="",I27="",H27=0),"",X27+0.1) -> 66.17125 | Z27: =IF(OR(H27="",I27="",H27=0),"",T27+(T27*15%)) -> 67.5395 | AA27: =IF(OR(H27="",I27="",H27=0),"",Z27+0.1) -> 67.6395 | AB27: =IF(AC27="LLA","BB lebih"&" "&FIXED((I27-Z27),1) &" kg",IF(AC27="LLB","BB kurang"&" "&FIXED((I27-K27),1)&" kg","")) | AC27: =IF(OR(H27="",I27="", H27=0),"",IF(I27<K27,"LLB",IF(AND(I27>J27,I27<M27),"LB",IF(AND(I27>L27,I27<O27),"NB",IF(AND(I27>N27,I27<Q27),"HB",IF(AND(I27>P27,I27<S27),"IB",IF(AND(I27>R27,I27<U27),"IA",IF(AND(I27>T27,I27<W27),"HA",IF(AND(I27>V27,I27<Y27),"NA",IF(AND(I27>X27,I27<AA27),"LA",IF(I27>=AA27,"LLA",""))))))))))) -> HB | AD27: =IF(AC27="","", VLOOKUP(AC27,NILAI_TB_BB,2)) -> 70 | AE27: 1 | AF27: 4 | AG27: BN= HAP / NM-= HA, SDL-2, HAS | AH27: =IF(OR(AE27="",AF27=""),"", IF(OR(AE27="-",AF27="-"),"-", IF(AE27=0,VLOOKUP(AF27,NSA,2), IF(AE27=1,VLOOKUP(AF27,NSA,3), IF(AE27=2,VLOOKUP(AF27,NSA,4), IF(AE27=3,VLOOKUP(AF27,NSA,5), IF(AE27=4,VLOOKUP(AF27,NSA,6), IF(AE27=5,VLOOKUP(AF27,NSA,7), IF(AE27=6,VLOOKUP(AF27,NSA,8), IF(AE27=7,VLOOKUP(AF27,NSA,9), IF(AE27=8,VLOOKUP(AF27,NSA,10), IF(AE27=9,VLOOKUP(AF27,NSA,11), IF(AE27=10,VLOOKUP(AF27,NSA,12),""))))))))))))) -> 59 | AI27: 1 | AJ27: 2 | AK27: BN= Balik kanan / NM-= Berjalan mengangkang, Mulut cakil | AL27: =IF(AM27="","",IF(AM27>=81,"SGP-0",IF(AND(AM27>=61,AM27<=80),"SGP-1",IF(AND(AM27>=41,AM27<=60),"SGP-2",IF(AND(AM27>=21,AM27<=40),"SGP-3",IF(AND(AM27>=0,AM27<=20),"SGP-4","")))))) -> SGP-1 | AM27: =IF(OR(AI27="",AJ27=""),"",IF(AI27=0,VLOOKUP(AJ27,NILAI_SGP,2),IF(AI27=1,VLOOKUP(AJ27,NILAI_SGP,3),IF(AI27=2,VLOOKUP(AJ27,NILAI_SGP,4),IF(AI27=3,VLOOKUP(AJ27,NILAI_SGP,5),IF(AI27=4,VLOOKUP(AJ27,NILAI_SGP,6),IF(AI27=5,VLOOKUP(AJ27,NILAI_SGP,7),IF(AI27=6,VLOOKUP(AJ27,NILAI_SGP,8),IF(AI27=7,VLOOKUP(AJ27,NILAI_SGP,9),IF(AI27=8,VLOOKUP(AJ27,NILAI_SGP,10),IF(AI27=9,VLOOKUP(AJ27,NILAI_SGP,11),IF(AI27=10,VLOOKUP(AJ27,NILAI_SGP,12),"")))))))))))) -> 79 | AN27: =IF(OR(AD27="",AH27="",AM27=""),"",VALUE(FIXED(((AD27+AH27+AM27)/3),2))) -> 69.33 | AO27: 6 | AP27: 290 | AQ27: =IF(OR(AO27="",AP27="",AO27=0),"",IF(OR(AO27="-",AP27="-"),"-",(AO27*$AO$10)+AP27)) -> 2690 | AR27: =IF(OR(G27="",AQ27="",AQ27=0),"",IF(OR(AO27="-",AP27="-"),"-",IF(G27="P",VLOOKUP(AQ27,LARI12mnt_CALON_PRIA,2),IF(G27="W",VLOOKUP(AQ27,LARI12mnt_CALON_WANITA,2),"")))) -> 57 | AS27: 15 | AT27: =IF(OR(G27="",AS27=""),"", IF(AS27="-","-", IF(G27="P",VLOOKUP(AS27,PULLUP_CALON_PRIA,2),IF(G27="W",VLOOKUP(AS27,CHINNING_CALON_WANITA,2),"")))) -> 85 | AU27: 41 | AV27: =IF(OR(G27="",AU27=""),"", IF(AU27="-","-", IF(G27="P",VLOOKUP(AU27,SITUP_CALON_PRIA,2),IF(G27="W",VLOOKUP(AU27,SITUP_CALON_WANITA,2),"")))) -> 100 | AW27: 49 | AX27: =IF(OR(G27="",AW27=""),"",IF(AW27="-","-", IF(G27="P",VLOOKUP(AW27,LUNGES_CALON_PRIA,2),IF(G27="W",VLOOKUP(AW27,LUNGES_CALON_WANITA,2),"")))) -> 75 | AY27: 43 | AZ27: =IF(OR(G27="",AY27=""),"", IF(AY27="-","-", IF(G27="P",VLOOKUP(AY27,PUSHUP_CALON_PRIA,2),IF(G27="W",VLOOKUP(AY27,MODIFPUSHUP_CALON_WANITA,2),"")))) -> 100 | BA27: 5.09 | BB27: =IF(OR(G27="",BA27="",BA27=0),"",IF(BA27="-","-", IF(G27="P",VLOOKUP(BA27,SHUTTLERUN_CALON_PRIA,2),IF(G27="W",VLOOKUP(BA27,SHUTTLERUN_CALON_WANITA,2),"")))) -> 77 | BC27: =IF(OR(AT27="",AV27="",AX27="",AZ27="",BB27=""),"",IF(OR(AS27="-",AU27="-",AW27="-",AY27="-",BA27="-"),0,VALUE(FIXED(((AT27+AV27+AX27+AZ27+BB27)/5),2)))) -> 87.4 | BD27: =IF(OR(AR27="",BC27=""),"",IF(OR(AS27="-",AU27="-",AW27="-",AY27="-",BA27="-"),0, VALUE(FIXED(((AR27+BC27)/2),2)))) -> 72.2 | BE27: GD | BF27: 1.03 | BG27: =IF(BF27="","",IF(RIGHT(BF27,1)="M","","""")) -> " | BH27: =IF(OR(G27="",AN27="",BD27=""),"", IF(OR(AE27="-",AF27="-",AI27="-",AJ27="-",AS27="-",AU27="-",AW27="-",AY27="-",BA27="-"),0, VALUE(FIXED(((AN27*30%)+(BD27*70%)),2)))) -> 71.34 | BI27: =IF(OR(G27="",BH27=""),"", IF(OR(AE27="-",AF27="-",AI27="-",AJ27="-",AS27="-",AU27="-",AW27="-",BA27="-"),0, IF(AND(BJ27="TL",OR(BH27<=40.99,BH27>=41)),VLOOKUP(BH27,NILAI_KONVERSI,2),IF(BJ27="L",BH27,"")))) -> 71.34 | BJ27: =IF(BH27="","", IF(OR(AQ27="-",AS27="-",AU27="-",AW27="-",AY27="-", BA27="-"),"-", IF(COUNTIF(BS27:CE27,"TL")>=1,"TL","L"))) -> L | BK27: =IF(BJ27="","",CONCATENATE(CH27,CI27,CJ27,CK27,CL27,CM27,CN27,CO27,CP27,CQ27,CR27,CS27,CU27,CT27)) | BS27: =IF(AD27="","",IF(AD27="-","-",IF(AD27<=20,"TL","L"))) -> L | BT27: =IF(AH27="","",IF(AH27="-","-",IF(AH27<=30,"TL","L"))) -> L | BU27: =IF(AM27="","",IF(AM27="-","-",IF(AM27<=20,"TL","L"))) -> L | BV27: =IF(AN27="","",IF(AN27="-","-",IF(AN27<=20.99,"TL","L"))) -> L | BW27: =IF(AR27="","", IF(AR27="-","-", IF(AR27<=34,"TL","L"))) -> L | BX27: =IF(AT27="","",IF(AT27="-","-",IF(G27="P",IF(AT27<=24,"TL",IF(AT27>=25,"L")),IF(G27="W",IF(AT27<=30,"TL",IF(AT27>=31,"L")))))) -> L | BY27: =IF(AV27="","",IF(AV27="-","-",IF(G27="P",IF(AV27<=30,"TL",IF(AV27>=31,"L")),IF(G27="W",IF(AV27<=30,"TL",IF(AV27>=31,"L")))))) -> L | BZ27: =IF(AX27="","",IF(AX27="-","-",IF(G27="P",IF(AX27<=30,"TL",IF(AX27>=31,"L")),IF(G27="W",IF(AX27<=30,"TL",IF(AX27>=31,"L")))))) -> L | CA27: =IF(AZ27="","",IF(AZ27="-","-",IF(G27="P",IF(AZ27<=30,"TL",IF(AZ27>=31,"L")),IF(G27="W",IF(AZ27<=30,"TL",IF(AZ27>=31,"L")))))) -> L | CB27: =IF(BB27="","",IF(BB27="-","-",IF(G27="P",IF(BB27<=30,"TL",IF(BB27>=31,"L")),IF(G27="W",IF(BB27<=30,"TL",IF(BB27>=31,"L")))))) -> L | CC27: =IF(BC27="","", IF(G27="P",IF(BC27<=34.99,"TL", IF(BC27>=35,"L")), IF(G27="W", IF(BC27<=34.99,"TL", IF(BC27>=35,"L"))))) -> L | CD27: =IF(BD27="","", IF(G27="P",IF(BD27<=40.99,"TL", IF(BD27>=41,"L")), IF(G27="W", IF(BD27<=40.99,"TL", IF(BD27>=41,"L"))))) -> L | CE27: =IF(BH27="","",IF(BH27<=40.99,"TL", IF(BH27>=41,"L"))) -> L | CH27: =IF(BS27="TL","BB="&""&AC27&"("&AD27&"), ", "") | CI27: =IF(OR(AE27="-",AF27="-"),"NSA= tdk melaks"&", ",IF(BT27="TL","NSA=N-"&AF27&""&"("&AH27&")"&"("&AG27&")"&", ","")) | CJ27: =IF(AL27="-","SGP= tdk melaks"&", ",IF(BU27="TL",AL27&"="&""&"("&AM27&"), ","")) | CK27: =IF(BV27="TL","NP="&"("&FIXED((AN27),2)&"), ","") | CL27: =IF(AQ27="-","A= tdk melaks"&", ", IF(BW27="TL","A="&"("&AR27&")"&" (Lari Kurang "&(AQ27-2272)&"m), ","")) | CM27: =IF(AS27="-","B1= tdk melaks"&", ",IF(BX27="TL","B1="&"("&AT27&"), ","")) | CN27: =IF(AU27="-","B2= tdk melaks"&", ",IF(BY27="TL","B2="&"("&AV27&"), ","")) | CO27: =IF(AW27="-","B3= tdk melaks"&", ",IF(BZ27="TL","B3="&"("&AX27&"), ","")) | CP27: =IF(BA27="-","B4= tdk melaks"&", ",IF(CA27="TL","B4="&"("&AZ27&"), ","")) | CQ27: =IF(BB27="-","B4= tdk melaks"&", ",IF(CB27="TL","B5="&"("&BB27&"), ","")) | CR27: =IF(CC27="TL","R.B="&"("&FIXED((BC27),2)&"), ", "") | CS27: =IF(CD27="TL","R.AB="&"("&FIXED((BD27),2)&"), ", "") | CT27: =IF(CE27="TL","N.A="&"("&FIXED((BH27),2)&").", "") | CU27: =IF(BF27="-","Renang= tdk melaks"&", ", IF(RIGHT(BF27,1)="M","Renang="&""&BF27&", ",""))
A28: 16 | B28: 16 | C28: MN3656PL | D28: A | E28: 24 | F28: SUPRIANTO SAHARUM | G28: P | H28: 166.5 | I28: 64.1 | J28: =IF(OR(H28="",I28="",H28=0),"",K28-0.1) -> 50.3475 | K28: =IF(OR(H28="",I28="",H28=0),"",Q28-(Q28*15%)) -> 50.4475 | L28: =IF(OR(H28="",I28="",H28=0),"",M28-0.1) -> 51.83125 | M28: =IF(OR(H28="",I28="",H28=0),"",Q28-(Q28*12.5%)) -> 51.93125 | N28: =IF(OR(H28="",I28="",H28=0),"",O28-0.1) -> 54.79875 | O28: =IF(OR(H28="",I28="",H28=0),"",Q28-(Q28*7.5%)) -> 54.89875 | P28: =IF(OR(H28="",I28="",H28=0),"",Q28-0.1) -> 59.25 | Q28: =IF(OR(H28="",I28="",H28=0),"",90%*(H28-100)-0.5) -> 59.35 | R28: =IF(OR(H28="",I28="",H28=0),"",90%*(H28-100)) -> 59.85 | S28: =IF(OR(H28="",I28="",,H28=0),"",R28+0.1) -> 59.95 | T28: =IF(OR(H28="",I28="",H28=0),"",90%*(H28-100)+0.5) -> 60.35 | U28: =IF(OR(H28="",I28="",H28=0),"",T28+0.1) -> 60.45 | V28: =IF(OR(H28="",I28="",H28=0),"",T28+(T28*7.5%)) -> 64.87625 | W28: =IF(OR(H28="",I28="",H28=0),"",V28+0.1) -> 64.97625 | X28: =IF(OR(H28="",I28="",H28=0),"",T28+(T28*12.5%)) -> 67.89375 | Y28: =IF(OR(H28="",I28="",H28=0),"",X28+0.1) -> 67.99375 | Z28: =IF(OR(H28="",I28="",H28=0),"",T28+(T28*15%)) -> 69.4025 | AA28: =IF(OR(H28="",I28="",H28=0),"",Z28+0.1) -> 69.5025 | AB28: =IF(AC28="LLA","BB lebih"&" "&FIXED((I28-Z28),1) &" kg",IF(AC28="LLB","BB kurang"&" "&FIXED((I28-K28),1)&" kg","")) | AC28: =IF(OR(H28="",I28="", H28=0),"",IF(I28<K28,"LLB",IF(AND(I28>J28,I28<M28),"LB",IF(AND(I28>L28,I28<O28),"NB",IF(AND(I28>N28,I28<Q28),"HB",IF(AND(I28>P28,I28<S28),"IB",IF(AND(I28>R28,I28<U28),"IA",IF(AND(I28>T28,I28<W28),"HA",IF(AND(I28>V28,I28<Y28),"NA",IF(AND(I28>X28,I28<AA28),"LA",IF(I28>=AA28,"LLA",""))))))))))) -> HA | AD28: =IF(AC28="","", VLOOKUP(AC28,NILAI_TB_BB,2)) -> 80 | AE28: 1 | AF28: 6 | AG28: BN= HA / NM-= SDR, HAS, LD-2, OBEEN-2 | AH28: =IF(OR(AE28="",AF28=""),"", IF(OR(AE28="-",AF28="-"),"-", IF(AE28=0,VLOOKUP(AF28,NSA,2), IF(AE28=1,VLOOKUP(AF28,NSA,3), IF(AE28=2,VLOOKUP(AF28,NSA,4), IF(AE28=3,VLOOKUP(AF28,NSA,5), IF(AE28=4,VLOOKUP(AF28,NSA,6), IF(AE28=5,VLOOKUP(AF28,NSA,7), IF(AE28=6,VLOOKUP(AF28,NSA,8), IF(AE28=7,VLOOKUP(AF28,NSA,9), IF(AE28=8,VLOOKUP(AF28,NSA,10), IF(AE28=9,VLOOKUP(AF28,NSA,11), IF(AE28=10,VLOOKUP(AF28,NSA,12),""))))))))))))) -> 39 | AI28: 1 | AJ28: 3 | AK28: BN= Berjalan mengangkang / NM-= Hidung terlalu besar, Kulit bercak-2 | AL28: =IF(AM28="","",IF(AM28>=81,"SGP-0",IF(AND(AM28>=61,AM28<=80),"SGP-1",IF(AND(AM28>=41,AM28<=60),"SGP-2",IF(AND(AM28>=21,AM28<=40),"SGP-3",IF(AND(AM28>=0,AM28<=20),"SGP-4","")))))) -> SGP-1 | AM28: =IF(OR(AI28="",AJ28=""),"",IF(AI28=0,VLOOKUP(AJ28,NILAI_SGP,2),IF(AI28=1,VLOOKUP(AJ28,NILAI_SGP,3),IF(AI28=2,VLOOKUP(AJ28,NILAI_SGP,4),IF(AI28=3,VLOOKUP(AJ28,NILAI_SGP,5),IF(AI28=4,VLOOKUP(AJ28,NILAI_SGP,6),IF(AI28=5,VLOOKUP(AJ28,NILAI_SGP,7),IF(AI28=6,VLOOKUP(AJ28,NILAI_SGP,8),IF(AI28=7,VLOOKUP(AJ28,NILAI_SGP,9),IF(AI28=8,VLOOKUP(AJ28,NILAI_SGP,10),IF(AI28=9,VLOOKUP(AJ28,NILAI_SGP,11),IF(AI28=10,VLOOKUP(AJ28,NILAI_SGP,12),"")))))))))))) -> 69 | AN28: =IF(OR(AD28="",AH28="",AM28=""),"",VALUE(FIXED(((AD28+AH28+AM28)/3),2))) -> 62.67 | AO28: 6 | AP28: 190 | AQ28: =IF(OR(AO28="",AP28="",AO28=0),"",IF(OR(AO28="-",AP28="-"),"-",(AO28*$AO$10)+AP28)) -> 2590 | AR28: =IF(OR(G28="",AQ28="",AQ28=0),"",IF(OR(AO28="-",AP28="-"),"-",IF(G28="P",VLOOKUP(AQ28,LARI12mnt_CALON_PRIA,2),IF(G28="W",VLOOKUP(AQ28,LARI12mnt_CALON_WANITA,2),"")))) -> 51 | AS28: 18 | AT28: =IF(OR(G28="",AS28=""),"", IF(AS28="-","-", IF(G28="P",VLOOKUP(AS28,PULLUP_CALON_PRIA,2),IF(G28="W",VLOOKUP(AS28,CHINNING_CALON_WANITA,2),"")))) -> 100 | AU28: 41 | AV28: =IF(OR(G28="",AU28=""),"", IF(AU28="-","-", IF(G28="P",VLOOKUP(AU28,SITUP_CALON_PRIA,2),IF(G28="W",VLOOKUP(AU28,SITUP_CALON_WANITA,2),"")))) -> 100 | AW28: 54 | AX28: =IF(OR(G28="",AW28=""),"",IF(AW28="-","-", IF(G28="P",VLOOKUP(AW28,LUNGES_CALON_PRIA,2),IF(G28="W",VLOOKUP(AW28,LUNGES_CALON_WANITA,2),"")))) -> 100 | AY28: 43 | AZ28: =IF(OR(G28="",AY28=""),"", IF(AY28="-","-", IF(G28="P",VLOOKUP(AY28,PUSHUP_CALON_PRIA,2),IF(G28="W",VLOOKUP(AY28,MODIFPUSHUP_CALON_WANITA,2),"")))) -> 100 | BA28: 5.05 | BB28: =IF(OR(G28="",BA28="",BA28=0),"",IF(BA28="-","-", IF(G28="P",VLOOKUP(BA28,SHUTTLERUN_CALON_PRIA,2),IF(G28="W",VLOOKUP(BA28,SHUTTLERUN_CALON_WANITA,2),"")))) -> 78 | BC28: =IF(OR(AT28="",AV28="",AX28="",AZ28="",BB28=""),"",IF(OR(AS28="-",AU28="-",AW28="-",AY28="-",BA28="-"),0,VALUE(FIXED(((AT28+AV28+AX28+AZ28+BB28)/5),2)))) -> 95.6 | BD28: =IF(OR(AR28="",BC28=""),"",IF(OR(AS28="-",AU28="-",AW28="-",AY28="-",BA28="-"),0, VALUE(FIXED(((AR28+BC28)/2),2)))) -> 73.3 | BE28: GD | BF28: 1.1 | BG28: =IF(BF28="","",IF(RIGHT(BF28,1)="M","","""")) -> " | BH28: =IF(OR(G28="",AN28="",BD28=""),"", IF(OR(AE28="-",AF28="-",AI28="-",AJ28="-",AS28="-",AU28="-",AW28="-",AY28="-",BA28="-"),0, VALUE(FIXED(((AN28*30%)+(BD28*70%)),2)))) -> 70.11 | BI28: =IF(OR(G28="",BH28=""),"", IF(OR(AE28="-",AF28="-",AI28="-",AJ28="-",AS28="-",AU28="-",AW28="-",BA28="-"),0, IF(AND(BJ28="TL",OR(BH28<=40.99,BH28>=41)),VLOOKUP(BH28,NILAI_KONVERSI,2),IF(BJ28="L",BH28,"")))) -> 70.11 | BJ28: =IF(BH28="","", IF(OR(AQ28="-",AS28="-",AU28="-",AW28="-",AY28="-", BA28="-"),"-", IF(COUNTIF(BS28:CE28,"TL")>=1,"TL","L"))) -> L | BK28: =IF(BJ28="","",CONCATENATE(CH28,CI28,CJ28,CK28,CL28,CM28,CN28,CO28,CP28,CQ28,CR28,CS28,CU28,CT28)) | BS28: =IF(AD28="","",IF(AD28="-","-",IF(AD28<=20,"TL","L"))) -> L | BT28: =IF(AH28="","",IF(AH28="-","-",IF(AH28<=30,"TL","L"))) -> L | BU28: =IF(AM28="","",IF(AM28="-","-",IF(AM28<=20,"TL","L"))) -> L | BV28: =IF(AN28="","",IF(AN28="-","-",IF(AN28<=20.99,"TL","L"))) -> L | BW28: =IF(AR28="","", IF(AR28="-","-", IF(AR28<=34,"TL","L"))) -> L | BX28: =IF(AT28="","",IF(AT28="-","-",IF(G28="P",IF(AT28<=24,"TL",IF(AT28>=25,"L")),IF(G28="W",IF(AT28<=30,"TL",IF(AT28>=31,"L")))))) -> L | BY28: =IF(AV28="","",IF(AV28="-","-",IF(G28="P",IF(AV28<=30,"TL",IF(AV28>=31,"L")),IF(G28="W",IF(AV28<=30,"TL",IF(AV28>=31,"L")))))) -> L | BZ28: =IF(AX28="","",IF(AX28="-","-",IF(G28="P",IF(AX28<=30,"TL",IF(AX28>=31,"L")),IF(G28="W",IF(AX28<=30,"TL",IF(AX28>=31,"L")))))) -> L | CA28: =IF(AZ28="","",IF(AZ28="-","-",IF(G28="P",IF(AZ28<=30,"TL",IF(AZ28>=31,"L")),IF(G28="W",IF(AZ28<=30,"TL",IF(AZ28>=31,"L")))))) -> L | CB28: =IF(BB28="","",IF(BB28="-","-",IF(G28="P",IF(BB28<=30,"TL",IF(BB28>=31,"L")),IF(G28="W",IF(BB28<=30,"TL",IF(BB28>=31,"L")))))) -> L | CC28: =IF(BC28="","", IF(G28="P",IF(BC28<=34.99,"TL", IF(BC28>=35,"L")), IF(G28="W", IF(BC28<=34.99,"TL", IF(BC28>=35,"L"))))) -> L | CD28: =IF(BD28="","", IF(G28="P",IF(BD28<=40.99,"TL", IF(BD28>=41,"L")), IF(G28="W", IF(BD28<=40.99,"TL", IF(BD28>=41,"L"))))) -> L | CE28: =IF(BH28="","",IF(BH28<=40.99,"TL", IF(BH28>=41,"L"))) -> L | CH28: =IF(BS28="TL","BB="&""&AC28&"("&AD28&"), ", "") | CI28: =IF(OR(AE28="-",AF28="-"),"NSA= tdk melaks"&", ",IF(BT28="TL","NSA=N-"&AF28&""&"("&AH28&")"&"("&AG28&")"&", ","")) | CJ28: =IF(AL28="-","SGP= tdk melaks"&", ",IF(BU28="TL",AL28&"="&""&"("&AM28&"), ","")) | CK28: =IF(BV28="TL","NP="&"("&FIXED((AN28),2)&"), ","") | CL28: =IF(AQ28="-","A= tdk melaks"&", ", IF(BW28="TL","A="&"("&AR28&")"&" (Lari Kurang "&(AQ28-2272)&"m), ","")) | CM28: =IF(AS28="-","B1= tdk melaks"&", ",IF(BX28="TL","B1="&"("&AT28&"), ","")) | CN28: =IF(AU28="-","B2= tdk melaks"&", ",IF(BY28="TL","B2="&"("&AV28&"), ","")) | CO28: =IF(AW28="-","B3= tdk melaks"&", ",IF(BZ28="TL","B3="&"("&AX28&"), ","")) | CP28: =IF(BA28="-","B4= tdk melaks"&", ",IF(CA28="TL","B4="&"("&AZ28&"), ","")) | CQ28: =IF(BB28="-","B4= tdk melaks"&", ",IF(CB28="TL","B5="&"("&BB28&"), ","")) | CR28: =IF(CC28="TL","R.B="&"("&FIXED((BC28),2)&"), ", "") | CS28: =IF(CD28="TL","R.AB="&"("&FIXED((BD28),2)&"), ", "") | CT28: =IF(CE28="TL","N.A="&"("&FIXED((BH28),2)&").", "") | CU28: =IF(BF28="-","Renang= tdk melaks"&", ", IF(RIGHT(BF28,1)="M","Renang="&""&BF28&", ",""))
A29: 17 | B29: 17 | C29: MN3657PL | D29: A | E29: 25 | F29: HARDIANSYAH B IBRAHIM | G29: P | H29: 166 | I29: 53.4 | J29: =IF(OR(H29="",I29="",H29=0),"",K29-0.1) -> 49.965 | K29: =IF(OR(H29="",I29="",H29=0),"",Q29-(Q29*15%)) -> 50.065 | L29: =IF(OR(H29="",I29="",H29=0),"",M29-0.1) -> 51.4375 | M29: =IF(OR(H29="",I29="",H29=0),"",Q29-(Q29*12.5%)) -> 51.5375 | N29: =IF(OR(H29="",I29="",H29=0),"",O29-0.1) -> 54.3825 | O29: =IF(OR(H29="",I29="",H29=0),"",Q29-(Q29*7.5%)) -> 54.4825 | P29: =IF(OR(H29="",I29="",H29=0),"",Q29-0.1) -> 58.8 | Q29: =IF(OR(H29="",I29="",H29=0),"",90%*(H29-100)-0.5) -> 58.9 | R29: =IF(OR(H29="",I29="",H29=0),"",90%*(H29-100)) -> 59.4 | S29: =IF(OR(H29="",I29="",,H29=0),"",R29+0.1) -> 59.5 | T29: =IF(OR(H29="",I29="",H29=0),"",90%*(H29-100)+0.5) -> 59.9 | U29: =IF(OR(H29="",I29="",H29=0),"",T29+0.1) -> 60 | V29: =IF(OR(H29="",I29="",H29=0),"",T29+(T29*7.5%)) -> 64.3925 | W29: =IF(OR(H29="",I29="",H29=0),"",V29+0.1) -> 64.4925 | X29: =IF(OR(H29="",I29="",H29=0),"",T29+(T29*12.5%)) -> 67.3875 | Y29: =IF(OR(H29="",I29="",H29=0),"",X29+0.1) -> 67.4875 | Z29: =IF(OR(H29="",I29="",H29=0),"",T29+(T29*15%)) -> 68.885 | AA29: =IF(OR(H29="",I29="",H29=0),"",Z29+0.1) -> 68.985 | AB29: =IF(AC29="LLA","BB lebih"&" "&FIXED((I29-Z29),1) &" kg",IF(AC29="LLB","BB kurang"&" "&FIXED((I29-K29),1)&" kg","")) | AC29: =IF(OR(H29="",I29="", H29=0),"",IF(I29<K29,"LLB",IF(AND(I29>J29,I29<M29),"LB",IF(AND(I29>L29,I29<O29),"NB",IF(AND(I29>N29,I29<Q29),"HB",IF(AND(I29>P29,I29<S29),"IB",IF(AND(I29>R29,I29<U29),"IA",IF(AND(I29>T29,I29<W29),"HA",IF(AND(I29>V29,I29<Y29),"NA",IF(AND(I29>X29,I29<AA29),"LA",IF(I29>=AA29,"LLA",""))))))))))) -> NB | AD29: =IF(AC29="","", VLOOKUP(AC29,NILAI_TB_BB,2)) -> 50 | AE29: 1 | AF29: 3 | AG29: BN= KT / NM-= HP, SDR, HAS | AH29: =IF(OR(AE29="",AF29=""),"", IF(OR(AE29="-",AF29="-"),"-", IF(AE29=0,VLOOKUP(AF29,NSA,2), IF(AE29=1,VLOOKUP(AF29,NSA,3), IF(AE29=2,VLOOKUP(AF29,NSA,4), IF(AE29=3,VLOOKUP(AF29,NSA,5), IF(AE29=4,VLOOKUP(AF29,NSA,6), IF(AE29=5,VLOOKUP(AF29,NSA,7), IF(AE29=6,VLOOKUP(AF29,NSA,8), IF(AE29=7,VLOOKUP(AF29,NSA,9), IF(AE29=8,VLOOKUP(AF29,NSA,10), IF(AE29=9,VLOOKUP(AF29,NSA,11), IF(AE29=10,VLOOKUP(AF29,NSA,12),""))))))))))))) -> 69 | AI29: 1 | AJ29: 2 | AK29: BBN= Tanda lahir / NM-= Berjalan mengangkang, Tangan tremor | AL29: =IF(AM29="","",IF(AM29>=81,"SGP-0",IF(AND(AM29>=61,AM29<=80),"SGP-1",IF(AND(AM29>=41,AM29<=60),"SGP-2",IF(AND(AM29>=21,AM29<=40),"SGP-3",IF(AND(AM29>=0,AM29<=20),"SGP-4","")))))) -> SGP-1 | AM29: =IF(OR(AI29="",AJ29=""),"",IF(AI29=0,VLOOKUP(AJ29,NILAI_SGP,2),IF(AI29=1,VLOOKUP(AJ29,NILAI_SGP,3),IF(AI29=2,VLOOKUP(AJ29,NILAI_SGP,4),IF(AI29=3,VLOOKUP(AJ29,NILAI_SGP,5),IF(AI29=4,VLOOKUP(AJ29,NILAI_SGP,6),IF(AI29=5,VLOOKUP(AJ29,NILAI_SGP,7),IF(AI29=6,VLOOKUP(AJ29,NILAI_SGP,8),IF(AI29=7,VLOOKUP(AJ29,NILAI_SGP,9),IF(AI29=8,VLOOKUP(AJ29,NILAI_SGP,10),IF(AI29=9,VLOOKUP(AJ29,NILAI_SGP,11),IF(AI29=10,VLOOKUP(AJ29,NILAI_SGP,12),"")))))))))))) -> 79 | AN29: =IF(OR(AD29="",AH29="",AM29=""),"",VALUE(FIXED(((AD29+AH29+AM29)/3),2))) -> 66 | AO29: 6 | AP29: 150 | AQ29: =IF(OR(AO29="",AP29="",AO29=0),"",IF(OR(AO29="-",AP29="-"),"-",(AO29*$AO$10)+AP29)) -> 2550 | AR29: =IF(OR(G29="",AQ29="",AQ29=0),"",IF(OR(AO29="-",AP29="-"),"-",IF(G29="P",VLOOKUP(AQ29,LARI12mnt_CALON_PRIA,2),IF(G29="W",VLOOKUP(AQ29,LARI12mnt_CALON_WANITA,2),"")))) -> 49 | AS29: 18 | AT29: =IF(OR(G29="",AS29=""),"", IF(AS29="-","-", IF(G29="P",VLOOKUP(AS29,PULLUP_CALON_PRIA,2),IF(G29="W",VLOOKUP(AS29,CHINNING_CALON_WANITA,2),"")))) -> 100 | AU29: 41 | AV29: =IF(OR(G29="",AU29=""),"", IF(AU29="-","-", IF(G29="P",VLOOKUP(AU29,SITUP_CALON_PRIA,2),IF(G29="W",VLOOKUP(AU29,SITUP_CALON_WANITA,2),"")))) -> 100 | AW29: 45 | AX29: =IF(OR(G29="",AW29=""),"",IF(AW29="-","-", IF(G29="P",VLOOKUP(AW29,LUNGES_CALON_PRIA,2),IF(G29="W",VLOOKUP(AW29,LUNGES_CALON_WANITA,2),"")))) -> 55 | AY29: 43 | AZ29: =IF(OR(G29="",AY29=""),"", IF(AY29="-","-", IF(G29="P",VLOOKUP(AY29,PUSHUP_CALON_PRIA,2),IF(G29="W",VLOOKUP(AY29,MODIFPUSHUP_CALON_WANITA,2),"")))) -> 100 | BA29: 5.05 | BB29: =IF(OR(G29="",BA29="",BA29=0),"",IF(BA29="-","-", IF(G29="P",VLOOKUP(BA29,SHUTTLERUN_CALON_PRIA,2),IF(G29="W",VLOOKUP(BA29,SHUTTLERUN_CALON_WANITA,2),"")))) -> 78 | BC29: =IF(OR(AT29="",AV29="",AX29="",AZ29="",BB29=""),"",IF(OR(AS29="-",AU29="-",AW29="-",AY29="-",BA29="-"),0,VALUE(FIXED(((AT29+AV29+AX29+AZ29+BB29)/5),2)))) -> 86.6 | BD29: =IF(OR(AR29="",BC29=""),"",IF(OR(AS29="-",AU29="-",AW29="-",AY29="-",BA29="-"),0, VALUE(FIXED(((AR29+BC29)/2),2)))) -> 67.8 | BE29: GD | BF29: 1.25 | BG29: =IF(BF29="","",IF(RIGHT(BF29,1)="M","","""")) -> " | BH29: =IF(OR(G29="",AN29="",BD29=""),"", IF(OR(AE29="-",AF29="-",AI29="-",AJ29="-",AS29="-",AU29="-",AW29="-",AY29="-",BA29="-"),0, VALUE(FIXED(((AN29*30%)+(BD29*70%)),2)))) -> 67.26 | BI29: =IF(OR(G29="",BH29=""),"", IF(OR(AE29="-",AF29="-",AI29="-",AJ29="-",AS29="-",AU29="-",AW29="-",BA29="-"),0, IF(AND(BJ29="TL",OR(BH29<=40.99,BH29>=41)),VLOOKUP(BH29,NILAI_KONVERSI,2),IF(BJ29="L",BH29,"")))) -> 67.26 | BJ29: =IF(BH29="","", IF(OR(AQ29="-",AS29="-",AU29="-",AW29="-",AY29="-", BA29="-"),"-", IF(COUNTIF(BS29:CE29,"TL")>=1,"TL","L"))) -> L | BK29: =IF(BJ29="","",CONCATENATE(CH29,CI29,CJ29,CK29,CL29,CM29,CN29,CO29,CP29,CQ29,CR29,CS29,CU29,CT29)) | BS29: =IF(AD29="","",IF(AD29="-","-",IF(AD29<=20,"TL","L"))) -> L | BT29: =IF(AH29="","",IF(AH29="-","-",IF(AH29<=30,"TL","L"))) -> L | BU29: =IF(AM29="","",IF(AM29="-","-",IF(AM29<=20,"TL","L"))) -> L | BV29: =IF(AN29="","",IF(AN29="-","-",IF(AN29<=20.99,"TL","L"))) -> L | BW29: =IF(AR29="","", IF(AR29="-","-", IF(AR29<=34,"TL","L"))) -> L | BX29: =IF(AT29="","",IF(AT29="-","-",IF(G29="P",IF(AT29<=24,"TL",IF(AT29>=25,"L")),IF(G29="W",IF(AT29<=30,"TL",IF(AT29>=31,"L")))))) -> L | BY29: =IF(AV29="","",IF(AV29="-","-",IF(G29="P",IF(AV29<=30,"TL",IF(AV29>=31,"L")),IF(G29="W",IF(AV29<=30,"TL",IF(AV29>=31,"L")))))) -> L | BZ29: =IF(AX29="","",IF(AX29="-","-",IF(G29="P",IF(AX29<=30,"TL",IF(AX29>=31,"L")),IF(G29="W",IF(AX29<=30,"TL",IF(AX29>=31,"L")))))) -> L | CA29: =IF(AZ29="","",IF(AZ29="-","-",IF(G29="P",IF(AZ29<=30,"TL",IF(AZ29>=31,"L")),IF(G29="W",IF(AZ29<=30,"TL",IF(AZ29>=31,"L")))))) -> L | CB29: =IF(BB29="","",IF(BB29="-","-",IF(G29="P",IF(BB29<=30,"TL",IF(BB29>=31,"L")),IF(G29="W",IF(BB29<=30,"TL",IF(BB29>=31,"L")))))) -> L | CC29: =IF(BC29="","", IF(G29="P",IF(BC29<=34.99,"TL", IF(BC29>=35,"L")), IF(G29="W", IF(BC29<=34.99,"TL", IF(BC29>=35,"L"))))) -> L | CD29: =IF(BD29="","", IF(G29="P",IF(BD29<=40.99,"TL", IF(BD29>=41,"L")), IF(G29="W", IF(BD29<=40.99,"TL", IF(BD29>=41,"L"))))) -> L | CE29: =IF(BH29="","",IF(BH29<=40.99,"TL", IF(BH29>=41,"L"))) -> L | CH29: =IF(BS29="TL","BB="&""&AC29&"("&AD29&"), ", "") | CI29: =IF(OR(AE29="-",AF29="-"),"NSA= tdk melaks"&", ",IF(BT29="TL","NSA=N-"&AF29&""&"("&AH29&")"&"("&AG29&")"&", ","")) | CJ29: =IF(AL29="-","SGP= tdk melaks"&", ",IF(BU29="TL",AL29&"="&""&"("&AM29&"), ","")) | CK29: =IF(BV29="TL","NP="&"("&FIXED((AN29),2)&"), ","") | CL29: =IF(AQ29="-","A= tdk melaks"&", ", IF(BW29="TL","A="&"("&AR29&")"&" (Lari Kurang "&(AQ29-2272)&"m), ","")) | CM29: =IF(AS29="-","B1= tdk melaks"&", ",IF(BX29="TL","B1="&"("&AT29&"), ","")) | CN29: =IF(AU29="-","B2= tdk melaks"&", ",IF(BY29="TL","B2="&"("&AV29&"), ","")) | CO29: =IF(AW29="-","B3= tdk melaks"&", ",IF(BZ29="TL","B3="&"("&AX29&"), ","")) | CP29: =IF(BA29="-","B4= tdk melaks"&", ",IF(CA29="TL","B4="&"("&AZ29&"), ","")) | CQ29: =IF(BB29="-","B4= tdk melaks"&", ",IF(CB29="TL","B5="&"("&BB29&"), ","")) | CR29: =IF(CC29="TL","R.B="&"("&FIXED((BC29),2)&"), ", "") | CS29: =IF(CD29="TL","R.AB="&"("&FIXED((BD29),2)&"), ", "") | CT29: =IF(CE29="TL","N.A="&"("&FIXED((BH29),2)&").", "") | CU29: =IF(BF29="-","Renang= tdk melaks"&", ", IF(RIGHT(BF29,1)="M","Renang="&""&BF29&", ",""))
A30: 18 | B30: 18 | C30: MN3658PL | D30: A | E30: 3 | F30: RIAN ARFAWANSYAH | G30: P | H30: 167.4 | I30: 62.7 | J30: =IF(OR(H30="",I30="",H30=0),"",K30-0.1) -> 51.036 | K30: =IF(OR(H30="",I30="",H30=0),"",Q30-(Q30*15%)) -> 51.136 | L30: =IF(OR(H30="",I30="",H30=0),"",M30-0.1) -> 52.54 | M30: =IF(OR(H30="",I30="",H30=0),"",Q30-(Q30*12.5%)) -> 52.64 | N30: =IF(OR(H30="",I30="",H30=0),"",O30-0.1) -> 55.548 | O30: =IF(OR(H30="",I30="",H30=0),"",Q30-(Q30*7.5%)) -> 55.648 | P30: =IF(OR(H30="",I30="",H30=0),"",Q30-0.1) -> 60.06 | Q30: =IF(OR(H30="",I30="",H30=0),"",90%*(H30-100)-0.5) -> 60.16 | R30: =IF(OR(H30="",I30="",H30=0),"",90%*(H30-100)) -> 60.66 | S30: =IF(OR(H30="",I30="",,H30=0),"",R30+0.1) -> 60.76 | T30: =IF(OR(H30="",I30="",H30=0),"",90%*(H30-100)+0.5) -> 61.16 | U30: =IF(OR(H30="",I30="",H30=0),"",T30+0.1) -> 61.26 | V30: =IF(OR(H30="",I30="",H30=0),"",T30+(T30*7.5%)) -> 65.747 | W30: =IF(OR(H30="",I30="",H30=0),"",V30+0.1) -> 65.847 | X30: =IF(OR(H30="",I30="",H30=0),"",T30+(T30*12.5%)) -> 68.805 | Y30: =IF(OR(H30="",I30="",H30=0),"",X30+0.1) -> 68.905 | Z30: =IF(OR(H30="",I30="",H30=0),"",T30+(T30*15%)) -> 70.334 | AA30: =IF(OR(H30="",I30="",H30=0),"",Z30+0.1) -> 70.434 | AB30: =IF(AC30="LLA","BB lebih"&" "&FIXED((I30-Z30),1) &" kg",IF(AC30="LLB","BB kurang"&" "&FIXED((I30-K30),1)&" kg","")) | AC30: =IF(OR(H30="",I30="", H30=0),"",IF(I30<K30,"LLB",IF(AND(I30>J30,I30<M30),"LB",IF(AND(I30>L30,I30<O30),"NB",IF(AND(I30>N30,I30<Q30),"HB",IF(AND(I30>P30,I30<S30),"IB",IF(AND(I30>R30,I30<U30),"IA",IF(AND(I30>T30,I30<W30),"HA",IF(AND(I30>V30,I30<Y30),"NA",IF(AND(I30>X30,I30<AA30),"LA",IF(I30>=AA30,"LLA",""))))))))))) -> HA | AD30: =IF(AC30="","", VLOOKUP(AC30,NILAI_TB_BB,2)) -> 80 | AE30: 0 | AF30: 8 | AG30: NM-= SDR-2, HAS-3, LD, HEX-2 | AH30: =IF(OR(AE30="",AF30=""),"", IF(OR(AE30="-",AF30="-"),"-", IF(AE30=0,VLOOKUP(AF30,NSA,2), IF(AE30=1,VLOOKUP(AF30,NSA,3), IF(AE30=2,VLOOKUP(AF30,NSA,4), IF(AE30=3,VLOOKUP(AF30,NSA,5), IF(AE30=4,VLOOKUP(AF30,NSA,6), IF(AE30=5,VLOOKUP(AF30,NSA,7), IF(AE30=6,VLOOKUP(AF30,NSA,8), IF(AE30=7,VLOOKUP(AF30,NSA,9), IF(AE30=8,VLOOKUP(AF30,NSA,10), IF(AE30=9,VLOOKUP(AF30,NSA,11), IF(AE30=10,VLOOKUP(AF30,NSA,12),""))))))))))))) -> 20 | AI30: 0 | AJ30: 3 | AK30: NM-= Berjalan feminim, Mata sipit, Kulit bercak | AL30: =IF(AM30="","",IF(AM30>=81,"SGP-0",IF(AND(AM30>=61,AM30<=80),"SGP-1",IF(AND(AM30>=41,AM30<=60),"SGP-2",IF(AND(AM30>=21,AM30<=40),"SGP-3",IF(AND(AM30>=0,AM30<=20),"SGP-4","")))))) -> SGP-1 | AM30: =IF(OR(AI30="",AJ30=""),"",IF(AI30=0,VLOOKUP(AJ30,NILAI_SGP,2),IF(AI30=1,VLOOKUP(AJ30,NILAI_SGP,3),IF(AI30=2,VLOOKUP(AJ30,NILAI_SGP,4),IF(AI30=3,VLOOKUP(AJ30,NILAI_SGP,5),IF(AI30=4,VLOOKUP(AJ30,NILAI_SGP,6),IF(AI30=5,VLOOKUP(AJ30,NILAI_SGP,7),IF(AI30=6,VLOOKUP(AJ30,NILAI_SGP,8),IF(AI30=7,VLOOKUP(AJ30,NILAI_SGP,9),IF(AI30=8,VLOOKUP(AJ30,NILAI_SGP,10),IF(AI30=9,VLOOKUP(AJ30,NILAI_SGP,11),IF(AI30=10,VLOOKUP(AJ30,NILAI_SGP,12),"")))))))))))) -> 70 | AN30: =IF(OR(AD30="",AH30="",AM30=""),"",VALUE(FIXED(((AD30+AH30+AM30)/3),2))) -> 56.67 | AO30: 6 | AP30: 290 | AQ30: =IF(OR(AO30="",AP30="",AO30=0),"",IF(OR(AO30="-",AP30="-"),"-",(AO30*$AO$10)+AP30)) -> 2690 | AR30: =IF(OR(G30="",AQ30="",AQ30=0),"",IF(OR(AO30="-",AP30="-"),"-",IF(G30="P",VLOOKUP(AQ30,LARI12mnt_CALON_PRIA,2),IF(G30="W",VLOOKUP(AQ30,LARI12mnt_CALON_WANITA,2),"")))) -> 57 | AS30: 15 | AT30: =IF(OR(G30="",AS30=""),"", IF(AS30="-","-", IF(G30="P",VLOOKUP(AS30,PULLUP_CALON_PRIA,2),IF(G30="W",VLOOKUP(AS30,CHINNING_CALON_WANITA,2),"")))) -> 85 | AU30: 41 | AV30: =IF(OR(G30="",AU30=""),"", IF(AU30="-","-", IF(G30="P",VLOOKUP(AU30,SITUP_CALON_PRIA,2),IF(G30="W",VLOOKUP(AU30,SITUP_CALON_WANITA,2),"")))) -> 100 | AW30: 54 | AX30: =IF(OR(G30="",AW30=""),"",IF(AW30="-","-", IF(G30="P",VLOOKUP(AW30,LUNGES_CALON_PRIA,2),IF(G30="W",VLOOKUP(AW30,LUNGES_CALON_WANITA,2),"")))) -> 100 | AY30: 43 | AZ30: =IF(OR(G30="",AY30=""),"", IF(AY30="-","-", IF(G30="P",VLOOKUP(AY30,PUSHUP_CALON_PRIA,2),IF(G30="W",VLOOKUP(AY30,MODIFPUSHUP_CALON_WANITA,2),"")))) -> 100 | BA30: 5.05 | BB30: =IF(OR(G30="",BA30="",BA30=0),"",IF(BA30="-","-", IF(G30="P",VLOOKUP(BA30,SHUTTLERUN_CALON_PRIA,2),IF(G30="W",VLOOKUP(BA30,SHUTTLERUN_CALON_WANITA,2),"")))) -> 78 | BC30: =IF(OR(AT30="",AV30="",AX30="",AZ30="",BB30=""),"",IF(OR(AS30="-",AU30="-",AW30="-",AY30="-",BA30="-"),0,VALUE(FIXED(((AT30+AV30+AX30+AZ30+BB30)/5),2)))) -> 92.6 | BD30: =IF(OR(AR30="",BC30=""),"",IF(OR(AS30="-",AU30="-",AW30="-",AY30="-",BA30="-"),0, VALUE(FIXED(((AR30+BC30)/2),2)))) -> 74.8 | BE30: GD | BF30: 1.17 | BG30: =IF(BF30="","",IF(RIGHT(BF30,1)="M","","""")) -> " | BH30: =IF(OR(G30="",AN30="",BD30=""),"", IF(OR(AE30="-",AF30="-",AI30="-",AJ30="-",AS30="-",AU30="-",AW30="-",AY30="-",BA30="-"),0, VALUE(FIXED(((AN30*30%)+(BD30*70%)),2)))) -> 69.36 | BI30: =IF(OR(G30="",BH30=""),"", IF(OR(AE30="-",AF30="-",AI30="-",AJ30="-",AS30="-",AU30="-",AW30="-",BA30="-"),0, IF(AND(BJ30="TL",OR(BH30<=40.99,BH30>=41)),VLOOKUP(BH30,NILAI_KONVERSI,2),IF(BJ30="L",BH30,"")))) -> 37 | BJ30: =IF(BH30="","", IF(OR(AQ30="-",AS30="-",AU30="-",AW30="-",AY30="-", BA30="-"),"-", IF(COUNTIF(BS30:CE30,"TL")>=1,"TL","L"))) -> TL | BK30: =IF(BJ30="","",CONCATENATE(CH30,CI30,CJ30,CK30,CL30,CM30,CN30,CO30,CP30,CQ30,CR30,CS30,CU30,CT30)) -> NSA=N-8(20)(NM-= SDR-2, HAS-3, LD, HEX-2), | BS30: =IF(AD30="","",IF(AD30="-","-",IF(AD30<=20,"TL","L"))) -> L | BT30: =IF(AH30="","",IF(AH30="-","-",IF(AH30<=30,"TL","L"))) -> TL | BU30: =IF(AM30="","",IF(AM30="-","-",IF(AM30<=20,"TL","L"))) -> L | BV30: =IF(AN30="","",IF(AN30="-","-",IF(AN30<=20.99,"TL","L"))) -> L | BW30: =IF(AR30="","", IF(AR30="-","-", IF(AR30<=34,"TL","L"))) -> L | BX30: =IF(AT30="","",IF(AT30="-","-",IF(G30="P",IF(AT30<=24,"TL",IF(AT30>=25,"L")),IF(G30="W",IF(AT30<=30,"TL",IF(AT30>=31,"L")))))) -> L | BY30: =IF(AV30="","",IF(AV30="-","-",IF(G30="P",IF(AV30<=30,"TL",IF(AV30>=31,"L")),IF(G30="W",IF(AV30<=30,"TL",IF(AV30>=31,"L")))))) -> L | BZ30: =IF(AX30="","",IF(AX30="-","-",IF(G30="P",IF(AX30<=30,"TL",IF(AX30>=31,"L")),IF(G30="W",IF(AX30<=30,"TL",IF(AX30>=31,"L")))))) -> L | CA30: =IF(AZ30="","",IF(AZ30="-","-",IF(G30="P",IF(AZ30<=30,"TL",IF(AZ30>=31,"L")),IF(G30="W",IF(AZ30<=30,"TL",IF(AZ30>=31,"L")))))) -> L | CB30: =IF(BB30="","",IF(BB30="-","-",IF(G30="P",IF(BB30<=30,"TL",IF(BB30>=31,"L")),IF(G30="W",IF(BB30<=30,"TL",IF(BB30>=31,"L")))))) -> L | CC30: =IF(BC30="","", IF(G30="P",IF(BC30<=34.99,"TL", IF(BC30>=35,"L")), IF(G30="W", IF(BC30<=34.99,"TL", IF(BC30>=35,"L"))))) -> L | CD30: =IF(BD30="","", IF(G30="P",IF(BD30<=40.99,"TL", IF(BD30>=41,"L")), IF(G30="W", IF(BD30<=40.99,"TL", IF(BD30>=41,"L"))))) -> L | CE30: =IF(BH30="","",IF(BH30<=40.99,"TL", IF(BH30>=41,"L"))) -> L | CH30: =IF(BS30="TL","BB="&""&AC30&"("&AD30&"), ", "") | CI30: =IF(OR(AE30="-",AF30="-"),"NSA= tdk melaks"&", ",IF(BT30="TL","NSA=N-"&AF30&""&"("&AH30&")"&"("&AG30&")"&", ","")) -> NSA=N-8(20)(NM-= SDR-2, HAS-3, LD, HEX-2), | CJ30: =IF(AL30="-","SGP= tdk melaks"&", ",IF(BU30="TL",AL30&"="&""&"("&AM30&"), ","")) | CK30: =IF(BV30="TL","NP="&"("&FIXED((AN30),2)&"), ","") | CL30: =IF(AQ30="-","A= tdk melaks"&", ", IF(BW30="TL","A="&"("&AR30&")"&" (Lari Kurang "&(AQ30-2272)&"m), ","")) | CM30: =IF(AS30="-","B1= tdk melaks"&", ",IF(BX30="TL","B1="&"("&AT30&"), ","")) | CN30: =IF(AU30="-","B2= tdk melaks"&", ",IF(BY30="TL","B2="&"("&AV30&"), ","")) | CO30: =IF(AW30="-","B3= tdk melaks"&", ",IF(BZ30="TL","B3="&"("&AX30&"), ","")) | CP30: =IF(BA30="-","B4= tdk melaks"&", ",IF(CA30="TL","B4="&"("&AZ30&"), ","")) | CQ30: =IF(BB30="-","B4= tdk melaks"&", ",IF(CB30="TL","B5="&"("&BB30&"), ","")) | CR30: =IF(CC30="TL","R.B="&"("&FIXED((BC30),2)&"), ", "") | CS30: =IF(CD30="TL","R.AB="&"("&FIXED((BD30),2)&"), ", "") | CT30: =IF(CE30="TL","N.A="&"("&FIXED((BH30),2)&").", "") | CU30: =IF(BF30="-","Renang= tdk melaks"&", ", IF(RIGHT(BF30,1)="M","Renang="&""&BF30&", ",""))
A31: 19 | B31: 19 | C31: MN3659PL | D31: A | E31: 4 | F31: RUSLI | G31: P | H31: 172.2 | I31: 61.1 | J31: =IF(OR(H31="",I31="",H31=0),"",K31-0.1) -> 54.708 | K31: =IF(OR(H31="",I31="",H31=0),"",Q31-(Q31*15%)) -> 54.808 | L31: =IF(OR(H31="",I31="",H31=0),"",M31-0.1) -> 56.32 | M31: =IF(OR(H31="",I31="",H31=0),"",Q31-(Q31*12.5%)) -> 56.42 | N31: =IF(OR(H31="",I31="",H31=0),"",O31-0.1) -> 59.544 | O31: =IF(OR(H31="",I31="",H31=0),"",Q31-(Q31*7.5%)) -> 59.644 | P31: =IF(OR(H31="",I31="",H31=0),"",Q31-0.1) -> 64.38 | Q31: =IF(OR(H31="",I31="",H31=0),"",90%*(H31-100)-0.5) -> 64.48 | R31: =IF(OR(H31="",I31="",H31=0),"",90%*(H31-100)) -> 64.98 | S31: =IF(OR(H31="",I31="",,H31=0),"",R31+0.1) -> 65.08 | T31: =IF(OR(H31="",I31="",H31=0),"",90%*(H31-100)+0.5) -> 65.48 | U31: =IF(OR(H31="",I31="",H31=0),"",T31+0.1) -> 65.58 | V31: =IF(OR(H31="",I31="",H31=0),"",T31+(T31*7.5%)) -> 70.391 | W31: =IF(OR(H31="",I31="",H31=0),"",V31+0.1) -> 70.491 | X31: =IF(OR(H31="",I31="",H31=0),"",T31+(T31*12.5%)) -> 73.665 | Y31: =IF(OR(H31="",I31="",H31=0),"",X31+0.1) -> 73.765 | Z31: =IF(OR(H31="",I31="",H31=0),"",T31+(T31*15%)) -> 75.302 | AA31: =IF(OR(H31="",I31="",H31=0),"",Z31+0.1) -> 75.402 | AB31: =IF(AC31="LLA","BB lebih"&" "&FIXED((I31-Z31),1) &" kg",IF(AC31="LLB","BB kurang"&" "&FIXED((I31-K31),1)&" kg","")) | AC31: =IF(OR(H31="",I31="", H31=0),"",IF(I31<K31,"LLB",IF(AND(I31>J31,I31<M31),"LB",IF(AND(I31>L31,I31<O31),"NB",IF(AND(I31>N31,I31<Q31),"HB",IF(AND(I31>P31,I31<S31),"IB",IF(AND(I31>R31,I31<U31),"IA",IF(AND(I31>T31,I31<W31),"HA",IF(AND(I31>V31,I31<Y31),"NA",IF(AND(I31>X31,I31<AA31),"LA",IF(I31>=AA31,"LLA",""))))))))))) -> HB | AD31: =IF(AC31="","", VLOOKUP(AC31,NILAI_TB_BB,2)) -> 70 | AE31: 0 | AF31: 7 | AG31: NM-= HA, SDL, HAS-2, XBEEN-2, HAP | AH31: =IF(OR(AE31="",AF31=""),"", IF(OR(AE31="-",AF31="-"),"-", IF(AE31=0,VLOOKUP(AF31,NSA,2), IF(AE31=1,VLOOKUP(AF31,NSA,3), IF(AE31=2,VLOOKUP(AF31,NSA,4), IF(AE31=3,VLOOKUP(AF31,NSA,5), IF(AE31=4,VLOOKUP(AF31,NSA,6), IF(AE31=5,VLOOKUP(AF31,NSA,7), IF(AE31=6,VLOOKUP(AF31,NSA,8), IF(AE31=7,VLOOKUP(AF31,NSA,9), IF(AE31=8,VLOOKUP(AF31,NSA,10), IF(AE31=9,VLOOKUP(AF31,NSA,11), IF(AE31=10,VLOOKUP(AF31,NSA,12),""))))))))))))) -> 30 | AI31: 1 | AJ31: 2 | AK31: BN= Berjalan mengangkang / nm-= Telinga kelelawar, Gigi bertaring | AL31: =IF(AM31="","",IF(AM31>=81,"SGP-0",IF(AND(AM31>=61,AM31<=80),"SGP-1",IF(AND(AM31>=41,AM31<=60),"SGP-2",IF(AND(AM31>=21,AM31<=40),"SGP-3",IF(AND(AM31>=0,AM31<=20),"SGP-4","")))))) -> SGP-1 | AM31: =IF(OR(AI31="",AJ31=""),"",IF(AI31=0,VLOOKUP(AJ31,NILAI_SGP,2),IF(AI31=1,VLOOKUP(AJ31,NILAI_SGP,3),IF(AI31=2,VLOOKUP(AJ31,NILAI_SGP,4),IF(AI31=3,VLOOKUP(AJ31,NILAI_SGP,5),IF(AI31=4,VLOOKUP(AJ31,NILAI_SGP,6),IF(AI31=5,VLOOKUP(AJ31,NILAI_SGP,7),IF(AI31=6,VLOOKUP(AJ31,NILAI_SGP,8),IF(AI31=7,VLOOKUP(AJ31,NILAI_SGP,9),IF(AI31=8,VLOOKUP(AJ31,NILAI_SGP,10),IF(AI31=9,VLOOKUP(AJ31,NILAI_SGP,11),IF(AI31=10,VLOOKUP(AJ31,NILAI_SGP,12),"")))))))))))) -> 79 | AN31: =IF(OR(AD31="",AH31="",AM31=""),"",VALUE(FIXED(((AD31+AH31+AM31)/3),2))) -> 59.67 | AO31: 6 | AP31: 280 | AQ31: =IF(OR(AO31="",AP31="",AO31=0),"",IF(OR(AO31="-",AP31="-"),"-",(AO31*$AO$10)+AP31)) -> 2680 | AR31: =IF(OR(G31="",AQ31="",AQ31=0),"",IF(OR(AO31="-",AP31="-"),"-",IF(G31="P",VLOOKUP(AQ31,LARI12mnt_CALON_PRIA,2),IF(G31="W",VLOOKUP(AQ31,LARI12mnt_CALON_WANITA,2),"")))) -> 56 | AS31: 18 | AT31: =IF(OR(G31="",AS31=""),"", IF(AS31="-","-", IF(G31="P",VLOOKUP(AS31,PULLUP_CALON_PRIA,2),IF(G31="W",VLOOKUP(AS31,CHINNING_CALON_WANITA,2),"")))) -> 100 | AU31: 41 | AV31: =IF(OR(G31="",AU31=""),"", IF(AU31="-","-", IF(G31="P",VLOOKUP(AU31,SITUP_CALON_PRIA,2),IF(G31="W",VLOOKUP(AU31,SITUP_CALON_WANITA,2),"")))) -> 100 | AW31: 54 | AX31: =IF(OR(G31="",AW31=""),"",IF(AW31="-","-", IF(G31="P",VLOOKUP(AW31,LUNGES_CALON_PRIA,2),IF(G31="W",VLOOKUP(AW31,LUNGES_CALON_WANITA,2),"")))) -> 100 | AY31: 39 | AZ31: =IF(OR(G31="",AY31=""),"", IF(AY31="-","-", IF(G31="P",VLOOKUP(AY31,PUSHUP_CALON_PRIA,2),IF(G31="W",VLOOKUP(AY31,MODIFPUSHUP_CALON_WANITA,2),"")))) -> 92 | BA31: 5.4 | BB31: =IF(OR(G31="",BA31="",BA31=0),"",IF(BA31="-","-", IF(G31="P",VLOOKUP(BA31,SHUTTLERUN_CALON_PRIA,2),IF(G31="W",VLOOKUP(BA31,SHUTTLERUN_CALON_WANITA,2),"")))) -> 67 | BC31: =IF(OR(AT31="",AV31="",AX31="",AZ31="",BB31=""),"",IF(OR(AS31="-",AU31="-",AW31="-",AY31="-",BA31="-"),0,VALUE(FIXED(((AT31+AV31+AX31+AZ31+BB31)/5),2)))) -> 91.8 | BD31: =IF(OR(AR31="",BC31=""),"",IF(OR(AS31="-",AU31="-",AW31="-",AY31="-",BA31="-"),0, VALUE(FIXED(((AR31+BC31)/2),2)))) -> 73.9 | BE31: GD | BF31: 0.56 | BG31: =IF(BF31="","",IF(RIGHT(BF31,1)="M","","""")) -> " | BH31: =IF(OR(G31="",AN31="",BD31=""),"", IF(OR(AE31="-",AF31="-",AI31="-",AJ31="-",AS31="-",AU31="-",AW31="-",AY31="-",BA31="-"),0, VALUE(FIXED(((AN31*30%)+(BD31*70%)),2)))) -> 69.63 | BI31: =IF(OR(G31="",BH31=""),"", IF(OR(AE31="-",AF31="-",AI31="-",AJ31="-",AS31="-",AU31="-",AW31="-",BA31="-"),0, IF(AND(BJ31="TL",OR(BH31<=40.99,BH31>=41)),VLOOKUP(BH31,NILAI_KONVERSI,2),IF(BJ31="L",BH31,"")))) -> 37 | BJ31: =IF(BH31="","", IF(OR(AQ31="-",AS31="-",AU31="-",AW31="-",AY31="-", BA31="-"),"-", IF(COUNTIF(BS31:CE31,"TL")>=1,"TL","L"))) -> TL | BK31: =IF(BJ31="","",CONCATENATE(CH31,CI31,CJ31,CK31,CL31,CM31,CN31,CO31,CP31,CQ31,CR31,CS31,CU31,CT31)) -> NSA=N-7(30)(NM-= HA, SDL, HAS-2, XBEEN-2, HAP), | BS31: =IF(AD31="","",IF(AD31="-","-",IF(AD31<=20,"TL","L"))) -> L | BT31: =IF(AH31="","",IF(AH31="-","-",IF(AH31<=30,"TL","L"))) -> TL | BU31: =IF(AM31="","",IF(AM31="-","-",IF(AM31<=20,"TL","L"))) -> L | BV31: =IF(AN31="","",IF(AN31="-","-",IF(AN31<=20.99,"TL","L"))) -> L | BW31: =IF(AR31="","", IF(AR31="-","-", IF(AR31<=34,"TL","L"))) -> L | BX31: =IF(AT31="","",IF(AT31="-","-",IF(G31="P",IF(AT31<=24,"TL",IF(AT31>=25,"L")),IF(G31="W",IF(AT31<=30,"TL",IF(AT31>=31,"L")))))) -> L | BY31: =IF(AV31="","",IF(AV31="-","-",IF(G31="P",IF(AV31<=30,"TL",IF(AV31>=31,"L")),IF(G31="W",IF(AV31<=30,"TL",IF(AV31>=31,"L")))))) -> L | BZ31: =IF(AX31="","",IF(AX31="-","-",IF(G31="P",IF(AX31<=30,"TL",IF(AX31>=31,"L")),IF(G31="W",IF(AX31<=30,"TL",IF(AX31>=31,"L")))))) -> L | CA31: =IF(AZ31="","",IF(AZ31="-","-",IF(G31="P",IF(AZ31<=30,"TL",IF(AZ31>=31,"L")),IF(G31="W",IF(AZ31<=30,"TL",IF(AZ31>=31,"L")))))) -> L | CB31: =IF(BB31="","",IF(BB31="-","-",IF(G31="P",IF(BB31<=30,"TL",IF(BB31>=31,"L")),IF(G31="W",IF(BB31<=30,"TL",IF(BB31>=31,"L")))))) -> L | CC31: =IF(BC31="","", IF(G31="P",IF(BC31<=34.99,"TL", IF(BC31>=35,"L")), IF(G31="W", IF(BC31<=34.99,"TL", IF(BC31>=35,"L"))))) -> L | CD31: =IF(BD31="","", IF(G31="P",IF(BD31<=40.99,"TL", IF(BD31>=41,"L")), IF(G31="W", IF(BD31<=40.99,"TL", IF(BD31>=41,"L"))))) -> L | CE31: =IF(BH31="","",IF(BH31<=40.99,"TL", IF(BH31>=41,"L"))) -> L | CH31: =IF(BS31="TL","BB="&""&AC31&"("&AD31&"), ", "") | CI31: =IF(OR(AE31="-",AF31="-"),"NSA= tdk melaks"&", ",IF(BT31="TL","NSA=N-"&AF31&""&"("&AH31&")"&"("&AG31&")"&", ","")) -> NSA=N-7(30)(NM-= HA, SDL, HAS-2, XBEEN-2, HAP), | CJ31: =IF(AL31="-","SGP= tdk melaks"&", ",IF(BU31="TL",AL31&"="&""&"("&AM31&"), ","")) | CK31: =IF(BV31="TL","NP="&"("&FIXED((AN31),2)&"), ","") | CL31: =IF(AQ31="-","A= tdk melaks"&", ", IF(BW31="TL","A="&"("&AR31&")"&" (Lari Kurang "&(AQ31-2272)&"m), ","")) | CM31: =IF(AS31="-","B1= tdk melaks"&", ",IF(BX31="TL","B1="&"("&AT31&"), ","")) | CN31: =IF(AU31="-","B2= tdk melaks"&", ",IF(BY31="TL","B2="&"("&AV31&"), ","")) | CO31: =IF(AW31="-","B3= tdk melaks"&", ",IF(BZ31="TL","B3="&"("&AX31&"), ","")) | CP31: =IF(BA31="-","B4= tdk melaks"&", ",IF(CA31="TL","B4="&"("&AZ31&"), ","")) | CQ31: =IF(BB31="-","B4= tdk melaks"&", ",IF(CB31="TL","B5="&"("&BB31&"), ","")) | CR31: =IF(CC31="TL","R.B="&"("&FIXED((BC31),2)&"), ", "") | CS31: =IF(CD31="TL","R.AB="&"("&FIXED((BD31),2)&"), ", "") | CT31: =IF(CE31="TL","N.A="&"("&FIXED((BH31),2)&").", "") | CU31: =IF(BF31="-","Renang= tdk melaks"&", ", IF(RIGHT(BF31,1)="M","Renang="&""&BF31&", ",""))
A32: 20 | B32: 20 | C32: MN3660PL | D32: A | E32: 31 | F32: ARPAN A | G32: P | H32: 174.5 | I32: 62.3 | J32: =IF(OR(H32="",I32="",H32=0),"",K32-0.1) -> 56.4675 | K32: =IF(OR(H32="",I32="",H32=0),"",Q32-(Q32*15%)) -> 56.5675 | L32: =IF(OR(H32="",I32="",H32=0),"",M32-0.1) -> 58.13125 | M32: =IF(OR(H32="",I32="",H32=0),"",Q32-(Q32*12.5%)) -> 58.23125 | N32: =IF(OR(H32="",I32="",H32=0),"",O32-0.1) -> 61.45875 | O32: =IF(OR(H32="",I32="",H32=0),"",Q32-(Q32*7.5%)) -> 61.55875 | P32: =IF(OR(H32="",I32="",H32=0),"",Q32-0.1) -> 66.45 | Q32: =IF(OR(H32="",I32="",H32=0),"",90%*(H32-100)-0.5) -> 66.55 | R32: =IF(OR(H32="",I32="",H32=0),"",90%*(H32-100)) -> 67.05 | S32: =IF(OR(H32="",I32="",,H32=0),"",R32+0.1) -> 67.15 | T32: =IF(OR(H32="",I32="",H32=0),"",90%*(H32-100)+0.5) -> 67.55 | U32: =IF(OR(H32="",I32="",H32=0),"",T32+0.1) -> 67.65 | V32: =IF(OR(H32="",I32="",H32=0),"",T32+(T32*7.5%)) -> 72.61625 | W32: =IF(OR(H32="",I32="",H32=0),"",V32+0.1) -> 72.71625 | X32: =IF(OR(H32="",I32="",H32=0),"",T32+(T32*12.5%)) -> 75.99375 | Y32: =IF(OR(H32="",I32="",H32=0),"",X32+0.1) -> 76.09375 | Z32: =IF(OR(H32="",I32="",H32=0),"",T32+(T32*15%)) -> 77.6825 | AA32: =IF(OR(H32="",I32="",H32=0),"",Z32+0.1) -> 77.7825 | AB32: =IF(AC32="LLA","BB lebih"&" "&FIXED((I32-Z32),1) &" kg",IF(AC32="LLB","BB kurang"&" "&FIXED((I32-K32),1)&" kg","")) | AC32: =IF(OR(H32="",I32="", H32=0),"",IF(I32<K32,"LLB",IF(AND(I32>J32,I32<M32),"LB",IF(AND(I32>L32,I32<O32),"NB",IF(AND(I32>N32,I32<Q32),"HB",IF(AND(I32>P32,I32<S32),"IB",IF(AND(I32>R32,I32<U32),"IA",IF(AND(I32>T32,I32<W32),"HA",IF(AND(I32>V32,I32<Y32),"NA",IF(AND(I32>X32,I32<AA32),"LA",IF(I32>=AA32,"LLA",""))))))))))) -> HB | AD32: =IF(AC32="","", VLOOKUP(AC32,NILAI_TB_BB,2)) -> 70 | AE32: 1 | AF32: 6 | AG32: BN= SDR / NM-= HAS, LD-2, KP, OBEEN, HAP | AH32: =IF(OR(AE32="",AF32=""),"", IF(OR(AE32="-",AF32="-"),"-", IF(AE32=0,VLOOKUP(AF32,NSA,2), IF(AE32=1,VLOOKUP(AF32,NSA,3), IF(AE32=2,VLOOKUP(AF32,NSA,4), IF(AE32=3,VLOOKUP(AF32,NSA,5), IF(AE32=4,VLOOKUP(AF32,NSA,6), IF(AE32=5,VLOOKUP(AF32,NSA,7), IF(AE32=6,VLOOKUP(AF32,NSA,8), IF(AE32=7,VLOOKUP(AF32,NSA,9), IF(AE32=8,VLOOKUP(AF32,NSA,10), IF(AE32=9,VLOOKUP(AF32,NSA,11), IF(AE32=10,VLOOKUP(AF32,NSA,12),""))))))))))))) -> 39 | AI32: 1 | AJ32: 1 | AK32: BN= Hidung besar / NM-= Bibir tidak simetris | AL32: =IF(AM32="","",IF(AM32>=81,"SGP-0",IF(AND(AM32>=61,AM32<=80),"SGP-1",IF(AND(AM32>=41,AM32<=60),"SGP-2",IF(AND(AM32>=21,AM32<=40),"SGP-3",IF(AND(AM32>=0,AM32<=20),"SGP-4","")))))) -> SGP-0 | AM32: =IF(OR(AI32="",AJ32=""),"",IF(AI32=0,VLOOKUP(AJ32,NILAI_SGP,2),IF(AI32=1,VLOOKUP(AJ32,NILAI_SGP,3),IF(AI32=2,VLOOKUP(AJ32,NILAI_SGP,4),IF(AI32=3,VLOOKUP(AJ32,NILAI_SGP,5),IF(AI32=4,VLOOKUP(AJ32,NILAI_SGP,6),IF(AI32=5,VLOOKUP(AJ32,NILAI_SGP,7),IF(AI32=6,VLOOKUP(AJ32,NILAI_SGP,8),IF(AI32=7,VLOOKUP(AJ32,NILAI_SGP,9),IF(AI32=8,VLOOKUP(AJ32,NILAI_SGP,10),IF(AI32=9,VLOOKUP(AJ32,NILAI_SGP,11),IF(AI32=10,VLOOKUP(AJ32,NILAI_SGP,12),"")))))))))))) -> 89 | AN32: =IF(OR(AD32="",AH32="",AM32=""),"",VALUE(FIXED(((AD32+AH32+AM32)/3),2))) -> 66 | AO32: 7 | AP32: 180 | AQ32: =IF(OR(AO32="",AP32="",AO32=0),"",IF(OR(AO32="-",AP32="-"),"-",(AO32*$AO$10)+AP32)) -> 2980 | AR32: =IF(OR(G32="",AQ32="",AQ32=0),"",IF(OR(AO32="-",AP32="-"),"-",IF(G32="P",VLOOKUP(AQ32,LARI12mnt_CALON_PRIA,2),IF(G32="W",VLOOKUP(AQ32,LARI12mnt_CALON_WANITA,2),"")))) -> 72 | AS32: 16 | AT32: =IF(OR(G32="",AS32=""),"", IF(AS32="-","-", IF(G32="P",VLOOKUP(AS32,PULLUP_CALON_PRIA,2),IF(G32="W",VLOOKUP(AS32,CHINNING_CALON_WANITA,2),"")))) -> 90 | AU32: 41 | AV32: =IF(OR(G32="",AU32=""),"", IF(AU32="-","-", IF(G32="P",VLOOKUP(AU32,SITUP_CALON_PRIA,2),IF(G32="W",VLOOKUP(AU32,SITUP_CALON_WANITA,2),"")))) -> 100 | AW32: 54 | AX32: =IF(OR(G32="",AW32=""),"",IF(AW32="-","-", IF(G32="P",VLOOKUP(AW32,LUNGES_CALON_PRIA,2),IF(G32="W",VLOOKUP(AW32,LUNGES_CALON_WANITA,2),"")))) -> 100 | AY32: 43 | AZ32: =IF(OR(G32="",AY32=""),"", IF(AY32="-","-", IF(G32="P",VLOOKUP(AY32,PUSHUP_CALON_PRIA,2),IF(G32="W",VLOOKUP(AY32,MODIFPUSHUP_CALON_WANITA,2),"")))) -> 100 | BA32: 5.03 | BB32: =IF(OR(G32="",BA32="",BA32=0),"",IF(BA32="-","-", IF(G32="P",VLOOKUP(BA32,SHUTTLERUN_CALON_PRIA,2),IF(G32="W",VLOOKUP(BA32,SHUTTLERUN_CALON_WANITA,2),"")))) -> 79 | BC32: =IF(OR(AT32="",AV32="",AX32="",AZ32="",BB32=""),"",IF(OR(AS32="-",AU32="-",AW32="-",AY32="-",BA32="-"),0,VALUE(FIXED(((AT32+AV32+AX32+AZ32+BB32)/5),2)))) -> 93.8 | BD32: =IF(OR(AR32="",BC32=""),"",IF(OR(AS32="-",AU32="-",AW32="-",AY32="-",BA32="-"),0, VALUE(FIXED(((AR32+BC32)/2),2)))) -> 82.9 | BE32: GD | BF32: 0.55 | BG32: =IF(BF32="","",IF(RIGHT(BF32,1)="M","","""")) -> " | BH32: =IF(OR(G32="",AN32="",BD32=""),"", IF(OR(AE32="-",AF32="-",AI32="-",AJ32="-",AS32="-",AU32="-",AW32="-",AY32="-",BA32="-"),0, VALUE(FIXED(((AN32*30%)+(BD32*70%)),2)))) -> 77.83 | BI32: =IF(OR(G32="",BH32=""),"", IF(OR(AE32="-",AF32="-",AI32="-",AJ32="-",AS32="-",AU32="-",AW32="-",BA32="-"),0, IF(AND(BJ32="TL",OR(BH32<=40.99,BH32>=41)),VLOOKUP(BH32,NILAI_KONVERSI,2),IF(BJ32="L",BH32,"")))) -> 77.83 | BJ32: =IF(BH32="","", IF(OR(AQ32="-",AS32="-",AU32="-",AW32="-",AY32="-", BA32="-"),"-", IF(COUNTIF(BS32:CE32,"TL")>=1,"TL","L"))) -> L | BK32: =IF(BJ32="","",CONCATENATE(CH32,CI32,CJ32,CK32,CL32,CM32,CN32,CO32,CP32,CQ32,CR32,CS32,CU32,CT32)) | BS32: =IF(AD32="","",IF(AD32="-","-",IF(AD32<=20,"TL","L"))) -> L | BT32: =IF(AH32="","",IF(AH32="-","-",IF(AH32<=30,"TL","L"))) -> L | BU32: =IF(AM32="","",IF(AM32="-","-",IF(AM32<=20,"TL","L"))) -> L | BV32: =IF(AN32="","",IF(AN32="-","-",IF(AN32<=20.99,"TL","L"))) -> L | BW32: =IF(AR32="","", IF(AR32="-","-", IF(AR32<=34,"TL","L"))) -> L | BX32: =IF(AT32="","",IF(AT32="-","-",IF(G32="P",IF(AT32<=24,"TL",IF(AT32>=25,"L")),IF(G32="W",IF(AT32<=30,"TL",IF(AT32>=31,"L")))))) -> L | BY32: =IF(AV32="","",IF(AV32="-","-",IF(G32="P",IF(AV32<=30,"TL",IF(AV32>=31,"L")),IF(G32="W",IF(AV32<=30,"TL",IF(AV32>=31,"L")))))) -> L | BZ32: =IF(AX32="","",IF(AX32="-","-",IF(G32="P",IF(AX32<=30,"TL",IF(AX32>=31,"L")),IF(G32="W",IF(AX32<=30,"TL",IF(AX32>=31,"L")))))) -> L | CA32: =IF(AZ32="","",IF(AZ32="-","-",IF(G32="P",IF(AZ32<=30,"TL",IF(AZ32>=31,"L")),IF(G32="W",IF(AZ32<=30,"TL",IF(AZ32>=31,"L")))))) -> L | CB32: =IF(BB32="","",IF(BB32="-","-",IF(G32="P",IF(BB32<=30,"TL",IF(BB32>=31,"L")),IF(G32="W",IF(BB32<=30,"TL",IF(BB32>=31,"L")))))) -> L | CC32: =IF(BC32="","", IF(G32="P",IF(BC32<=34.99,"TL", IF(BC32>=35,"L")), IF(G32="W", IF(BC32<=34.99,"TL", IF(BC32>=35,"L"))))) -> L | CD32: =IF(BD32="","", IF(G32="P",IF(BD32<=40.99,"TL", IF(BD32>=41,"L")), IF(G32="W", IF(BD32<=40.99,"TL", IF(BD32>=41,"L"))))) -> L | CE32: =IF(BH32="","",IF(BH32<=40.99,"TL", IF(BH32>=41,"L"))) -> L | CH32: =IF(BS32="TL","BB="&""&AC32&"("&AD32&"), ", "") | CI32: =IF(OR(AE32="-",AF32="-"),"NSA= tdk melaks"&", ",IF(BT32="TL","NSA=N-"&AF32&""&"("&AH32&")"&"("&AG32&")"&", ","")) | CJ32: =IF(AL32="-","SGP= tdk melaks"&", ",IF(BU32="TL",AL32&"="&""&"("&AM32&"), ","")) | CK32: =IF(BV32="TL","NP="&"("&FIXED((AN32),2)&"), ","") | CL32: =IF(AQ32="-","A= tdk melaks"&", ", IF(BW32="TL","A="&"("&AR32&")"&" (Lari Kurang "&(AQ32-2272)&"m), ","")) | CM32: =IF(AS32="-","B1= tdk melaks"&", ",IF(BX32="TL","B1="&"("&AT32&"), ","")) | CN32: =IF(AU32="-","B2= tdk melaks"&", ",IF(BY32="TL","B2="&"("&AV32&"), ","")) | CO32: =IF(AW32="-","B3= tdk melaks"&", ",IF(BZ32="TL","B3="&"("&AX32&"), ","")) | CP32: =IF(BA32="-","B4= tdk melaks"&", ",IF(CA32="TL","B4="&"("&AZ32&"), ","")) | CQ32: =IF(BB32="-","B4= tdk melaks"&", ",IF(CB32="TL","B5="&"("&BB32&"), ","")) | CR32: =IF(CC32="TL","R.B="&"("&FIXED((BC32),2)&"), ", "") | CS32: =IF(CD32="TL","R.AB="&"("&FIXED((BD32),2)&"), ", "") | CT32: =IF(CE32="TL","N.A="&"("&FIXED((BH32),2)&").", "") | CU32: =IF(BF32="-","Renang= tdk melaks"&", ", IF(RIGHT(BF32,1)="M","Renang="&""&BF32&", ",""))
A33: 21 | B33: 21 | C33: MN3661PL | D33: A | E33: 5 | F33: ABD MAHFUDZ | G33: P | H33: 169.6 | I33: 62.3 | J33: =IF(OR(H33="",I33="",H33=0),"",K33-0.1) -> 52.719 | K33: =IF(OR(H33="",I33="",H33=0),"",Q33-(Q33*15%)) -> 52.819 | L33: =IF(OR(H33="",I33="",H33=0),"",M33-0.1) -> 54.2725 | M33: =IF(OR(H33="",I33="",H33=0),"",Q33-(Q33*12.5%)) -> 54.3725 | N33: =IF(OR(H33="",I33="",H33=0),"",O33-0.1) -> 57.3795 | O33: =IF(OR(H33="",I33="",H33=0),"",Q33-(Q33*7.5%)) -> 57.4795 | P33: =IF(OR(H33="",I33="",H33=0),"",Q33-0.1) -> 62.04 | Q33: =IF(OR(H33="",I33="",H33=0),"",90%*(H33-100)-0.5) -> 62.14 | R33: =IF(OR(H33="",I33="",H33=0),"",90%*(H33-100)) -> 62.64 | S33: =IF(OR(H33="",I33="",,H33=0),"",R33+0.1) -> 62.74 | T33: =IF(OR(H33="",I33="",H33=0),"",90%*(H33-100)+0.5) -> 63.14 | U33: =IF(OR(H33="",I33="",H33=0),"",T33+0.1) -> 63.24 | V33: =IF(OR(H33="",I33="",H33=0),"",T33+(T33*7.5%)) -> 67.8755 | W33: =IF(OR(H33="",I33="",H33=0),"",V33+0.1) -> 67.9755 | X33: =IF(OR(H33="",I33="",H33=0),"",T33+(T33*12.5%)) -> 71.0325 | Y33: =IF(OR(H33="",I33="",H33=0),"",X33+0.1) -> 71.1325 | Z33: =IF(OR(H33="",I33="",H33=0),"",T33+(T33*15%)) -> 72.611 | AA33: =IF(OR(H33="",I33="",H33=0),"",Z33+0.1) -> 72.711 | AB33: =IF(AC33="LLA","BB lebih"&" "&FIXED((I33-Z33),1) &" kg",IF(AC33="LLB","BB kurang"&" "&FIXED((I33-K33),1)&" kg","")) | AC33: =IF(OR(H33="",I33="", H33=0),"",IF(I33<K33,"LLB",IF(AND(I33>J33,I33<M33),"LB",IF(AND(I33>L33,I33<O33),"NB",IF(AND(I33>N33,I33<Q33),"HB",IF(AND(I33>P33,I33<S33),"IB",IF(AND(I33>R33,I33<U33),"IA",IF(AND(I33>T33,I33<W33),"HA",IF(AND(I33>V33,I33<Y33),"NA",IF(AND(I33>X33,I33<AA33),"LA",IF(I33>=AA33,"LLA",""))))))))))) -> IB | AD33: =IF(AC33="","", VLOOKUP(AC33,NILAI_TB_BB,2)) -> 90 | AE33: 0 | AF33: 8 | AG33: NM-= SDL-2, HAS-2, XBEEN-3, HEX | AH33: =IF(OR(AE33="",AF33=""),"", IF(OR(AE33="-",AF33="-"),"-", IF(AE33=0,VLOOKUP(AF33,NSA,2), IF(AE33=1,VLOOKUP(AF33,NSA,3), IF(AE33=2,VLOOKUP(AF33,NSA,4), IF(AE33=3,VLOOKUP(AF33,NSA,5), IF(AE33=4,VLOOKUP(AF33,NSA,6), IF(AE33=5,VLOOKUP(AF33,NSA,7), IF(AE33=6,VLOOKUP(AF33,NSA,8), IF(AE33=7,VLOOKUP(AF33,NSA,9), IF(AE33=8,VLOOKUP(AF33,NSA,10), IF(AE33=9,VLOOKUP(AF33,NSA,11), IF(AE33=10,VLOOKUP(AF33,NSA,12),""))))))))))))) -> 20 | AI33: 0 | AJ33: 3 | AK33: NM= Hidung besar, Telinga kelelwar, Gigi bertaring | AL33: =IF(AM33="","",IF(AM33>=81,"SGP-0",IF(AND(AM33>=61,AM33<=80),"SGP-1",IF(AND(AM33>=41,AM33<=60),"SGP-2",IF(AND(AM33>=21,AM33<=40),"SGP-3",IF(AND(AM33>=0,AM33<=20),"SGP-4","")))))) -> SGP-1 | AM33: =IF(OR(AI33="",AJ33=""),"",IF(AI33=0,VLOOKUP(AJ33,NILAI_SGP,2),IF(AI33=1,VLOOKUP(AJ33,NILAI_SGP,3),IF(AI33=2,VLOOKUP(AJ33,NILAI_SGP,4),IF(AI33=3,VLOOKUP(AJ33,NILAI_SGP,5),IF(AI33=4,VLOOKUP(AJ33,NILAI_SGP,6),IF(AI33=5,VLOOKUP(AJ33,NILAI_SGP,7),IF(AI33=6,VLOOKUP(AJ33,NILAI_SGP,8),IF(AI33=7,VLOOKUP(AJ33,NILAI_SGP,9),IF(AI33=8,VLOOKUP(AJ33,NILAI_SGP,10),IF(AI33=9,VLOOKUP(AJ33,NILAI_SGP,11),IF(AI33=10,VLOOKUP(AJ33,NILAI_SGP,12),"")))))))))))) -> 70 | AN33: =IF(OR(AD33="",AH33="",AM33=""),"",VALUE(FIXED(((AD33+AH33+AM33)/3),2))) -> 60 | AO33: 6 | AP33: 200 | AQ33: =IF(OR(AO33="",AP33="",AO33=0),"",IF(OR(AO33="-",AP33="-"),"-",(AO33*$AO$10)+AP33)) -> 2600 | AR33: =IF(OR(G33="",AQ33="",AQ33=0),"",IF(OR(AO33="-",AP33="-"),"-",IF(G33="P",VLOOKUP(AQ33,LARI12mnt_CALON_PRIA,2),IF(G33="W",VLOOKUP(AQ33,LARI12mnt_CALON_WANITA,2),"")))) -> 52 | AS33: 18 | AT33: =IF(OR(G33="",AS33=""),"", IF(AS33="-","-", IF(G33="P",VLOOKUP(AS33,PULLUP_CALON_PRIA,2),IF(G33="W",VLOOKUP(AS33,CHINNING_CALON_WANITA,2),"")))) -> 100 | AU33: 41 | AV33: =IF(OR(G33="",AU33=""),"", IF(AU33="-","-", IF(G33="P",VLOOKUP(AU33,SITUP_CALON_PRIA,2),IF(G33="W",VLOOKUP(AU33,SITUP_CALON_WANITA,2),"")))) -> 100 | AW33: 54 | AX33: =IF(OR(G33="",AW33=""),"",IF(AW33="-","-", IF(G33="P",VLOOKUP(AW33,LUNGES_CALON_PRIA,2),IF(G33="W",VLOOKUP(AW33,LUNGES_CALON_WANITA,2),"")))) -> 100 | AY33: 43 | AZ33: =IF(OR(G33="",AY33=""),"", IF(AY33="-","-", IF(G33="P",VLOOKUP(AY33,PUSHUP_CALON_PRIA,2),IF(G33="W",VLOOKUP(AY33,MODIFPUSHUP_CALON_WANITA,2),"")))) -> 100 | BA33: 5.9 | BB33: =IF(OR(G33="",BA33="",BA33=0),"",IF(BA33="-","-", IF(G33="P",VLOOKUP(BA33,SHUTTLERUN_CALON_PRIA,2),IF(G33="W",VLOOKUP(BA33,SHUTTLERUN_CALON_WANITA,2),"")))) -> 55 | BC33: =IF(OR(AT33="",AV33="",AX33="",AZ33="",BB33=""),"",IF(OR(AS33="-",AU33="-",AW33="-",AY33="-",BA33="-"),0,VALUE(FIXED(((AT33+AV33+AX33+AZ33+BB33)/5),2)))) -> 91 | BD33: =IF(OR(AR33="",BC33=""),"",IF(OR(AS33="-",AU33="-",AW33="-",AY33="-",BA33="-"),0, VALUE(FIXED(((AR33+BC33)/2),2)))) -> 71.5 | BE33: GD | BF33: 1.01 | BG33: =IF(BF33="","",IF(RIGHT(BF33,1)="M","","""")) -> " | BH33: =IF(OR(G33="",AN33="",BD33=""),"", IF(OR(AE33="-",AF33="-",AI33="-",AJ33="-",AS33="-",AU33="-",AW33="-",AY33="-",BA33="-"),0, VALUE(FIXED(((AN33*30%)+(BD33*70%)),2)))) -> 68.05 | BI33: =IF(OR(G33="",BH33=""),"", IF(OR(AE33="-",AF33="-",AI33="-",AJ33="-",AS33="-",AU33="-",AW33="-",BA33="-"),0, IF(AND(BJ33="TL",OR(BH33<=40.99,BH33>=41)),VLOOKUP(BH33,NILAI_KONVERSI,2),IF(BJ33="L",BH33,"")))) -> 37 | BJ33: =IF(BH33="","", IF(OR(AQ33="-",AS33="-",AU33="-",AW33="-",AY33="-", BA33="-"),"-", IF(COUNTIF(BS33:CE33,"TL")>=1,"TL","L"))) -> TL | BK33: =IF(BJ33="","",CONCATENATE(CH33,CI33,CJ33,CK33,CL33,CM33,CN33,CO33,CP33,CQ33,CR33,CS33,CU33,CT33)) -> NSA=N-8(20)(NM-= SDL-2, HAS-2, XBEEN-3, HEX), | BS33: =IF(AD33="","",IF(AD33="-","-",IF(AD33<=20,"TL","L"))) -> L | BT33: =IF(AH33="","",IF(AH33="-","-",IF(AH33<=30,"TL","L"))) -> TL | BU33: =IF(AM33="","",IF(AM33="-","-",IF(AM33<=20,"TL","L"))) -> L | BV33: =IF(AN33="","",IF(AN33="-","-",IF(AN33<=20.99,"TL","L"))) -> L | BW33: =IF(AR33="","", IF(AR33="-","-", IF(AR33<=34,"TL","L"))) -> L | BX33: =IF(AT33="","",IF(AT33="-","-",IF(G33="P",IF(AT33<=24,"TL",IF(AT33>=25,"L")),IF(G33="W",IF(AT33<=30,"TL",IF(AT33>=31,"L")))))) -> L | BY33: =IF(AV33="","",IF(AV33="-","-",IF(G33="P",IF(AV33<=30,"TL",IF(AV33>=31,"L")),IF(G33="W",IF(AV33<=30,"TL",IF(AV33>=31,"L")))))) -> L | BZ33: =IF(AX33="","",IF(AX33="-","-",IF(G33="P",IF(AX33<=30,"TL",IF(AX33>=31,"L")),IF(G33="W",IF(AX33<=30,"TL",IF(AX33>=31,"L")))))) -> L | CA33: =IF(AZ33="","",IF(AZ33="-","-",IF(G33="P",IF(AZ33<=30,"TL",IF(AZ33>=31,"L")),IF(G33="W",IF(AZ33<=30,"TL",IF(AZ33>=31,"L")))))) -> L | CB33: =IF(BB33="","",IF(BB33="-","-",IF(G33="P",IF(BB33<=30,"TL",IF(BB33>=31,"L")),IF(G33="W",IF(BB33<=30,"TL",IF(BB33>=31,"L")))))) -> L | CC33: =IF(BC33="","", IF(G33="P",IF(BC33<=34.99,"TL", IF(BC33>=35,"L")), IF(G33="W", IF(BC33<=34.99,"TL", IF(BC33>=35,"L"))))) -> L | CD33: =IF(BD33="","", IF(G33="P",IF(BD33<=40.99,"TL", IF(BD33>=41,"L")), IF(G33="W", IF(BD33<=40.99,"TL", IF(BD33>=41,"L"))))) -> L | CE33: =IF(BH33="","",IF(BH33<=40.99,"TL", IF(BH33>=41,"L"))) -> L | CH33: =IF(BS33="TL","BB="&""&AC33&"("&AD33&"), ", "") | CI33: =IF(OR(AE33="-",AF33="-"),"NSA= tdk melaks"&", ",IF(BT33="TL","NSA=N-"&AF33&""&"("&AH33&")"&"("&AG33&")"&", ","")) -> NSA=N-8(20)(NM-= SDL-2, HAS-2, XBEEN-3, HEX), | CJ33: =IF(AL33="-","SGP= tdk melaks"&", ",IF(BU33="TL",AL33&"="&""&"("&AM33&"), ","")) | CK33: =IF(BV33="TL","NP="&"("&FIXED((AN33),2)&"), ","") | CL33: =IF(AQ33="-","A= tdk melaks"&", ", IF(BW33="TL","A="&"("&AR33&")"&" (Lari Kurang "&(AQ33-2272)&"m), ","")) | CM33: =IF(AS33="-","B1= tdk melaks"&", ",IF(BX33="TL","B1="&"("&AT33&"), ","")) | CN33: =IF(AU33="-","B2= tdk melaks"&", ",IF(BY33="TL","B2="&"("&AV33&"), ","")) | CO33: =IF(AW33="-","B3= tdk melaks"&", ",IF(BZ33="TL","B3="&"("&AX33&"), ","")) | CP33: =IF(BA33="-","B4= tdk melaks"&", ",IF(CA33="TL","B4="&"("&AZ33&"), ","")) | CQ33: =IF(BB33="-","B4= tdk melaks"&", ",IF(CB33="TL","B5="&"("&BB33&"), ","")) | CR33: =IF(CC33="TL","R.B="&"("&FIXED((BC33),2)&"), ", "") | CS33: =IF(CD33="TL","R.AB="&"("&FIXED((BD33),2)&"), ", "") | CT33: =IF(CE33="TL","N.A="&"("&FIXED((BH33),2)&").", "") | CU33: =IF(BF33="-","Renang= tdk melaks"&", ", IF(RIGHT(BF33,1)="M","Renang="&""&BF33&", ",""))
A34: 22 | B34: 22 | C34: MN3662PL | D34: A | E34: 32 | F34: NADZHAFAH AL MUTAQQIEN | G34: P | H34: 164.5 | I34: 54.2 | J34: =IF(OR(H34="",I34="",H34=0),"",K34-0.1) -> 48.8175 | K34: =IF(OR(H34="",I34="",H34=0),"",Q34-(Q34*15%)) -> 48.9175 | L34: =IF(OR(H34="",I34="",H34=0),"",M34-0.1) -> 50.25625 | M34: =IF(OR(H34="",I34="",H34=0),"",Q34-(Q34*12.5%)) -> 50.35625 | N34: =IF(OR(H34="",I34="",H34=0),"",O34-0.1) -> 53.13375 | O34: =IF(OR(H34="",I34="",H34=0),"",Q34-(Q34*7.5%)) -> 53.23375 | P34: =IF(OR(H34="",I34="",H34=0),"",Q34-0.1) -> 57.45 | Q34: =IF(OR(H34="",I34="",H34=0),"",90%*(H34-100)-0.5) -> 57.55 | R34: =IF(OR(H34="",I34="",H34=0),"",90%*(H34-100)) -> 58.05 | S34: =IF(OR(H34="",I34="",,H34=0),"",R34+0.1) -> 58.15 | T34: =IF(OR(H34="",I34="",H34=0),"",90%*(H34-100)+0.5) -> 58.55 | U34: =IF(OR(H34="",I34="",H34=0),"",T34+0.1) -> 58.65 | V34: =IF(OR(H34="",I34="",H34=0),"",T34+(T34*7.5%)) -> 62.94125 | W34: =IF(OR(H34="",I34="",H34=0),"",V34+0.1) -> 63.04125 | X34: =IF(OR(H34="",I34="",H34=0),"",T34+(T34*12.5%)) -> 65.86875 | Y34: =IF(OR(H34="",I34="",H34=0),"",X34+0.1) -> 65.96875 | Z34: =IF(OR(H34="",I34="",H34=0),"",T34+(T34*15%)) -> 67.3325 | AA34: =IF(OR(H34="",I34="",H34=0),"",Z34+0.1) -> 67.4325 | AB34: =IF(AC34="LLA","BB lebih"&" "&FIXED((I34-Z34),1) &" kg",IF(AC34="LLB","BB kurang"&" "&FIXED((I34-K34),1)&" kg","")) | AC34: =IF(OR(H34="",I34="", H34=0),"",IF(I34<K34,"LLB",IF(AND(I34>J34,I34<M34),"LB",IF(AND(I34>L34,I34<O34),"NB",IF(AND(I34>N34,I34<Q34),"HB",IF(AND(I34>P34,I34<S34),"IB",IF(AND(I34>R34,I34<U34),"IA",IF(AND(I34>T34,I34<W34),"HA",IF(AND(I34>V34,I34<Y34),"NA",IF(AND(I34>X34,I34<AA34),"LA",IF(I34>=AA34,"LLA",""))))))))))) -> HB | AD34: =IF(AC34="","", VLOOKUP(AC34,NILAI_TB_BB,2)) -> 70 | AE34: 0 | AF34: 9 | AG34: NM-= HA-2, HAS-3, LD-2, KT-2 | AH34: =IF(OR(AE34="",AF34=""),"", IF(OR(AE34="-",AF34="-"),"-", IF(AE34=0,VLOOKUP(AF34,NSA,2), IF(AE34=1,VLOOKUP(AF34,NSA,3), IF(AE34=2,VLOOKUP(AF34,NSA,4), IF(AE34=3,VLOOKUP(AF34,NSA,5), IF(AE34=4,VLOOKUP(AF34,NSA,6), IF(AE34=5,VLOOKUP(AF34,NSA,7), IF(AE34=6,VLOOKUP(AF34,NSA,8), IF(AE34=7,VLOOKUP(AF34,NSA,9), IF(AE34=8,VLOOKUP(AF34,NSA,10), IF(AE34=9,VLOOKUP(AF34,NSA,11), IF(AE34=10,VLOOKUP(AF34,NSA,12),""))))))))))))) -> 10 | AI34: 1 | AJ34: 3 | AK34: BN= Berjalan feminim / NM-= Balik kanan, Telinga kelalawar, Keloid | AL34: =IF(AM34="","",IF(AM34>=81,"SGP-0",IF(AND(AM34>=61,AM34<=80),"SGP-1",IF(AND(AM34>=41,AM34<=60),"SGP-2",IF(AND(AM34>=21,AM34<=40),"SGP-3",IF(AND(AM34>=0,AM34<=20),"SGP-4","")))))) -> SGP-1 | AM34: =IF(OR(AI34="",AJ34=""),"",IF(AI34=0,VLOOKUP(AJ34,NILAI_SGP,2),IF(AI34=1,VLOOKUP(AJ34,NILAI_SGP,3),IF(AI34=2,VLOOKUP(AJ34,NILAI_SGP,4),IF(AI34=3,VLOOKUP(AJ34,NILAI_SGP,5),IF(AI34=4,VLOOKUP(AJ34,NILAI_SGP,6),IF(AI34=5,VLOOKUP(AJ34,NILAI_SGP,7),IF(AI34=6,VLOOKUP(AJ34,NILAI_SGP,8),IF(AI34=7,VLOOKUP(AJ34,NILAI_SGP,9),IF(AI34=8,VLOOKUP(AJ34,NILAI_SGP,10),IF(AI34=9,VLOOKUP(AJ34,NILAI_SGP,11),IF(AI34=10,VLOOKUP(AJ34,NILAI_SGP,12),"")))))))))))) -> 69 | AN34: =IF(OR(AD34="",AH34="",AM34=""),"",VALUE(FIXED(((AD34+AH34+AM34)/3),2))) -> 49.67 | AO34: 7 | AP34: 170 | AQ34: =IF(OR(AO34="",AP34="",AO34=0),"",IF(OR(AO34="-",AP34="-"),"-",(AO34*$AO$10)+AP34)) -> 2970 | AR34: =IF(OR(G34="",AQ34="",AQ34=0),"",IF(OR(AO34="-",AP34="-"),"-",IF(G34="P",VLOOKUP(AQ34,LARI12mnt_CALON_PRIA,2),IF(G34="W",VLOOKUP(AQ34,LARI12mnt_CALON_WANITA,2),"")))) -> 71 | AS34: 18 | AT34: =IF(OR(G34="",AS34=""),"", IF(AS34="-","-", IF(G34="P",VLOOKUP(AS34,PULLUP_CALON_PRIA,2),IF(G34="W",VLOOKUP(AS34,CHINNING_CALON_WANITA,2),"")))) -> 100 | AU34: 41 | AV34: =IF(OR(G34="",AU34=""),"", IF(AU34="-","-", IF(G34="P",VLOOKUP(AU34,SITUP_CALON_PRIA,2),IF(G34="W",VLOOKUP(AU34,SITUP_CALON_WANITA,2),"")))) -> 100 | AW34: 35 | AX34: =IF(OR(G34="",AW34=""),"",IF(AW34="-","-", IF(G34="P",VLOOKUP(AW34,LUNGES_CALON_PRIA,2),IF(G34="W",VLOOKUP(AW34,LUNGES_CALON_WANITA,2),"")))) -> 25 | AY34: 38 | AZ34: =IF(OR(G34="",AY34=""),"", IF(AY34="-","-", IF(G34="P",VLOOKUP(AY34,PUSHUP_CALON_PRIA,2),IF(G34="W",VLOOKUP(AY34,MODIFPUSHUP_CALON_WANITA,2),"")))) -> 89 | BA34: 5.07 | BB34: =IF(OR(G34="",BA34="",BA34=0),"",IF(BA34="-","-", IF(G34="P",VLOOKUP(BA34,SHUTTLERUN_CALON_PRIA,2),IF(G34="W",VLOOKUP(BA34,SHUTTLERUN_CALON_WANITA,2),"")))) -> 77 | BC34: =IF(OR(AT34="",AV34="",AX34="",AZ34="",BB34=""),"",IF(OR(AS34="-",AU34="-",AW34="-",AY34="-",BA34="-"),0,VALUE(FIXED(((AT34+AV34+AX34+AZ34+BB34)/5),2)))) -> 78.2 | BD34: =IF(OR(AR34="",BC34=""),"",IF(OR(AS34="-",AU34="-",AW34="-",AY34="-",BA34="-"),0, VALUE(FIXED(((AR34+BC34)/2),2)))) -> 74.6 | BE34: GD | BF34: 1.02 | BG34: =IF(BF34="","",IF(RIGHT(BF34,1)="M","","""")) -> " | BH34: =IF(OR(G34="",AN34="",BD34=""),"", IF(OR(AE34="-",AF34="-",AI34="-",AJ34="-",AS34="-",AU34="-",AW34="-",AY34="-",BA34="-"),0, VALUE(FIXED(((AN34*30%)+(BD34*70%)),2)))) -> 67.12 | BI34: =IF(OR(G34="",BH34=""),"", IF(OR(AE34="-",AF34="-",AI34="-",AJ34="-",AS34="-",AU34="-",AW34="-",BA34="-"),0, IF(AND(BJ34="TL",OR(BH34<=40.99,BH34>=41)),VLOOKUP(BH34,NILAI_KONVERSI,2),IF(BJ34="L",BH34,"")))) -> 37 | BJ34: =IF(BH34="","", IF(OR(AQ34="-",AS34="-",AU34="-",AW34="-",AY34="-", BA34="-"),"-", IF(COUNTIF(BS34:CE34,"TL")>=1,"TL","L"))) -> TL | BK34: =IF(BJ34="","",CONCATENATE(CH34,CI34,CJ34,CK34,CL34,CM34,CN34,CO34,CP34,CQ34,CR34,CS34,CU34,CT34)) -> NSA=N-9(10)(NM-= HA-2, HAS-3, LD-2, KT-2), B3=(25), | BS34: =IF(AD34="","",IF(AD34="-","-",IF(AD34<=20,"TL","L"))) -> L | BT34: =IF(AH34="","",IF(AH34="-","-",IF(AH34<=30,"TL","L"))) -> TL | BU34: =IF(AM34="","",IF(AM34="-","-",IF(AM34<=20,"TL","L"))) -> L | BV34: =IF(AN34="","",IF(AN34="-","-",IF(AN34<=20.99,"TL","L"))) -> L | BW34: =IF(AR34="","", IF(AR34="-","-", IF(AR34<=34,"TL","L"))) -> L | BX34: =IF(AT34="","",IF(AT34="-","-",IF(G34="P",IF(AT34<=24,"TL",IF(AT34>=25,"L")),IF(G34="W",IF(AT34<=30,"TL",IF(AT34>=31,"L")))))) -> L | BY34: =IF(AV34="","",IF(AV34="-","-",IF(G34="P",IF(AV34<=30,"TL",IF(AV34>=31,"L")),IF(G34="W",IF(AV34<=30,"TL",IF(AV34>=31,"L")))))) -> L | BZ34: =IF(AX34="","",IF(AX34="-","-",IF(G34="P",IF(AX34<=30,"TL",IF(AX34>=31,"L")),IF(G34="W",IF(AX34<=30,"TL",IF(AX34>=31,"L")))))) -> TL | CA34: =IF(AZ34="","",IF(AZ34="-","-",IF(G34="P",IF(AZ34<=30,"TL",IF(AZ34>=31,"L")),IF(G34="W",IF(AZ34<=30,"TL",IF(AZ34>=31,"L")))))) -> L | CB34: =IF(BB34="","",IF(BB34="-","-",IF(G34="P",IF(BB34<=30,"TL",IF(BB34>=31,"L")),IF(G34="W",IF(BB34<=30,"TL",IF(BB34>=31,"L")))))) -> L | CC34: =IF(BC34="","", IF(G34="P",IF(BC34<=34.99,"TL", IF(BC34>=35,"L")), IF(G34="W", IF(BC34<=34.99,"TL", IF(BC34>=35,"L"))))) -> L | CD34: =IF(BD34="","", IF(G34="P",IF(BD34<=40.99,"TL", IF(BD34>=41,"L")), IF(G34="W", IF(BD34<=40.99,"TL", IF(BD34>=41,"L"))))) -> L | CE34: =IF(BH34="","",IF(BH34<=40.99,"TL", IF(BH34>=41,"L"))) -> L | CH34: =IF(BS34="TL","BB="&""&AC34&"("&AD34&"), ", "") | CI34: =IF(OR(AE34="-",AF34="-"),"NSA= tdk melaks"&", ",IF(BT34="TL","NSA=N-"&AF34&""&"("&AH34&")"&"("&AG34&")"&", ","")) -> NSA=N-9(10)(NM-= HA-2, HAS-3, LD-2, KT-2), | CJ34: =IF(AL34="-","SGP= tdk melaks"&", ",IF(BU34="TL",AL34&"="&""&"("&AM34&"), ","")) | CK34: =IF(BV34="TL","NP="&"("&FIXED((AN34),2)&"), ","") | CL34: =IF(AQ34="-","A= tdk melaks"&", ", IF(BW34="TL","A="&"("&AR34&")"&" (Lari Kurang "&(AQ34-2272)&"m), ","")) | CM34: =IF(AS34="-","B1= tdk melaks"&", ",IF(BX34="TL","B1="&"("&AT34&"), ","")) | CN34: =IF(AU34="-","B2= tdk melaks"&", ",IF(BY34="TL","B2="&"("&AV34&"), ","")) | CO34: =IF(AW34="-","B3= tdk melaks"&", ",IF(BZ34="TL","B3="&"("&AX34&"), ","")) -> B3=(25), | CP34: =IF(BA34="-","B4= tdk melaks"&", ",IF(CA34="TL","B4="&"("&AZ34&"), ","")) | CQ34: =IF(BB34="-","B4= tdk melaks"&", ",IF(CB34="TL","B5="&"("&BB34&"), ","")) | CR34: =IF(CC34="TL","R.B="&"("&FIXED((BC34),2)&"), ", "") | CS34: =IF(CD34="TL","R.AB="&"("&FIXED((BD34),2)&"), ", "") | CT34: =IF(CE34="TL","N.A="&"("&FIXED((BH34),2)&").", "") | CU34: =IF(BF34="-","Renang= tdk melaks"&", ", IF(RIGHT(BF34,1)="M","Renang="&""&BF34&", ",""))
... A57: 45 | B57: 15 | C57: MN3692PL | D57: B | E57: 29 | F57: ODI PRANTARA | G57: P | H57: 168.1 | I57: 65.5 | J57: =IF(OR(H57="",I57="",H57=0),"",K57-0.1) -> 51.5715 | K57: =IF(OR(H57="",I57="",H57=0),"",Q57-(Q57*15%)) -> 51.6715 | L57: =IF(OR(H57="",I57="",H57=0),"",M57-0.1) -> 53.09125 | M57: =IF(OR(H57="",I57="",H57=0),"",Q57-(Q57*12.5%)) -> 53.19125 | N57: =IF(OR(H57="",I57="",H57=0),"",O57-0.1) -> 56.13075 | O57: =IF(OR(H57="",I57="",H57=0),"",Q57-(Q57*7.5%)) -> 56.23075 | P57: =IF(OR(H57="",I57="",H57=0),"",Q57-0.1) -> 60.69 | Q57: =IF(OR(H57="",I57="",H57=0),"",90%*(H57-100)-0.5) -> 60.79 | R57: =IF(OR(H57="",I57="",H57=0),"",90%*(H57-100)) -> 61.29 | S57: =IF(OR(H57="",I57="",,H57=0),"",R57+0.1) -> 61.39 | T57: =IF(OR(H57="",I57="",H57=0),"",90%*(H57-100)+0.5) -> 61.79 | U57: =IF(OR(H57="",I57="",H57=0),"",T57+0.1) -> 61.89 | V57: =IF(OR(H57="",I57="",H57=0),"",T57+(T57*7.5%)) -> 66.42425 | W57: =IF(OR(H57="",I57="",H57=0),"",V57+0.1) -> 66.52425 | X57: =IF(OR(H57="",I57="",H57=0),"",T57+(T57*12.5%)) -> 69.51375 | Y57: =IF(OR(H57="",I57="",H57=0),"",X57+0.1) -> 69.61375 | Z57: =IF(OR(H57="",I57="",H57=0),"",T57+(T57*15%)) -> 71.0585 | AA57: =IF(OR(H57="",I57="",H57=0),"",Z57+0.1) -> 71.1585 | AB57: =IF(AC57="LLA","BB lebih"&" "&FIXED((I57-Z57),1) &" kg",IF(AC57="LLB","BB kurang"&" "&FIXED((I57-K57),1)&" kg","")) | AC57: =IF(OR(H57="",I57="", H57=0),"",IF(I57<K57,"LLB",IF(AND(I57>J57,I57<M57),"LB",IF(AND(I57>L57,I57<O57),"NB",IF(AND(I57>N57,I57<Q57),"HB",IF(AND(I57>P57,I57<S57),"IB",IF(AND(I57>R57,I57<U57),"IA",IF(AND(I57>T57,I57<W57),"HA",IF(AND(I57>V57,I57<Y57),"NA",IF(AND(I57>X57,I57<AA57),"LA",IF(I57>=AA57,"LLA",""))))))))))) -> HA | AD57: =IF(AC57="","", VLOOKUP(AC57,NILAI_TB_BB,2)) -> 80 | AE57: 1 | AF57: 2 | AG57: BN= HA / NM-= SDR, HAS | AH57: =IF(OR(AE57="",AF57=""),"", IF(OR(AE57="-",AF57="-"),"-", IF(AE57=0,VLOOKUP(AF57,NSA,2), IF(AE57=1,VLOOKUP(AF57,NSA,3), IF(AE57=2,VLOOKUP(AF57,NSA,4), IF(AE57=3,VLOOKUP(AF57,NSA,5), IF(AE57=4,VLOOKUP(AF57,NSA,6), IF(AE57=5,VLOOKUP(AF57,NSA,7), IF(AE57=6,VLOOKUP(AF57,NSA,8), IF(AE57=7,VLOOKUP(AF57,NSA,9), IF(AE57=8,VLOOKUP(AF57,NSA,10), IF(AE57=9,VLOOKUP(AF57,NSA,11), IF(AE57=10,VLOOKUP(AF57,NSA,12),""))))))))))))) -> 79 | AI57: 1 | AJ57: 2 | AK57: BN= Gigi tonggos / NM-= Berjalan mengangkang, Mata mengantuk | AL57: =IF(AM57="","",IF(AM57>=81,"SGP-0",IF(AND(AM57>=61,AM57<=80),"SGP-1",IF(AND(AM57>=41,AM57<=60),"SGP-2",IF(AND(AM57>=21,AM57<=40),"SGP-3",IF(AND(AM57>=0,AM57<=20),"SGP-4","")))))) -> SGP-1 | AM57: =IF(OR(AI57="",AJ57=""),"",IF(AI57=0,VLOOKUP(AJ57,NILAI_SGP,2),IF(AI57=1,VLOOKUP(AJ57,NILAI_SGP,3),IF(AI57=2,VLOOKUP(AJ57,NILAI_SGP,4),IF(AI57=3,VLOOKUP(AJ57,NILAI_SGP,5),IF(AI57=4,VLOOKUP(AJ57,NILAI_SGP,6),IF(AI57=5,VLOOKUP(AJ57,NILAI_SGP,7),IF(AI57=6,VLOOKUP(AJ57,NILAI_SGP,8),IF(AI57=7,VLOOKUP(AJ57,NILAI_SGP,9),IF(AI57=8,VLOOKUP(AJ57,NILAI_SGP,10),IF(AI57=9,VLOOKUP(AJ57,NILAI_SGP,11),IF(AI57=10,VLOOKUP(AJ57,NILAI_SGP,12),"")))))))))))) -> 79 | AN57: =IF(OR(AD57="",AH57="",AM57=""),"",VALUE(FIXED(((AD57+AH57+AM57)/3),2))) -> 79.33 | AO57: 6 | AP57: 290 | AQ57: =IF(OR(AO57="",AP57="",AO57=0),"",IF(OR(AO57="-",AP57="-"),"-",(AO57*$AO$10)+AP57)) -> 2690 | AR57: =IF(OR(G57="",AQ57="",AQ57=0),"",IF(OR(AO57="-",AP57="-"),"-",IF(G57="P",VLOOKUP(AQ57,LARI12mnt_CALON_PRIA,2),IF(G57="W",VLOOKUP(AQ57,LARI12mnt_CALON_WANITA,2),"")))) -> 57 | AS57: 17 | AT57: =IF(OR(G57="",AS57=""),"", IF(AS57="-","-", IF(G57="P",VLOOKUP(AS57,PULLUP_CALON_PRIA,2),IF(G57="W",VLOOKUP(AS57,CHINNING_CALON_WANITA,2),"")))) -> 95 | AU57: 41 | AV57: =IF(OR(G57="",AU57=""),"", IF(AU57="-","-", IF(G57="P",VLOOKUP(AU57,SITUP_CALON_PRIA,2),IF(G57="W",VLOOKUP(AU57,SITUP_CALON_WANITA,2),"")))) -> 100 | AW57: 54 | AX57: =IF(OR(G57="",AW57=""),"",IF(AW57="-","-", IF(G57="P",VLOOKUP(AW57,LUNGES_CALON_PRIA,2),IF(G57="W",VLOOKUP(AW57,LUNGES_CALON_WANITA,2),"")))) -> 100 | AY57: 43 | AZ57: =IF(OR(G57="",AY57=""),"", IF(AY57="-","-", IF(G57="P",VLOOKUP(AY57,PUSHUP_CALON_PRIA,2),IF(G57="W",VLOOKUP(AY57,MODIFPUSHUP_CALON_WANITA,2),"")))) -> 100 | BA57: 5.9 | BB57: =IF(OR(G57="",BA57="",BA57=0),"",IF(BA57="-","-", IF(G57="P",VLOOKUP(BA57,SHUTTLERUN_CALON_PRIA,2),IF(G57="W",VLOOKUP(BA57,SHUTTLERUN_CALON_WANITA,2),"")))) -> 55 | BC57: =IF(OR(AT57="",AV57="",AX57="",AZ57="",BB57=""),"",IF(OR(AS57="-",AU57="-",AW57="-",AY57="-",BA57="-"),0,VALUE(FIXED(((AT57+AV57+AX57+AZ57+BB57)/5),2)))) -> 90 | BD57: =IF(OR(AR57="",BC57=""),"",IF(OR(AS57="-",AU57="-",AW57="-",AY57="-",BA57="-"),0, VALUE(FIXED(((AR57+BC57)/2),2)))) -> 73.5 | BE57: GD | BF57: 0.57 | BG57: =IF(BF57="","",IF(RIGHT(BF57,1)="M","","""")) -> " | BH57: =IF(OR(G57="",AN57="",BD57=""),"", IF(OR(AE57="-",AF57="-",AI57="-",AJ57="-",AS57="-",AU57="-",AW57="-",AY57="-",BA57="-"),0, VALUE(FIXED(((AN57*30%)+(BD57*70%)),2)))) -> 75.25 | BI57: =IF(OR(G57="",BH57=""),"", IF(OR(AE57="-",AF57="-",AI57="-",AJ57="-",AS57="-",AU57="-",AW57="-",BA57="-"),0, IF(AND(BJ57="TL",OR(BH57<=40.99,BH57>=41)),VLOOKUP(BH57,NILAI_KONVERSI,2),IF(BJ57="L",BH57,"")))) -> 75.25 | BJ57: =IF(BH57="","", IF(OR(AQ57="-",AS57="-",AU57="-",AW57="-",AY57="-", BA57="-"),"-", IF(COUNTIF(BS57:CE57,"TL")>=1,"TL","L"))) -> L | BK57: =IF(BJ57="","",CONCATENATE(CH57,CI57,CJ57,CK57,CL57,CM57,CN57,CO57,CP57,CQ57,CR57,CS57,CU57,CT57)) | BS57: =IF(AD57="","",IF(AD57="-","-",IF(AD57<=20,"TL","L"))) -> L | BT57: =IF(AH57="","",IF(AH57="-","-",IF(AH57<=30,"TL","L"))) -> L | BU57: =IF(AM57="","",IF(AM57="-","-",IF(AM57<=20,"TL","L"))) -> L | BV57: =IF(AN57="","",IF(AN57="-","-",IF(AN57<=20.99,"TL","L"))) -> L | BW57: =IF(AR57="","", IF(AR57="-","-", IF(AR57<=34,"TL","L"))) -> L | BX57: =IF(AT57="","",IF(AT57="-","-",IF(G57="P",IF(AT57<=24,"TL",IF(AT57>=25,"L")),IF(G57="W",IF(AT57<=30,"TL",IF(AT57>=31,"L")))))) -> L | BY57: =IF(AV57="","",IF(AV57="-","-",IF(G57="P",IF(AV57<=30,"TL",IF(AV57>=31,"L")),IF(G57="W",IF(AV57<=30,"TL",IF(AV57>=31,"L")))))) -> L | BZ57: =IF(AX57="","",IF(AX57="-","-",IF(G57="P",IF(AX57<=30,"TL",IF(AX57>=31,"L")),IF(G57="W",IF(AX57<=30,"TL",IF(AX57>=31,"L")))))) -> L | CA57: =IF(AZ57="","",IF(AZ57="-","-",IF(G57="P",IF(AZ57<=30,"TL",IF(AZ57>=31,"L")),IF(G57="W",IF(AZ57<=30,"TL",IF(AZ57>=31,"L")))))) -> L | CB57: =IF(BB57="","",IF(BB57="-","-",IF(G57="P",IF(BB57<=30,"TL",IF(BB57>=31,"L")),IF(G57="W",IF(BB57<=30,"TL",IF(BB57>=31,"L")))))) -> L | CC57: =IF(BC57="","", IF(G57="P",IF(BC57<=34.99,"TL", IF(BC57>=35,"L")), IF(G57="W", IF(BC57<=34.99,"TL", IF(BC57>=35,"L"))))) -> L | CD57: =IF(BD57="","", IF(G57="P",IF(BD57<=40.99,"TL", IF(BD57>=41,"L")), IF(G57="W", IF(BD57<=40.99,"TL", IF(BD57>=41,"L"))))) -> L | CE57: =IF(BH57="","",IF(BH57<=40.99,"TL", IF(BH57>=41,"L"))) -> L | CH57: =IF(BS57="TL","BB="&""&AC57&"("&AD57&"), ", "") | CI57: =IF(OR(AE57="-",AF57="-"),"NSA= tdk melaks"&", ",IF(BT57="TL","NSA=N-"&AF57&""&"("&AH57&")"&"("&AG57&")"&", ","")) | CJ57: =IF(AL57="-","SGP= tdk melaks"&", ",IF(BU57="TL",AL57&"="&""&"("&AM57&"), ","")) | CK57: =IF(BV57="TL","NP="&"("&FIXED((AN57),2)&"), ","") | CL57: =IF(AQ57="-","A= tdk melaks"&", ", IF(BW57="TL","A="&"("&AR57&")"&" (Lari Kurang "&(AQ57-2272)&"m), ","")) | CM57: =IF(AS57="-","B1= tdk melaks"&", ",IF(BX57="TL","B1="&"("&AT57&"), ","")) | CN57: =IF(AU57="-","B2= tdk melaks"&", ",IF(BY57="TL","B2="&"("&AV57&"), ","")) | CO57: =IF(AW57="-","B3= tdk melaks"&", ",IF(BZ57="TL","B3="&"("&AX57&"), ","")) | CP57: =IF(BA57="-","B4= tdk melaks"&", ",IF(CA57="TL","B4="&"("&AZ57&"), ","")) | CQ57: =IF(BB57="-","B4= tdk melaks"&", ",IF(CB57="TL","B5="&"("&BB57&"), ","")) | CR57: =IF(CC57="TL","R.B="&"("&FIXED((BC57),2)&"), ", "") | CS57: =IF(CD57="TL","R.AB="&"("&FIXED((BD57),2)&"), ", "") | CT57: =IF(CE57="TL","N.A="&"("&FIXED((BH57),2)&").", "") | CU57: =IF(BF57="-","Renang= tdk melaks"&", ", IF(RIGHT(BF57,1)="M","Renang="&""&BF57&", ",""))
A58: 46 | B58: 16 | C58: MN3693PL | D58: B | E58: 30 | F58: HENDRY FRANCIS JEFFERSON | G58: P | H58: 164.6 | I58: 57.9 | J58: =IF(OR(H58="",I58="",H58=0),"",K58-0.1) -> 48.894 | K58: =IF(OR(H58="",I58="",H58=0),"",Q58-(Q58*15%)) -> 48.994 | L58: =IF(OR(H58="",I58="",H58=0),"",M58-0.1) -> 50.335 | M58: =IF(OR(H58="",I58="",H58=0),"",Q58-(Q58*12.5%)) -> 50.435 | N58: =IF(OR(H58="",I58="",H58=0),"",O58-0.1) -> 53.217 | O58: =IF(OR(H58="",I58="",H58=0),"",Q58-(Q58*7.5%)) -> 53.317 | P58: =IF(OR(H58="",I58="",H58=0),"",Q58-0.1) -> 57.54 | Q58: =IF(OR(H58="",I58="",H58=0),"",90%*(H58-100)-0.5) -> 57.64 | R58: =IF(OR(H58="",I58="",H58=0),"",90%*(H58-100)) -> 58.14 | S58: =IF(OR(H58="",I58="",,H58=0),"",R58+0.1) -> 58.24 | T58: =IF(OR(H58="",I58="",H58=0),"",90%*(H58-100)+0.5) -> 58.64 | U58: =IF(OR(H58="",I58="",H58=0),"",T58+0.1) -> 58.74 | V58: =IF(OR(H58="",I58="",H58=0),"",T58+(T58*7.5%)) -> 63.038 | W58: =IF(OR(H58="",I58="",H58=0),"",V58+0.1) -> 63.138 | X58: =IF(OR(H58="",I58="",H58=0),"",T58+(T58*12.5%)) -> 65.97 | Y58: =IF(OR(H58="",I58="",H58=0),"",X58+0.1) -> 66.07 | Z58: =IF(OR(H58="",I58="",H58=0),"",T58+(T58*15%)) -> 67.436 | AA58: =IF(OR(H58="",I58="",H58=0),"",Z58+0.1) -> 67.536 | AB58: =IF(AC58="LLA","BB lebih"&" "&FIXED((I58-Z58),1) &" kg",IF(AC58="LLB","BB kurang"&" "&FIXED((I58-K58),1)&" kg","")) | AC58: =IF(OR(H58="",I58="", H58=0),"",IF(I58<K58,"LLB",IF(AND(I58>J58,I58<M58),"LB",IF(AND(I58>L58,I58<O58),"NB",IF(AND(I58>N58,I58<Q58),"HB",IF(AND(I58>P58,I58<S58),"IB",IF(AND(I58>R58,I58<U58),"IA",IF(AND(I58>T58,I58<W58),"HA",IF(AND(I58>V58,I58<Y58),"NA",IF(AND(I58>X58,I58<AA58),"LA",IF(I58>=AA58,"LLA",""))))))))))) -> IB | AD58: =IF(AC58="","", VLOOKUP(AC58,NILAI_TB_BB,2)) -> 90 | AE58: 1 | AF58: 1 | AG58: BN= KT / NM-= SD | AH58: =IF(OR(AE58="",AF58=""),"", IF(OR(AE58="-",AF58="-"),"-", IF(AE58=0,VLOOKUP(AF58,NSA,2), IF(AE58=1,VLOOKUP(AF58,NSA,3), IF(AE58=2,VLOOKUP(AF58,NSA,4), IF(AE58=3,VLOOKUP(AF58,NSA,5), IF(AE58=4,VLOOKUP(AF58,NSA,6), IF(AE58=5,VLOOKUP(AF58,NSA,7), IF(AE58=6,VLOOKUP(AF58,NSA,8), IF(AE58=7,VLOOKUP(AF58,NSA,9), IF(AE58=8,VLOOKUP(AF58,NSA,10), IF(AE58=9,VLOOKUP(AF58,NSA,11), IF(AE58=10,VLOOKUP(AF58,NSA,12),""))))))))))))) -> 89 | AI58: 1 | AJ58: 2 | AK58: BN= Berjalan mengangkang / NM-= Gigi tidak simetris, Tanda lahir | AL58: =IF(AM58="","",IF(AM58>=81,"SGP-0",IF(AND(AM58>=61,AM58<=80),"SGP-1",IF(AND(AM58>=41,AM58<=60),"SGP-2",IF(AND(AM58>=21,AM58<=40),"SGP-3",IF(AND(AM58>=0,AM58<=20),"SGP-4","")))))) -> SGP-1 | AM58: =IF(OR(AI58="",AJ58=""),"",IF(AI58=0,VLOOKUP(AJ58,NILAI_SGP,2),IF(AI58=1,VLOOKUP(AJ58,NILAI_SGP,3),IF(AI58=2,VLOOKUP(AJ58,NILAI_SGP,4),IF(AI58=3,VLOOKUP(AJ58,NILAI_SGP,5),IF(AI58=4,VLOOKUP(AJ58,NILAI_SGP,6),IF(AI58=5,VLOOKUP(AJ58,NILAI_SGP,7),IF(AI58=6,VLOOKUP(AJ58,NILAI_SGP,8),IF(AI58=7,VLOOKUP(AJ58,NILAI_SGP,9),IF(AI58=8,VLOOKUP(AJ58,NILAI_SGP,10),IF(AI58=9,VLOOKUP(AJ58,NILAI_SGP,11),IF(AI58=10,VLOOKUP(AJ58,NILAI_SGP,12),"")))))))))))) -> 79 | AN58: =IF(OR(AD58="",AH58="",AM58=""),"",VALUE(FIXED(((AD58+AH58+AM58)/3),2))) -> 86 | AO58: 6 | AP58: 200 | AQ58: =IF(OR(AO58="",AP58="",AO58=0),"",IF(OR(AO58="-",AP58="-"),"-",(AO58*$AO$10)+AP58)) -> 2600 | AR58: =IF(OR(G58="",AQ58="",AQ58=0),"",IF(OR(AO58="-",AP58="-"),"-",IF(G58="P",VLOOKUP(AQ58,LARI12mnt_CALON_PRIA,2),IF(G58="W",VLOOKUP(AQ58,LARI12mnt_CALON_WANITA,2),"")))) -> 52 | AS58: 18 | AT58: =IF(OR(G58="",AS58=""),"", IF(AS58="-","-", IF(G58="P",VLOOKUP(AS58,PULLUP_CALON_PRIA,2),IF(G58="W",VLOOKUP(AS58,CHINNING_CALON_WANITA,2),"")))) -> 100 | AU58: 41 | AV58: =IF(OR(G58="",AU58=""),"", IF(AU58="-","-", IF(G58="P",VLOOKUP(AU58,SITUP_CALON_PRIA,2),IF(G58="W",VLOOKUP(AU58,SITUP_CALON_WANITA,2),"")))) -> 100 | AW58: 53 | AX58: =IF(OR(G58="",AW58=""),"",IF(AW58="-","-", IF(G58="P",VLOOKUP(AW58,LUNGES_CALON_PRIA,2),IF(G58="W",VLOOKUP(AW58,LUNGES_CALON_WANITA,2),"")))) -> 95 | AY58: 43 | AZ58: =IF(OR(G58="",AY58=""),"", IF(AY58="-","-", IF(G58="P",VLOOKUP(AY58,PUSHUP_CALON_PRIA,2),IF(G58="W",VLOOKUP(AY58,MODIFPUSHUP_CALON_WANITA,2),"")))) -> 100 | BA58: 5.6 | BB58: =IF(OR(G58="",BA58="",BA58=0),"",IF(BA58="-","-", IF(G58="P",VLOOKUP(BA58,SHUTTLERUN_CALON_PRIA,2),IF(G58="W",VLOOKUP(BA58,SHUTTLERUN_CALON_WANITA,2),"")))) -> 62 | BC58: =IF(OR(AT58="",AV58="",AX58="",AZ58="",BB58=""),"",IF(OR(AS58="-",AU58="-",AW58="-",AY58="-",BA58="-"),0,VALUE(FIXED(((AT58+AV58+AX58+AZ58+BB58)/5),2)))) -> 91.4 | BD58: =IF(OR(AR58="",BC58=""),"",IF(OR(AS58="-",AU58="-",AW58="-",AY58="-",BA58="-"),0, VALUE(FIXED(((AR58+BC58)/2),2)))) -> 71.7 | BE58: GD | BF58: 25 M | BG58: =IF(BF58="","",IF(RIGHT(BF58,1)="M","","""")) | BH58: =IF(OR(G58="",AN58="",BD58=""),"", IF(OR(AE58="-",AF58="-",AI58="-",AJ58="-",AS58="-",AU58="-",AW58="-",AY58="-",BA58="-"),0, VALUE(FIXED(((AN58*30%)+(BD58*70%)),2)))) -> 75.99 | BI58: =IF(OR(G58="",BH58=""),"", IF(OR(AE58="-",AF58="-",AI58="-",AJ58="-",AS58="-",AU58="-",AW58="-",BA58="-"),0, IF(AND(BJ58="TL",OR(BH58<=40.99,BH58>=41)),VLOOKUP(BH58,NILAI_KONVERSI,2),IF(BJ58="L",BH58,"")))) -> 75.99 | BJ58: =IF(BH58="","", IF(OR(AQ58="-",AS58="-",AU58="-",AW58="-",AY58="-", BA58="-"),"-", IF(COUNTIF(BS58:CE58,"TL")>=1,"TL","L"))) -> L | BK58: =IF(BJ58="","",CONCATENATE(CH58,CI58,CJ58,CK58,CL58,CM58,CN58,CO58,CP58,CQ58,CR58,CS58,CU58,CT58)) -> Renang=25 M, | BS58: =IF(AD58="","",IF(AD58="-","-",IF(AD58<=20,"TL","L"))) -> L | BT58: =IF(AH58="","",IF(AH58="-","-",IF(AH58<=30,"TL","L"))) -> L | BU58: =IF(AM58="","",IF(AM58="-","-",IF(AM58<=20,"TL","L"))) -> L | BV58: =IF(AN58="","",IF(AN58="-","-",IF(AN58<=20.99,"TL","L"))) -> L | BW58: =IF(AR58="","", IF(AR58="-","-", IF(AR58<=34,"TL","L"))) -> L | BX58: =IF(AT58="","",IF(AT58="-","-",IF(G58="P",IF(AT58<=24,"TL",IF(AT58>=25,"L")),IF(G58="W",IF(AT58<=30,"TL",IF(AT58>=31,"L")))))) -> L | BY58: =IF(AV58="","",IF(AV58="-","-",IF(G58="P",IF(AV58<=30,"TL",IF(AV58>=31,"L")),IF(G58="W",IF(AV58<=30,"TL",IF(AV58>=31,"L")))))) -> L | BZ58: =IF(AX58="","",IF(AX58="-","-",IF(G58="P",IF(AX58<=30,"TL",IF(AX58>=31,"L")),IF(G58="W",IF(AX58<=30,"TL",IF(AX58>=31,"L")))))) -> L | CA58: =IF(AZ58="","",IF(AZ58="-","-",IF(G58="P",IF(AZ58<=30,"TL",IF(AZ58>=31,"L")),IF(G58="W",IF(AZ58<=30,"TL",IF(AZ58>=31,"L")))))) -> L | CB58: =IF(BB58="","",IF(BB58="-","-",IF(G58="P",IF(BB58<=30,"TL",IF(BB58>=31,"L")),IF(G58="W",IF(BB58<=30,"TL",IF(BB58>=31,"L")))))) -> L | CC58: =IF(BC58="","", IF(G58="P",IF(BC58<=34.99,"TL", IF(BC58>=35,"L")), IF(G58="W", IF(BC58<=34.99,"TL", IF(BC58>=35,"L"))))) -> L | CD58: =IF(BD58="","", IF(G58="P",IF(BD58<=40.99,"TL", IF(BD58>=41,"L")), IF(G58="W", IF(BD58<=40.99,"TL", IF(BD58>=41,"L"))))) -> L | CE58: =IF(BH58="","",IF(BH58<=40.99,"TL", IF(BH58>=41,"L"))) -> L | CH58: =IF(BS58="TL","BB="&""&AC58&"("&AD58&"), ", "") | CI58: =IF(OR(AE58="-",AF58="-"),"NSA= tdk melaks"&", ",IF(BT58="TL","NSA=N-"&AF58&""&"("&AH58&")"&"("&AG58&")"&", ","")) | CJ58: =IF(AL58="-","SGP= tdk melaks"&", ",IF(BU58="TL",AL58&"="&""&"("&AM58&"), ","")) | CK58: =IF(BV58="TL","NP="&"("&FIXED((AN58),2)&"), ","") | CL58: =IF(AQ58="-","A= tdk melaks"&", ", IF(BW58="TL","A="&"("&AR58&")"&" (Lari Kurang "&(AQ58-2272)&"m), ","")) | CM58: =IF(AS58="-","B1= tdk melaks"&", ",IF(BX58="TL","B1="&"("&AT58&"), ","")) | CN58: =IF(AU58="-","B2= tdk melaks"&", ",IF(BY58="TL","B2="&"("&AV58&"), ","")) | CO58: =IF(AW58="-","B3= tdk melaks"&", ",IF(BZ58="TL","B3="&"("&AX58&"), ","")) | CP58: =IF(BA58="-","B4= tdk melaks"&", ",IF(CA58="TL","B4="&"("&AZ58&"), ","")) | CQ58: =IF(BB58="-","B4= tdk melaks"&", ",IF(CB58="TL","B5="&"("&BB58&"), ","")) | CR58: =IF(CC58="TL","R.B="&"("&FIXED((BC58),2)&"), ", "") | CS58: =IF(CD58="TL","R.AB="&"("&FIXED((BD58),2)&"), ", "") | CT58: =IF(CE58="TL","N.A="&"("&FIXED((BH58),2)&").", "") | CU58: =IF(BF58="-","Renang= tdk melaks"&", ", IF(RIGHT(BF58,1)="M","Renang="&""&BF58&", ","")) -> Renang=25 M,
A59: 47 | B59: 17 | C59: MN3694PL | D59: B | E59: 36 | F59: MOH FIRLI BORAHIMA | G59: P | H59: 167.1 | I59: 57.9 | J59: =IF(OR(H59="",I59="",H59=0),"",K59-0.1) -> 50.8065 | K59: =IF(OR(H59="",I59="",H59=0),"",Q59-(Q59*15%)) -> 50.9065 | L59: =IF(OR(H59="",I59="",H59=0),"",M59-0.1) -> 52.30375 | M59: =IF(OR(H59="",I59="",H59=0),"",Q59-(Q59*12.5%)) -> 52.40375 | N59: =IF(OR(H59="",I59="",H59=0),"",O59-0.1) -> 55.29825 | O59: =IF(OR(H59="",I59="",H59=0),"",Q59-(Q59*7.5%)) -> 55.39825 | P59: =IF(OR(H59="",I59="",H59=0),"",Q59-0.1) -> 59.79 | Q59: =IF(OR(H59="",I59="",H59=0),"",90%*(H59-100)-0.5) -> 59.89 | R59: =IF(OR(H59="",I59="",H59=0),"",90%*(H59-100)) -> 60.39 | S59: =IF(OR(H59="",I59="",,H59=0),"",R59+0.1) -> 60.49 | T59: =IF(OR(H59="",I59="",H59=0),"",90%*(H59-100)+0.5) -> 60.89 | U59: =IF(OR(H59="",I59="",H59=0),"",T59+0.1) -> 60.99 | V59: =IF(OR(H59="",I59="",H59=0),"",T59+(T59*7.5%)) -> 65.45675 | W59: =IF(OR(H59="",I59="",H59=0),"",V59+0.1) -> 65.55675 | X59: =IF(OR(H59="",I59="",H59=0),"",T59+(T59*12.5%)) -> 68.50125 | Y59: =IF(OR(H59="",I59="",H59=0),"",X59+0.1) -> 68.60125 | Z59: =IF(OR(H59="",I59="",H59=0),"",T59+(T59*15%)) -> 70.0235 | AA59: =IF(OR(H59="",I59="",H59=0),"",Z59+0.1) -> 70.1235 | AB59: =IF(AC59="LLA","BB lebih"&" "&FIXED((I59-Z59),1) &" kg",IF(AC59="LLB","BB kurang"&" "&FIXED((I59-K59),1)&" kg","")) | AC59: =IF(OR(H59="",I59="", H59=0),"",IF(I59<K59,"LLB",IF(AND(I59>J59,I59<M59),"LB",IF(AND(I59>L59,I59<O59),"NB",IF(AND(I59>N59,I59<Q59),"HB",IF(AND(I59>P59,I59<S59),"IB",IF(AND(I59>R59,I59<U59),"IA",IF(AND(I59>T59,I59<W59),"HA",IF(AND(I59>V59,I59<Y59),"NA",IF(AND(I59>X59,I59<AA59),"LA",IF(I59>=AA59,"LLA",""))))))))))) -> HB | AD59: =IF(AC59="","", VLOOKUP(AC59,NILAI_TB_BB,2)) -> 70 | AE59: 0 | AF59: 5 | AG59: NM-= HP, LD, OBEEN-2, HAP | AH59: =IF(OR(AE59="",AF59=""),"", IF(OR(AE59="-",AF59="-"),"-", IF(AE59=0,VLOOKUP(AF59,NSA,2), IF(AE59=1,VLOOKUP(AF59,NSA,3), IF(AE59=2,VLOOKUP(AF59,NSA,4), IF(AE59=3,VLOOKUP(AF59,NSA,5), IF(AE59=4,VLOOKUP(AF59,NSA,6), IF(AE59=5,VLOOKUP(AF59,NSA,7), IF(AE59=6,VLOOKUP(AF59,NSA,8), IF(AE59=7,VLOOKUP(AF59,NSA,9), IF(AE59=8,VLOOKUP(AF59,NSA,10), IF(AE59=9,VLOOKUP(AF59,NSA,11), IF(AE59=10,VLOOKUP(AF59,NSA,12),""))))))))))))) -> 50 | AI59: 0 | AJ59: 2 | AK59: NM-= Gigi tonggos, Kulit bercak | AL59: =IF(AM59="","",IF(AM59>=81,"SGP-0",IF(AND(AM59>=61,AM59<=80),"SGP-1",IF(AND(AM59>=41,AM59<=60),"SGP-2",IF(AND(AM59>=21,AM59<=40),"SGP-3",IF(AND(AM59>=0,AM59<=20),"SGP-4","")))))) -> SGP-1 | AM59: =IF(OR(AI59="",AJ59=""),"",IF(AI59=0,VLOOKUP(AJ59,NILAI_SGP,2),IF(AI59=1,VLOOKUP(AJ59,NILAI_SGP,3),IF(AI59=2,VLOOKUP(AJ59,NILAI_SGP,4),IF(AI59=3,VLOOKUP(AJ59,NILAI_SGP,5),IF(AI59=4,VLOOKUP(AJ59,NILAI_SGP,6),IF(AI59=5,VLOOKUP(AJ59,NILAI_SGP,7),IF(AI59=6,VLOOKUP(AJ59,NILAI_SGP,8),IF(AI59=7,VLOOKUP(AJ59,NILAI_SGP,9),IF(AI59=8,VLOOKUP(AJ59,NILAI_SGP,10),IF(AI59=9,VLOOKUP(AJ59,NILAI_SGP,11),IF(AI59=10,VLOOKUP(AJ59,NILAI_SGP,12),"")))))))))))) -> 80 | AN59: =IF(OR(AD59="",AH59="",AM59=""),"",VALUE(FIXED(((AD59+AH59+AM59)/3),2))) -> 66.67 | AO59: 6 | AP59: 190 | AQ59: =IF(OR(AO59="",AP59="",AO59=0),"",IF(OR(AO59="-",AP59="-"),"-",(AO59*$AO$10)+AP59)) -> 2590 | AR59: =IF(OR(G59="",AQ59="",AQ59=0),"",IF(OR(AO59="-",AP59="-"),"-",IF(G59="P",VLOOKUP(AQ59,LARI12mnt_CALON_PRIA,2),IF(G59="W",VLOOKUP(AQ59,LARI12mnt_CALON_WANITA,2),"")))) -> 51 | AS59: 17 | AT59: =IF(OR(G59="",AS59=""),"", IF(AS59="-","-", IF(G59="P",VLOOKUP(AS59,PULLUP_CALON_PRIA,2),IF(G59="W",VLOOKUP(AS59,CHINNING_CALON_WANITA,2),"")))) -> 95 | AU59: 41 | AV59: =IF(OR(G59="",AU59=""),"", IF(AU59="-","-", IF(G59="P",VLOOKUP(AU59,SITUP_CALON_PRIA,2),IF(G59="W",VLOOKUP(AU59,SITUP_CALON_WANITA,2),"")))) -> 100 | AW59: 54 | AX59: =IF(OR(G59="",AW59=""),"",IF(AW59="-","-", IF(G59="P",VLOOKUP(AW59,LUNGES_CALON_PRIA,2),IF(G59="W",VLOOKUP(AW59,LUNGES_CALON_WANITA,2),"")))) -> 100 | AY59: 43 | AZ59: =IF(OR(G59="",AY59=""),"", IF(AY59="-","-", IF(G59="P",VLOOKUP(AY59,PUSHUP_CALON_PRIA,2),IF(G59="W",VLOOKUP(AY59,MODIFPUSHUP_CALON_WANITA,2),"")))) -> 100 | BA59: 5.4 | BB59: =IF(OR(G59="",BA59="",BA59=0),"",IF(BA59="-","-", IF(G59="P",VLOOKUP(BA59,SHUTTLERUN_CALON_PRIA,2),IF(G59="W",VLOOKUP(BA59,SHUTTLERUN_CALON_WANITA,2),"")))) -> 67 | BC59: =IF(OR(AT59="",AV59="",AX59="",AZ59="",BB59=""),"",IF(OR(AS59="-",AU59="-",AW59="-",AY59="-",BA59="-"),0,VALUE(FIXED(((AT59+AV59+AX59+AZ59+BB59)/5),2)))) -> 92.4 | BD59: =IF(OR(AR59="",BC59=""),"",IF(OR(AS59="-",AU59="-",AW59="-",AY59="-",BA59="-"),0, VALUE(FIXED(((AR59+BC59)/2),2)))) -> 71.7 | BE59: GD | BF59: 1.21 | BG59: =IF(BF59="","",IF(RIGHT(BF59,1)="M","","""")) -> " | BH59: =IF(OR(G59="",AN59="",BD59=""),"", IF(OR(AE59="-",AF59="-",AI59="-",AJ59="-",AS59="-",AU59="-",AW59="-",AY59="-",BA59="-"),0, VALUE(FIXED(((AN59*30%)+(BD59*70%)),2)))) -> 70.19 | BI59: =IF(OR(G59="",BH59=""),"", IF(OR(AE59="-",AF59="-",AI59="-",AJ59="-",AS59="-",AU59="-",AW59="-",BA59="-"),0, IF(AND(BJ59="TL",OR(BH59<=40.99,BH59>=41)),VLOOKUP(BH59,NILAI_KONVERSI,2),IF(BJ59="L",BH59,"")))) -> 70.19 | BJ59: =IF(BH59="","", IF(OR(AQ59="-",AS59="-",AU59="-",AW59="-",AY59="-", BA59="-"),"-", IF(COUNTIF(BS59:CE59,"TL")>=1,"TL","L"))) -> L | BK59: =IF(BJ59="","",CONCATENATE(CH59,CI59,CJ59,CK59,CL59,CM59,CN59,CO59,CP59,CQ59,CR59,CS59,CU59,CT59)) | BS59: =IF(AD59="","",IF(AD59="-","-",IF(AD59<=20,"TL","L"))) -> L | BT59: =IF(AH59="","",IF(AH59="-","-",IF(AH59<=30,"TL","L"))) -> L | BU59: =IF(AM59="","",IF(AM59="-","-",IF(AM59<=20,"TL","L"))) -> L | BV59: =IF(AN59="","",IF(AN59="-","-",IF(AN59<=20.99,"TL","L"))) -> L | BW59: =IF(AR59="","", IF(AR59="-","-", IF(AR59<=34,"TL","L"))) -> L | BX59: =IF(AT59="","",IF(AT59="-","-",IF(G59="P",IF(AT59<=24,"TL",IF(AT59>=25,"L")),IF(G59="W",IF(AT59<=30,"TL",IF(AT59>=31,"L")))))) -> L | BY59: =IF(AV59="","",IF(AV59="-","-",IF(G59="P",IF(AV59<=30,"TL",IF(AV59>=31,"L")),IF(G59="W",IF(AV59<=30,"TL",IF(AV59>=31,"L")))))) -> L | BZ59: =IF(AX59="","",IF(AX59="-","-",IF(G59="P",IF(AX59<=30,"TL",IF(AX59>=31,"L")),IF(G59="W",IF(AX59<=30,"TL",IF(AX59>=31,"L")))))) -> L | CA59: =IF(AZ59="","",IF(AZ59="-","-",IF(G59="P",IF(AZ59<=30,"TL",IF(AZ59>=31,"L")),IF(G59="W",IF(AZ59<=30,"TL",IF(AZ59>=31,"L")))))) -> L | CB59: =IF(BB59="","",IF(BB59="-","-",IF(G59="P",IF(BB59<=30,"TL",IF(BB59>=31,"L")),IF(G59="W",IF(BB59<=30,"TL",IF(BB59>=31,"L")))))) -> L | CC59: =IF(BC59="","", IF(G59="P",IF(BC59<=34.99,"TL", IF(BC59>=35,"L")), IF(G59="W", IF(BC59<=34.99,"TL", IF(BC59>=35,"L"))))) -> L | CD59: =IF(BD59="","", IF(G59="P",IF(BD59<=40.99,"TL", IF(BD59>=41,"L")), IF(G59="W", IF(BD59<=40.99,"TL", IF(BD59>=41,"L"))))) -> L | CE59: =IF(BH59="","",IF(BH59<=40.99,"TL", IF(BH59>=41,"L"))) -> L | CH59: =IF(BS59="TL","BB="&""&AC59&"("&AD59&"), ", "") | CI59: =IF(OR(AE59="-",AF59="-"),"NSA= tdk melaks"&", ",IF(BT59="TL","NSA=N-"&AF59&""&"("&AH59&")"&"("&AG59&")"&", ","")) | CJ59: =IF(AL59="-","SGP= tdk melaks"&", ",IF(BU59="TL",AL59&"="&""&"("&AM59&"), ","")) | CK59: =IF(BV59="TL","NP="&"("&FIXED((AN59),2)&"), ","") | CL59: =IF(AQ59="-","A= tdk melaks"&", ", IF(BW59="TL","A="&"("&AR59&")"&" (Lari Kurang "&(AQ59-2272)&"m), ","")) | CM59: =IF(AS59="-","B1= tdk melaks"&", ",IF(BX59="TL","B1="&"("&AT59&"), ","")) | CN59: =IF(AU59="-","B2= tdk melaks"&", ",IF(BY59="TL","B2="&"("&AV59&"), ","")) | CO59: =IF(AW59="-","B3= tdk melaks"&", ",IF(BZ59="TL","B3="&"("&AX59&"), ","")) | CP59: =IF(BA59="-","B4= tdk melaks"&", ",IF(CA59="TL","B4="&"("&AZ59&"), ","")) | CQ59: =IF(BB59="-","B4= tdk melaks"&", ",IF(CB59="TL","B5="&"("&BB59&"), ","")) | CR59: =IF(CC59="TL","R.B="&"("&FIXED((BC59),2)&"), ", "") | CS59: =IF(CD59="TL","R.AB="&"("&FIXED((BD59),2)&"), ", "") | CT59: =IF(CE59="TL","N.A="&"("&FIXED((BH59),2)&").", "") | CU59: =IF(BF59="-","Renang= tdk melaks"&", ", IF(RIGHT(BF59,1)="M","Renang="&""&BF59&", ",""))
