Workbook
Name CHINNING_CALON_WANITA: 'TABEL CALON WANITA'!$M$3:$N$56
Name Lari12menit_tabel69_pria: '[1]tabel 12 mnt pria (69_I_2019)'!$R$9:$AB$157
Name LARI12mnt_CALON_PRIA: 'tabel calon pria'!$K$3:$L$105
Name LARI12mnt_CALON_WANITA: 'TABEL CALON WANITA'!$J$3:$K$104
Name LUNGES_CALON_PRIA: 'tabel calon pria'!$T$3:$U$33
Name LUNGES_CALON_WANITA: 'TABEL CALON WANITA'!$S$3:$T$27
Name lunges_tabel69_pria: '[1]tabel 12 mnt pria (69_I_2019)'!$BN$9:$BX$66
Name MODIFPUSHUP_CALON_WANITA: 'TABEL CALON WANITA'!$V$3:$W$32
Name NILAI_KONVERSI: 'tabel calon pria'!$AE$3:$AF$24
Name NILAI_SGP: 'TABEL POSTUR'!$V$4:$AG$17
Name NILAI_TB_BB: 'TABEL POSTUR'!$G$4:$H$15
Name NSA: 'TABEL POSTUR'!$J$4:$T$17
Name PULLUP_CALON_PRIA: 'tabel calon pria'!$N$3:$O$23
Name pullup_tabel69_pria: '[1]tabel 12 mnt pria (69_I_2019)'!$AD$9:$AN$30
Name PUSHUP_CALON_PRIA: 'tabel calon pria'!$W$3:$X$45
Name pushup_tabel69_pria: '[1]tabel 12 mnt pria (69_I_2019)'!$BB$9:$BL$55
Name SHUTTLERUN_CALON_PRIA: 'tabel calon pria'!$AA$3:$AB$373
Name SHUTTLERUN_CALON_WANITA: 'TABEL CALON WANITA'!$Z$3:$AA$470
Name shuttlerun_tabel69_pria: '[1]tabel 12 mnt pria (69_I_2019)'!$BZ$9:$CJ$559
Name SITUP_CALON_PRIA: 'tabel calon pria'!$Q$3:$R$33
Name SITUP_CALON_WANITA: 'TABEL CALON WANITA'!$P$3:$Q$27
Name situp_tabel69_pria: '[1]tabel 12 mnt pria (69_I_2019)'!$AP$9:$AZ$53

Sheet FORMAT REKAP
A4: REKAPITULASI HASIL TES KESAMAPTAAN JASMANI SELEKSI PENERIMAAN TAMTAMA PK TNI AD GELOMBANG II TA. 2021
A5: SUBPANPUS KODAM ……..
A7: NO | D7: KELAS | E7: NO DADA | F7: NAMA | G7: JENIS KELAMIN | H7: POSTUR TUBUH | AO7: KESEGARAN JASMANI | BE7: KASJAS | BH7: NILAI AKHIR | BI7: NILAI AKHIR (KONVERSI) | BJ7: KLASIFIKASI AKHIR | BK7: KETERANGAN
A8: URUT | B8: TES | C8: GELANG | H8: PERBANDINGAN TB & BB | AE8: KELAINAN STRUTUR ANATOMI | AI8: SIKAP, GERAK & PENAMPILAN (SGP) | AN8: NILAI POSTUR | AO8: GARJAS "A" (LARI 12 MNT) | AS8: GARJAS "B" | BD8: NILAI RATA GARJAS "A+B" | BE8: RENANG DASAR JARAK 50 M | BS8: KLASIFIKASI | CH8: KETERANGAN
AS9: B1 : | AU9: B2 : | AW9: B3 : | AY9: B4 : | BA9: B5 : | BC9: NILAI RATA "B" | BE9: Gaya | BF9: WKT (mnt,dtk)/ JRK (M)
AO10: 400 | AP10: Lbh Jrk | AQ10: Jml Jrk (Meter) | AR10: Nilai | AS10: Pull Up | AU10: Sit Up | AW10: Lunges | AY10: Push Up | BA10: Shuttle Run | BS10: POSTUR | BW10: GARJAS | CE10: NA | CF10: RENANG | CH10: POSTUR | CL10: GARJAS | CT10: NA | CU10: RENANG
H11: TB (cm) | I11: BB (kg) | J11: LLB | K11: LB | M11: NB | O11: HB | Q11: IB | S11: IA | U11: HA | W11: NA | Y11: LA | AA11: LLA | AC11: Klas | AD11: Nilai | AE11: BN | AF11: N- | AG11: Kelainan | AH11: Nilai | AI11: BN | AJ11: N- | AK11: Kelainan | AL11: SGP- | AM11: Nilai | AO11: Putaran | AS11: Jml | AT11: Nilai | AU11: Jml | AV11: Nilai | AW11: Jml | AX11: Nilai | AY11: Jml | AZ11: Nilai | BA11: Wkt (dtk) | BB11: Nilai | BS11: TB & BB | BT11: NSA | BU11: SGP | BV11: NP | BW11: A | BX11: B1 | BY11: B2 | BZ11: B3 | CA11: B4 | CB11: B5 | CC11: /B | CD11: /AB | CH11: TB & BB | CI11: NSA | CJ11: SGP | CK11: NP | CL11: A | CM11: B1 | CN11: B2 | CO11: B3 | CP11: B4 | CQ11: B5 | CR11: /B | CS11: /AB
A13: 1 | B13: 1 | C13: MN3641PL | D13: A | E13: 1 | F13: ROLAN D BUHANG | G13: P | H13: 168 | I13: 54.8 | J13: =IF(OR(H13="",I13="",H13=0),"",K13-0.1) -> 51.495 | K13: =IF(OR(H13="",I13="",H13=0),"",Q13-(Q13*15%)) -> 51.595 | L13: =IF(OR(H13="",I13="",H13=0),"",M13-0.1) -> 53.0125 | M13: =IF(OR(H13="",I13="",H13=0),"",Q13-(Q13*12.5%)) -> 53.1125 | N13: =IF(OR(H13="",I13="",H13=0),"",O13-0.1) -> 56.0475 | O13: =IF(OR(H13="",I13="",H13=0),"",Q13-(Q13*7.5%)) -> 56.1475 | P13: =IF(OR(H13="",I13="",H13=0),"",Q13-0.1) -> 60.6 | Q13: =IF(OR(H13="",I13="",H13=0),"",90%*(H13-100)-0.5) -> 60.7 | R13: =IF(OR(H13="",I13="",H13=0),"",90%*(H13-100)) -> 61.2 | S13: =IF(OR(H13="",I13="",,H13=0),"",R13+0.1) -> 61.3 | T13: =IF(OR(H13="",I13="",H13=0),"",90%*(H13-100)+0.5) -> 61.7 | U13: =IF(OR(H13="",I13="",H13=0),"",T13+0.1) -> 61.8 | V13: =IF(OR(H13="",I13="",H13=0),"",T13+(T13*7.5%)) -> 66.3275 | W13: =IF(OR(H13="",I13="",H13=0),"",V13+0.1) -> 66.4275 | X13: =IF(OR(H13="",I13="",H13=0),"",T13+(T13*12.5%)) -> 69.4125 | Y13: =IF(OR(H13="",I13="",H13=0),"",X13+0.1) -> 69.5125 | Z13: =IF(OR(H13="",I13="",H13=0),"",T13+(T13*15%)) -> 70.955 | AA13: =IF(OR(H13="",I13="",H13=0),"",Z13+0.1) -> 71.055 | AB13: =IF(AC13="LLA","BB lebih"&" "&FIXED((I13-Z13),1) &" kg",IF(AC13="LLB","BB kurang"&" "&FIXED((I13-K13),1)&" kg","")) | AC13: =IF(OR(H13="",I13="", H13=0),"",IF(I13<K13,"LLB",IF(AND(I13>J13,I13<M13),"LB",IF(AND(I13>L13,I13<O13),"NB",IF(AND(I13>N13,I13<Q13),"HB",IF(AND(I13>P13,I13<S13),"IB",IF(AND(I13>R13,I13<U13),"IA",IF(AND(I13>T13,I13<W13),"HA",IF(AND(I13>V13,I13<Y13),"NA",IF(AND(I13>X13,I13<AA13),"LA",IF(I13>=AA13,"LLA",""))))))))))) -> NB | AD13: =IF(AC13="","", VLOOKUP(AC13,NILAI_TB_BB,2)) -> 50 | AE13: 0 | AF13: 5 | AG13: NM-= HA, SDL, HAS-A, KT | AH13: =IF(OR(AE13="",AF13=""),"", IF(OR(AE13="-",AF13="-"),"-", IF(AE13=0,VLOOKUP(AF13,NSA,2), IF(AE13=1,VLOOKUP(AF13,NSA,3), IF(AE13=2,VLOOKUP(AF13,NSA,4), IF(AE13=3,VLOOKUP(AF13,NSA,5), IF(AE13=4,VLOOKUP(AF13,NSA,6), IF(AE13=5,VLOOKUP(AF13,NSA,7), IF(AE13=6,VLOOKUP(AF13,NSA,8), IF(AE13=7,VLOOKUP(AF13,NSA,9), IF(AE13=8,VLOOKUP(AF13,NSA,10), IF(AE13=9,VLOOKUP(AF13,NSA,11), IF(AE13=10,VLOOKUP(AF13,NSA,12),""))))))))))))) -> 50 | AI13: 0 | AJ13: 3 | AK13: NM-= Mulut cakil, Keloid-2 | AL13: =IF(AM13="","",IF(AM13>=81,"SGP-0",IF(AND(AM13>=61,AM13<=80),"SGP-1",IF(AND(AM13>=41,AM13<=60),"SGP-2",IF(AND(AM13>=21,AM13<=40),"SGP-3",IF(AND(AM13>=0,AM13<=20),"SGP-4","")))))) -> SGP-1 | AM13: =IF(OR(AI13="",AJ13=""),"",IF(AI13=0,VLOOKUP(AJ13,NILAI_SGP,2),IF(AI13=1,VLOOKUP(AJ13,NILAI_SGP,3),IF(AI13=2,VLOOKUP(AJ13,NILAI_SGP,4),IF(AI13=3,VLOOKUP(AJ13,NILAI_SGP,5),IF(AI13=4,VLOOKUP(AJ13,NILAI_SGP,6),IF(AI13=5,VLOOKUP(AJ13,NILAI_SGP,7),IF(AI13=6,VLOOKUP(AJ13,NILAI_SGP,8),IF(AI13=7,VLOOKUP(AJ13,NILAI_SGP,9),IF(AI13=8,VLOOKUP(AJ13,NILAI_SGP,10),IF(AI13=9,VLOOKUP(AJ13,NILAI_SGP,11),IF(AI13=10,VLOOKUP(AJ13,NILAI_SGP,12),"")))))))))))) -> 70 | AN13: =IF(OR(AD13="",AH13="",AM13=""),"",VALUE(FIXED(((AD13+AH13+AM13)/3),2))) -> 56.67 | AO13: 8 | AP13: 20 | AQ13: =IF(OR(AO13="",AP13="",AO13=0),"",IF(OR(AO13="-",AP13="-"),"-",(AO13*$AO$10)+AP13)) -> 3220 | AR13: =IF(OR(G13="",AQ13="",AQ13=0),"",IF(OR(AO13="-",AP13="-"),"-",IF(G13="P",VLOOKUP(AQ13,LARI12mnt_CALON_PRIA,2),IF(G13="W",VLOOKUP(AQ13,LARI12mnt_CALON_WANITA,2),"")))) -> 84 | AS13: 18 | AT13: =IF(OR(G13="",AS13=""),"", IF(AS13="-","-", IF(G13="P",VLOOKUP(AS13,PULLUP_CALON_PRIA,2),IF(G13="W",VLOOKUP(AS13,CHINNING_CALON_WANITA,2),"")))) -> 100 | AU13: 41 | AV13: =IF(OR(G13="",AU13=""),"", IF(AU13="-","-", IF(G13="P",VLOOKUP(AU13,SITUP_CALON_PRIA,2),IF(G13="W",VLOOKUP(AU13,SITUP_CALON_WANITA,2),"")))) -> 100 | AW13: 49 | AX13: =IF(OR(G13="",AW13=""),"",IF(AW13="-","-", IF(G13="P",VLOOKUP(AW13,LUNGES_CALON_PRIA,2),IF(G13="W",VLOOKUP(AW13,LUNGES_CALON_WANITA,2),"")))) -> 75 | AY13: 40 | AZ13: =IF(OR(G13="",AY13=""),"", IF(AY13="-","-", IF(G13="P",VLOOKUP(AY13,PUSHUP_CALON_PRIA,2),IF(G13="W",VLOOKUP(AY13,MODIFPUSHUP_CALON_WANITA,2),"")))) -> 93 | BA13: 5.08 | BB13: =IF(OR(G13="",BA13="",BA13=0),"",IF(BA13="-","-", IF(G13="P",VLOOKUP(BA13,SHUTTLERUN_CALON_PRIA,2),IF(G13="W",VLOOKUP(BA13,SHUTTLERUN_CALON_WANITA,2),"")))) -> 77 | BC13: =IF(OR(AT13="",AV13="",AX13="",AZ13="",BB13=""),"",IF(OR(AS13="-",AU13="-",AW13="-",AY13="-",BA13="-"),0,VALUE(FIXED(((AT13+AV13+AX13+AZ13+BB13)/5),2)))) -> 89 | BD13: =IF(OR(AR13="",BC13=""),"",IF(OR(AS13="-",AU13="-",AW13="-",AY13="-",BA13="-"),0, VALUE(FIXED(((AR13+BC13)/2),2)))) -> 86.5 | BE13: G | BF13: 0.51 | BG13: =IF(BF13="","",IF(RIGHT(BF13,1)="M","","""")) -> " | BH13: =IF(OR(G13="",AN13="",BD13=""),"", IF(OR(AE13="-",AF13="-",AI13="-",AJ13="-",AS13="-",AU13="-",AW13="-",AY13="-",BA13="-"),0, VALUE(FIXED(((AN13*30%)+(BD13*70%)),2)))) -> 77.55 | BI13: =IF(OR(G13="",BH13=""),"", IF(OR(AE13="-",AF13="-",AI13="-",AJ13="-",AS13="-",AU13="-",AW13="-",BA13="-"),0, IF(AND(BJ13="TL",OR(BH13<=40.99,BH13>=41)),VLOOKUP(BH13,NILAI_KONVERSI,2),IF(BJ13="L",BH13,"")))) -> 77.55 | BJ13: =IF(BH13="","", IF(OR(AQ13="-",AS13="-",AU13="-",AW13="-",AY13="-", BA13="-"),"-", IF(COUNTIF(BS13:CE13,"TL")>=1,"TL","L"))) -> L | BK13: =IF(BJ13="","",CONCATENATE(CH13,CI13,CJ13,CK13,CL13,CM13,CN13,CO13,CP13,CQ13,CR13,CS13,CU13,CT13)) | BS13: =IF(AD13="","",IF(AD13="-","-",IF(AD13<=20,"TL","L"))) -> L | BT13: =IF(AH13="","",IF(AH13="-","-",IF(AH13<=30,"TL","L"))) -> L | BU13: =IF(AM13="","",IF(AM13="-","-",IF(AM13<=20,"TL","L"))) -> L | BV13: =IF(AN13="","",IF(AN13="-","-",IF(AN13<=20.99,"TL","L"))) -> L | BW13: =IF(AR13="","", IF(AR13="-","-", IF(AR13<=34,"TL","L"))) -> L | BX13: =IF(AT13="","",IF(AT13="-","-",IF(G13="P",IF(AT13<=24,"TL",IF(AT13>=25,"L")),IF(G13="W",IF(AT13<=30,"TL",IF(AT13>=31,"L")))))) -> L | BY13: =IF(AV13="","",IF(AV13="-","-",IF(G13="P",IF(AV13<=30,"TL",IF(AV13>=31,"L")),IF(G13="W",IF(AV13<=30,"TL",IF(AV13>=31,"L")))))) -> L | BZ13: =IF(AX13="","",IF(AX13="-","-",IF(G13="P",IF(AX13<=30,"TL",IF(AX13>=31,"L")),IF(G13="W",IF(AX13<=30,"TL",IF(AX13>=31,"L")))))) -> L | CA13: =IF(AZ13="","",IF(AZ13="-","-",IF(G13="P",IF(AZ13<=30,"TL",IF(AZ13>=31,"L")),IF(G13="W",IF(AZ13<=30,"TL",IF(AZ13>=31,"L")))))) -> L | CB13: =IF(BB13="","",IF(BB13="-","-",IF(G13="P",IF(BB13<=30,"TL",IF(BB13>=31,"L")),IF(G13="W",IF(BB13<=30,"TL",IF(BB13>=31,"L")))))) -> L | CC13: =IF(BC13="","", IF(G13="P",IF(BC13<=34.99,"TL", IF(BC13>=35,"L")), IF(G13="W", IF(BC13<=34.99,"TL", IF(BC13>=35,"L"))))) -> L | CD13: =IF(BD13="","", IF(G13="P",IF(BD13<=40.99,"TL", IF(BD13>=41,"L")), IF(G13="W", IF(BD13<=40.99,"TL", IF(BD13>=41,"L"))))) -> L | CE13: =IF(BH13="","",IF(BH13<=40.99,"TL", IF(BH13>=41,"L"))) -> L | CH13: =IF(BS13="TL","BB="&""&AC13&"("&AD13&"), ", "") | CI13: =IF(OR(AE13="-",AF13="-"),"NSA= tdk melaks"&", ",IF(BT13="TL","NSA=N-"&AF13&""&"("&AH13&")"&"("&AG13&")"&", ","")) | CJ13: =IF(AL13="-","SGP= tdk melaks"&", ",IF(BU13="TL",AL13&"="&""&"("&AM13&"), ","")) | CK13: =IF(BV13="TL","NP="&"("&FIXED((AN13),2)&"), ","") | CL13: =IF(AQ13="-","A= tdk melaks"&", ", IF(BW13="TL","A="&"("&AR13&")"&" (Lari Kurang "&(AQ13-2272)&"m), ","")) | CM13: =IF(AS13="-","B1= tdk melaks"&", ",IF(BX13="TL","B1="&"("&AT13&"), ","")) | CN13: =IF(AU13="-","B2= tdk melaks"&", ",IF(BY13="TL","B2="&"("&AV13&"), ","")) | CO13: =IF(AW13="-","B3= tdk melaks"&", ",IF(BZ13="TL","B3="&"("&AX13&"), ","")) | CP13: =IF(BA13="-","B4= tdk melaks"&", ",IF(CA13="TL","B4="&"("&AZ13&"), ","")) | CQ13: =IF(BB13="-","B4= tdk melaks"&", ",IF(CB13="TL","B5="&"("&BB13&"), ","")) | CR13: =IF(CC13="TL","R.B="&"("&FIXED((BC13),2)&"), ", "") | CS13: =IF(CD13="TL","R.AB="&"("&FIXED((BD13),2)&"), ", "") | CT13: =IF(CE13="TL","N.A="&"("&FIXED((BH13),2)&").", "") | CU13: =IF(BF13="-","Renang= tdk melaks"&", ", IF(RIGHT(BF13,1)="M","Renang="&""&BF13&", ",""))
A14: 2 | B14: 2 | C14: MN3642PL | D14: A | E14: 2 | F14: ABDULLAH | G14: P | H14: 166.5 | I14: 68.8 | J14: =IF(OR(H14="",I14="",H14=0),"",K14-0.1) -> 50.3475 | K14: =IF(OR(H14="",I14="",H14=0),"",Q14-(Q14*15%)) -> 50.4475 | L14: =IF(OR(H14="",I14="",H14=0),"",M14-0.1) -> 51.83125 | M14: =IF(OR(H14="",I14="",H14=0),"",Q14-(Q14*12.5%)) -> 51.93125 | N14: =IF(OR(H14="",I14="",H14=0),"",O14-0.1) -> 54.79875 | O14: =IF(OR(H14="",I14="",H14=0),"",Q14-(Q14*7.5%)) -> 54.89875 | P14: =IF(OR(H14="",I14="",H14=0),"",Q14-0.1) -> 59.25 | Q14: =IF(OR(H14="",I14="",H14=0),"",90%*(H14-100)-0.5) -> 59.35 | R14: =IF(OR(H14="",I14="",H14=0),"",90%*(H14-100)) -> 59.85 | S14: =IF(OR(H14="",I14="",,H14=0),"",R14+0.1) -> 59.95 | T14: =IF(OR(H14="",I14="",H14=0),"",90%*(H14-100)+0.5) -> 60.35 | U14: =IF(OR(H14="",I14="",H14=0),"",T14+0.1) -> 60.45 | V14: =IF(OR(H14="",I14="",H14=0),"",T14+(T14*7.5%)) -> 64.87625 | W14: =IF(OR(H14="",I14="",H14=0),"",V14+0.1) -> 64.97625 | X14: =IF(OR(H14="",I14="",H14=0),"",T14+(T14*12.5%)) -> 67.89375 | Y14: =IF(OR(H14="",I14="",H14=0),"",X14+0.1) -> 67.99375 | Z14: =IF(OR(H14="",I14="",H14=0),"",T14+(T14*15%)) -> 69.4025 | AA14: =IF(OR(H14="",I14="",H14=0),"",Z14+0.1) -> 69.5025 | AB14: =IF(AC14="LLA","BB lebih"&" "&FIXED((I14-Z14),1) &" kg",IF(AC14="LLB","BB kurang"&" "&FIXED((I14-K14),1)&" kg","")) | AC14: =IF(OR(H14="",I14="", H14=0),"",IF(I14<K14,"LLB",IF(AND(I14>J14,I14<M14),"LB",IF(AND(I14>L14,I14<O14),"NB",IF(AND(I14>N14,I14<Q14),"HB",IF(AND(I14>P14,I14<S14),"IB",IF(AND(I14>R14,I14<U14),"IA",IF(AND(I14>T14,I14<W14),"HA",IF(AND(I14>V14,I14<Y14),"NA",IF(AND(I14>X14,I14<AA14),"LA",IF(I14>=AA14,"LLA",""))))))))))) -> LA | AD14: =IF(AC14="","", VLOOKUP(AC14,NILAI_TB_BB,2)) -> 40 | AE14: 0 | AF14: 4 | AG14: NM-= SDR, HAS, LD, HAP | AH14: =IF(OR(AE14="",AF14=""),"", IF(OR(AE14="-",AF14="-"),"-", IF(AE14=0,VLOOKUP(AF14,NSA,2), IF(AE14=1,VLOOKUP(AF14,NSA,3), IF(AE14=2,VLOOKUP(AF14,NSA,4), IF(AE14=3,VLOOKUP(AF14,NSA,5), IF(AE14=4,VLOOKUP(AF14,NSA,6), IF(AE14=5,VLOOKUP(AF14,NSA,7), IF(AE14=6,VLOOKUP(AF14,NSA,8), IF(AE14=7,VLOOKUP(AF14,NSA,9), IF(AE14=8,VLOOKUP(AF14,NSA,10), IF(AE14=9,VLOOKUP(AF14,NSA,11), IF(AE14=10,VLOOKUP(AF14,NSA,12),""))))))))))))) -> 60 | AI14: 0 | AJ14: 3 | AK14: NM-= Berjalan kaki tinggi sebelah, Gigi bertaring, Keloid | AL14: =IF(AM14="","",IF(AM14>=81,"SGP-0",IF(AND(AM14>=61,AM14<=80),"SGP-1",IF(AND(AM14>=41,AM14<=60),"SGP-2",IF(AND(AM14>=21,AM14<=40),"SGP-3",IF(AND(AM14>=0,AM14<=20),"SGP-4","")))))) -> SGP-1 | AM14: =IF(OR(AI14="",AJ14=""),"",IF(AI14=0,VLOOKUP(AJ14,NILAI_SGP,2),IF(AI14=1,VLOOKUP(AJ14,NILAI_SGP,3),IF(AI14=2,VLOOKUP(AJ14,NILAI_SGP,4),IF(AI14=3,VLOOKUP(AJ14,NILAI_SGP,5),IF(AI14=4,VLOOKUP(AJ14,NILAI_SGP,6),IF(AI14=5,VLOOKUP(AJ14,NILAI_SGP,7),IF(AI14=6,VLOOKUP(AJ14,NILAI_SGP,8),IF(AI14=7,VLOOKUP(AJ14,NILAI_SGP,9),IF(AI14=8,VLOOKUP(AJ14,NILAI_SGP,10),IF(AI14=9,VLOOKUP(AJ14,NILAI_SGP,11),IF(AI14=10,VLOOKUP(AJ14,NILAI_SGP,12),"")))))))))))) -> 70 | AN14: =IF(OR(AD14="",AH14="",AM14=""),"",VALUE(FIXED(((AD14+AH14+AM14)/3),2))) -> 56.67 | AO14: 8 | AP14: 110 | AQ14: =IF(OR(AO14="",AP14="",AO14=0),"",IF(OR(AO14="-",AP14="-"),"-",(AO14*$AO$10)+AP14)) -> 3310 | AR14: =IF(OR(G14="",AQ14="",AQ14=0),"",IF(OR(AO14="-",AP14="-"),"-",IF(G14="P",VLOOKUP(AQ14,LARI12mnt_CALON_PRIA,2),IF(G14="W",VLOOKUP(AQ14,LARI12mnt_CALON_WANITA,2),"")))) -> 89 | AS14: 18 | AT14: =IF(OR(G14="",AS14=""),"", IF(AS14="-","-", IF(G14="P",VLOOKUP(AS14,PULLUP_CALON_PRIA,2),IF(G14="W",VLOOKUP(AS14,CHINNING_CALON_WANITA,2),"")))) -> 100 | AU14: 41 | AV14: =IF(OR(G14="",AU14=""),"", IF(AU14="-","-", IF(G14="P",VLOOKUP(AU14,SITUP_CALON_PRIA,2),IF(G14="W",VLOOKUP(AU14,SITUP_CALON_WANITA,2),"")))) -> 100 | AW14: 54 | AX14: =IF(OR(G14="",AW14=""),"",IF(AW14="-","-", IF(G14="P",VLOOKUP(AW14,LUNGES_CALON_PRIA,2),IF(G14="W",VLOOKUP(AW14,LUNGES_CALON_WANITA,2),"")))) -> 100 | AY14: 43 | AZ14: =IF(OR(G14="",AY14=""),"", IF(AY14="-","-", IF(G14="P",VLOOKUP(AY14,PUSHUP_CALON_PRIA,2),IF(G14="W",VLOOKUP(AY14,MODIFPUSHUP_CALON_WANITA,2),"")))) -> 100 | BA14: 4.09 | BB14: =IF(OR(G14="",BA14="",BA14=0),"",IF(BA14="-","-", IF(G14="P",VLOOKUP(BA14,SHUTTLERUN_CALON_PRIA,2),IF(G14="W",VLOOKUP(BA14,SHUTTLERUN_CALON_WANITA,2),"")))) -> 100 | BC14: =IF(OR(AT14="",AV14="",AX14="",AZ14="",BB14=""),"",IF(OR(AS14="-",AU14="-",AW14="-",AY14="-",BA14="-"),0,VALUE(FIXED(((AT14+AV14+AX14+AZ14+BB14)/5),2)))) -> 100 | BD14: =IF(OR(AR14="",BC14=""),"",IF(OR(AS14="-",AU14="-",AW14="-",AY14="-",BA14="-"),0, VALUE(FIXED(((AR14+BC14)/2),2)))) -> 94.5 | BE14: G | BF14: 0.56 | BG14: =IF(BF14="","",IF(RIGHT(BF14,1)="M","","""")) -> " | BH14: =IF(OR(G14="",AN14="",BD14=""),"", IF(OR(AE14="-",AF14="-",AI14="-",AJ14="-",AS14="-",AU14="-",AW14="-",AY14="-",BA14="-"),0, VALUE(FIXED(((AN14*30%)+(BD14*70%)),2)))) -> 83.15 | BI14: =IF(OR(G14="",BH14=""),"", IF(OR(AE14="-",AF14="-",AI14="-",AJ14="-",AS14="-",AU14="-",AW14="-",BA14="-"),0, IF(AND(BJ14="TL",OR(BH14<=40.99,BH14>=41)),VLOOKUP(BH14,NILAI_KONVERSI,2),IF(BJ14="L",BH14,"")))) -> 83.15 | BJ14: =IF(BH14="","", IF(OR(AQ14="-",AS14="-",AU14="-",AW14="-",AY14="-", BA14="-"),"-", IF(COUNTIF(BS14:CE14,"TL")>=1,"TL","L"))) -> L | BK14: =IF(BJ14="","",CONCATENATE(CH14,CI14,CJ14,CK14,CL14,CM14,CN14,CO14,CP14,CQ14,CR14,CS14,CU14,CT14)) | BS14: =IF(AD14="","",IF(AD14="-","-",IF(AD14<=20,"TL","L"))) -> L | BT14: =IF(AH14="","",IF(AH14="-","-",IF(AH14<=30,"TL","L"))) -> L | BU14: =IF(AM14="","",IF(AM14="-","-",IF(AM14<=20,"TL","L"))) -> L | BV14: =IF(AN14="","",IF(AN14="-","-",IF(AN14<=20.99,"TL","L"))) -> L | BW14: =IF(AR14="","", IF(AR14="-","-", IF(AR14<=34,"TL","L"))) -> L | BX14: =IF(AT14="","",IF(AT14="-","-",IF(G14="P",IF(AT14<=24,"TL",IF(AT14>=25,"L")),IF(G14="W",IF(AT14<=30,"TL",IF(AT14>=31,"L")))))) -> L | BY14: =IF(AV14="","",IF(AV14="-","-",IF(G14="P",IF(AV14<=30,"TL",IF(AV14>=31,"L")),IF(G14="W",IF(AV14<=30,"TL",IF(AV14>=31,"L")))))) -> L | BZ14: =IF(AX14="","",IF(AX14="-","-",IF(G14="P",IF(AX14<=30,"TL",IF(AX14>=31,"L")),IF(G14="W",IF(AX14<=30,"TL",IF(AX14>=31,"L")))))) -> L | CA14: =IF(AZ14="","",IF(AZ14="-","-",IF(G14="P",IF(AZ14<=30,"TL",IF(AZ14>=31,"L")),IF(G14="W",IF(AZ14<=30,"TL",IF(AZ14>=31,"L")))))) -> L | CB14: =IF(BB14="","",IF(BB14="-","-",IF(G14="P",IF(BB14<=30,"TL",IF(BB14>=31,"L")),IF(G14="W",IF(BB14<=30,"TL",IF(BB14>=31,"L")))))) -> L | CC14: =IF(BC14="","", IF(G14="P",IF(BC14<=34.99,"TL", IF(BC14>=35,"L")), IF(G14="W", IF(BC14<=34.99,"TL", IF(BC14>=35,"L"))))) -> L | CD14: =IF(BD14="","", IF(G14="P",IF(BD14<=40.99,"TL", IF(BD14>=41,"L")), IF(G14="W", IF(BD14<=40.99,"TL", IF(BD14>=41,"L"))))) -> L | CE14: =IF(BH14="","",IF(BH14<=40.99,"TL", IF(BH14>=41,"L"))) -> L | CH14: =IF(BS14="TL","BB="&""&AC14&"("&AD14&"), ", "") | CI14: =IF(OR(AE14="-",AF14="-"),"NSA= tdk melaks"&", ",IF(BT14="TL","NSA=N-"&AF14&""&"("&AH14&")"&"("&AG14&")"&", ","")) | CJ14: =IF(AL14="-","SGP= tdk melaks"&", ",IF(BU14="TL",AL14&"="&""&"("&AM14&"), ","")) | CK14: =IF(BV14="TL","NP="&"("&FIXED((AN14),2)&"), ","") | CL14: =IF(AQ14="-","A= tdk melaks"&", ", IF(BW14="TL","A="&"("&AR14&")"&" (Lari Kurang "&(AQ14-2272)&"m), ","")) | CM14: =IF(AS14="-","B1= tdk melaks"&", ",IF(BX14="TL","B1="&"("&AT14&"), ","")) | CN14: =IF(AU14="-","B2= tdk melaks"&", ",IF(BY14="TL","B2="&"("&AV14&"), ","")) | CO14: =IF(AW14="-","B3= tdk melaks"&", ",IF(BZ14="TL","B3="&"("&AX14&"), ","")) | CP14: =IF(BA14="-","B4= tdk melaks"&", ",IF(CA14="TL","B4="&"("&AZ14&"), ","")) | CQ14: =IF(BB14="-","B4= tdk melaks"&", ",IF(CB14="TL","B5="&"("&BB14&"), ","")) | CR14: =IF(CC14="TL","R.B="&"("&FIXED((BC14),2)&"), ", "") | CS14: =IF(CD14="TL","R.AB="&"("&FIXED((BD14),2)&"), ", "") | CT14: =IF(CE14="TL","N.A="&"("&FIXED((BH14),2)&").", "") | CU14: =IF(BF14="-","Renang= tdk melaks"&", ", IF(RIGHT(BF14,1)="M","Renang="&""&BF14&", ",""))
A15: 3 | B15: 3 | C15: MN3643PL | D15: A | E15: 3 | F15: REPALDI PAKAYA | G15: P | H15: 166.6 | I15: 59.6 | J15: =IF(OR(H15="",I15="",H15=0),"",K15-0.1) -> 50.424 | K15: =IF(OR(H15="",I15="",H15=0),"",Q15-(Q15*15%)) -> 50.524 | L15: =IF(OR(H15="",I15="",H15=0),"",M15-0.1) -> 51.91 | M15: =IF(OR(H15="",I15="",H15=0),"",Q15-(Q15*12.5%)) -> 52.01 | N15: =IF(OR(H15="",I15="",H15=0),"",O15-0.1) -> 54.882 | O15: =IF(OR(H15="",I15="",H15=0),"",Q15-(Q15*7.5%)) -> 54.982 | P15: =IF(OR(H15="",I15="",H15=0),"",Q15-0.1) -> 59.34 | Q15: =IF(OR(H15="",I15="",H15=0),"",90%*(H15-100)-0.5) -> 59.44 | R15: =IF(OR(H15="",I15="",H15=0),"",90%*(H15-100)) -> 59.94 | S15: =IF(OR(H15="",I15="",,H15=0),"",R15+0.1) -> 60.04 | T15: =IF(OR(H15="",I15="",H15=0),"",90%*(H15-100)+0.5) -> 60.44 | U15: =IF(OR(H15="",I15="",H15=0),"",T15+0.1) -> 60.54 | V15: =IF(OR(H15="",I15="",H15=0),"",T15+(T15*7.5%)) -> 64.973 | W15: =IF(OR(H15="",I15="",H15=0),"",V15+0.1) -> 65.073 | X15: =IF(OR(H15="",I15="",H15=0),"",T15+(T15*12.5%)) -> 67.995 | Y15: =IF(OR(H15="",I15="",H15=0),"",X15+0.1) -> 68.095 | Z15: =IF(OR(H15="",I15="",H15=0),"",T15+(T15*15%)) -> 69.506 | AA15: =IF(OR(H15="",I15="",H15=0),"",Z15+0.1) -> 69.606 | AB15: =IF(AC15="LLA","BB lebih"&" "&FIXED((I15-Z15),1) &" kg",IF(AC15="LLB","BB kurang"&" "&FIXED((I15-K15),1)&" kg","")) | AC15: =IF(OR(H15="",I15="", H15=0),"",IF(I15<K15,"LLB",IF(AND(I15>J15,I15<M15),"LB",IF(AND(I15>L15,I15<O15),"NB",IF(AND(I15>N15,I15<Q15),"HB",IF(AND(I15>P15,I15<S15),"IB",IF(AND(I15>R15,I15<U15),"IA",IF(AND(I15>T15,I15<W15),"HA",IF(AND(I15>V15,I15<Y15),"NA",IF(AND(I15>X15,I15<AA15),"LA",IF(I15>=AA15,"LLA",""))))))))))) -> IB | AD15: =IF(AC15="","", VLOOKUP(AC15,NILAI_TB_BB,2)) -> 90 | AE15: 0 | AF15: 5 | AG15: NM-= HA, SDR, LD-2, HEX | AH15: =IF(OR(AE15="",AF15=""),"", IF(OR(AE15="-",AF15="-"),"-", IF(AE15=0,VLOOKUP(AF15,NSA,2), IF(AE15=1,VLOOKUP(AF15,NSA,3), IF(AE15=2,VLOOKUP(AF15,NSA,4), IF(AE15=3,VLOOKUP(AF15,NSA,5), IF(AE15=4,VLOOKUP(AF15,NSA,6), IF(AE15=5,VLOOKUP(AF15,NSA,7), IF(AE15=6,VLOOKUP(AF15,NSA,8), IF(AE15=7,VLOOKUP(AF15,NSA,9), IF(AE15=8,VLOOKUP(AF15,NSA,10), IF(AE15=9,VLOOKUP(AF15,NSA,11), IF(AE15=10,VLOOKUP(AF15,NSA,12),""))))))))))))) -> 50 | AI15: 1 | AJ15: 3 | AK15: BN-= Berjalan mengangkang / NM-= Gigi kelinci, Keloid-2 | AL15: =IF(AM15="","",IF(AM15>=81,"SGP-0",IF(AND(AM15>=61,AM15<=80),"SGP-1",IF(AND(AM15>=41,AM15<=60),"SGP-2",IF(AND(AM15>=21,AM15<=40),"SGP-3",IF(AND(AM15>=0,AM15<=20),"SGP-4","")))))) -> SGP-1 | AM15: =IF(OR(AI15="",AJ15=""),"",IF(AI15=0,VLOOKUP(AJ15,NILAI_SGP,2),IF(AI15=1,VLOOKUP(AJ15,NILAI_SGP,3),IF(AI15=2,VLOOKUP(AJ15,NILAI_SGP,4),IF(AI15=3,VLOOKUP(AJ15,NILAI_SGP,5),IF(AI15=4,VLOOKUP(AJ15,NILAI_SGP,6),IF(AI15=5,VLOOKUP(AJ15,NILAI_SGP,7),IF(AI15=6,VLOOKUP(AJ15,NILAI_SGP,8),IF(AI15=7,VLOOKUP(AJ15,NILAI_SGP,9),IF(AI15=8,VLOOKUP(AJ15,NILAI_SGP,10),IF(AI15=9,VLOOKUP(AJ15,NILAI_SGP,11),IF(AI15=10,VLOOKUP(AJ15,NILAI_SGP,12),"")))))))))))) -> 69 | AN15: =IF(OR(AD15="",AH15="",AM15=""),"",VALUE(FIXED(((AD15+AH15+AM15)/3),2))) -> 69.67 | AO15: 7 | AP15: 140 | AQ15: =IF(OR(AO15="",AP15="",AO15=0),"",IF(OR(AO15="-",AP15="-"),"-",(AO15*$AO$10)+AP15)) -> 2940 | AR15: =IF(OR(G15="",AQ15="",AQ15=0),"",IF(OR(AO15="-",AP15="-"),"-",IF(G15="P",VLOOKUP(AQ15,LARI12mnt_CALON_PRIA,2),IF(G15="W",VLOOKUP(AQ15,LARI12mnt_CALON_WANITA,2),"")))) -> 70 | AS15: 17 | AT15: =IF(OR(G15="",AS15=""),"", IF(AS15="-","-", IF(G15="P",VLOOKUP(AS15,PULLUP_CALON_PRIA,2),IF(G15="W",VLOOKUP(AS15,CHINNING_CALON_WANITA,2),"")))) -> 95 | AU15: 41 | AV15: =IF(OR(G15="",AU15=""),"", IF(AU15="-","-", IF(G15="P",VLOOKUP(AU15,SITUP_CALON_PRIA,2),IF(G15="W",VLOOKUP(AU15,SITUP_CALON_WANITA,2),"")))) -> 100 | AW15: 53 | AX15: =IF(OR(G15="",AW15=""),"",IF(AW15="-","-", IF(G15="P",VLOOKUP(AW15,LUNGES_CALON_PRIA,2),IF(G15="W",VLOOKUP(AW15,LUNGES_CALON_WANITA,2),"")))) -> 95 | AY15: 43 | AZ15: =IF(OR(G15="",AY15=""),"", IF(AY15="-","-", IF(G15="P",VLOOKUP(AY15,PUSHUP_CALON_PRIA,2),IF(G15="W",VLOOKUP(AY15,MODIFPUSHUP_CALON_WANITA,2),"")))) -> 100 | BA15: 5.03 | BB15: =IF(OR(G15="",BA15="",BA15=0),"",IF(BA15="-","-", IF(G15="P",VLOOKUP(BA15,SHUTTLERUN_CALON_PRIA,2),IF(G15="W",VLOOKUP(BA15,SHUTTLERUN_CALON_WANITA,2),"")))) -> 79 | BC15: =IF(OR(AT15="",AV15="",AX15="",AZ15="",BB15=""),"",IF(OR(AS15="-",AU15="-",AW15="-",AY15="-",BA15="-"),0,VALUE(FIXED(((AT15+AV15+AX15+AZ15+BB15)/5),2)))) -> 93.8 | BD15: =IF(OR(AR15="",BC15=""),"",IF(OR(AS15="-",AU15="-",AW15="-",AY15="-",BA15="-"),0, VALUE(FIXED(((AR15+BC15)/2),2)))) -> 81.9 | BE15: G | BF15: 0.55 | BG15: =IF(BF15="","",IF(RIGHT(BF15,1)="M","","""")) -> " | BH15: =IF(OR(G15="",AN15="",BD15=""),"", IF(OR(AE15="-",AF15="-",AI15="-",AJ15="-",AS15="-",AU15="-",AW15="-",AY15="-",BA15="-"),0, VALUE(FIXED(((AN15*30%)+(BD15*70%)),2)))) -> 78.23 | BI15: =IF(OR(G15="",BH15=""),"", IF(OR(AE15="-",AF15="-",AI15="-",AJ15="-",AS15="-",AU15="-",AW15="-",BA15="-"),0, IF(AND(BJ15="TL",OR(BH15<=40.99,BH15>=41)),VLOOKUP(BH15,NILAI_KONVERSI,2),IF(BJ15="L",BH15,"")))) -> 78.23 | BJ15: =IF(BH15="","", IF(OR(AQ15="-",AS15="-",AU15="-",AW15="-",AY15="-", BA15="-"),"-", IF(COUNTIF(BS15:CE15,"TL")>=1,"TL","L"))) -> L | BK15: =IF(BJ15="","",CONCATENATE(CH15,CI15,CJ15,CK15,CL15,CM15,CN15,CO15,CP15,CQ15,CR15,CS15,CU15,CT15)) | BS15: =IF(AD15="","",IF(AD15="-","-",IF(AD15<=20,"TL","L"))) -> L | BT15: =IF(AH15="","",IF(AH15="-","-",IF(AH15<=30,"TL","L"))) -> L | BU15: =IF(AM15="","",IF(AM15="-","-",IF(AM15<=20,"TL","L"))) -> L | BV15: =IF(AN15="","",IF(AN15="-","-",IF(AN15<=20.99,"TL","L"))) -> L | BW15: =IF(AR15="","", IF(AR15="-","-", IF(AR15<=34,"TL","L"))) -> L | BX15: =IF(AT15="","",IF(AT15="-","-",IF(G15="P",IF(AT15<=24,"TL",IF(AT15>=25,"L")),IF(G15="W",IF(AT15<=30,"TL",IF(AT15>=31,"L")))))) -> L | BY15: =IF(AV15="","",IF(AV15="-","-",IF(G15="P",IF(AV15<=30,"TL",IF(AV15>=31,"L")),IF(G15="W",IF(AV15<=30,"TL",IF(AV15>=31,"L")))))) -> L | BZ15: =IF(AX15="","",IF(AX15="-","-",IF(G15="P",IF(AX15<=30,"TL",IF(AX15>=31,"L")),IF(G15="W",IF(AX15<=30,"TL",IF(AX15>=31,"L")))))) -> L | CA15: =IF(AZ15="","",IF(AZ15="-","-",IF(G15="P",IF(AZ15<=30,"TL",IF(AZ15>=31,"L")),IF(G15="W",IF(AZ15<=30,"TL",IF(AZ15>=31,"L")))))) -> L | CB15: =IF(BB15="","",IF(BB15="-","-",IF(G15="P",IF(BB15<=30,"TL",IF(BB15>=31,"L")),IF(G15="W",IF(BB15<=30,"TL",IF(BB15>=31,"L")))))) -> L | CC15: =IF(BC15="","", IF(G15="P",IF(BC15<=34.99,"TL", IF(BC15>=35,"L")), IF(G15="W", IF(BC15<=34.99,"TL", IF(BC15>=35,"L"))))) -> L | CD15: =IF(BD15="","", IF(G15="P",IF(BD15<=40.99,"TL", IF(BD15>=41,"L")), IF(G15="W", IF(BD15<=40.99,"TL", IF(BD15>=41,"L"))))) -> L | CE15: =IF(BH15="","",IF(BH15<=40.99,"TL", IF(BH15>=41,"L"))) -> L | CH15: =IF(BS15="TL","BB="&""&AC15&"("&AD15&"), ", "") | CI15: =IF(OR(AE15="-",AF15="-"),"NSA= tdk melaks"&", ",IF(BT15="TL","NSA=N-"&AF15&""&"("&AH15&")"&"("&AG15&")"&", ","")) | CJ15: =IF(AL15="-","SGP= tdk melaks"&", ",IF(BU15="TL",AL15&"="&""&"("&AM15&"), ","")) | CK15: =IF(BV15="TL","NP="&"("&FIXED((AN15),2)&"), ","") | CL15: =IF(AQ15="-","A= tdk melaks"&", ", IF(BW15="TL","A="&"("&AR15&")"&" (Lari Kurang "&(AQ15-2272)&"m), ","")) | CM15: =IF(AS15="-","B1= tdk melaks"&", ",IF(BX15="TL","B1="&"("&AT15&"), ","")) | CN15: =IF(AU15="-","B2= tdk melaks"&", ",IF(BY15="TL","B2="&"("&AV15&"), ","")) | CO15: =IF(AW15="-","B3= tdk melaks"&", ",IF(BZ15="TL","B3="&"("&AX15&"), ","")) | CP15: =IF(BA15="-","B4= tdk melaks"&", ",IF(CA15="TL","B4="&"("&AZ15&"), ","")) | CQ15: =IF(BB15="-","B4= tdk melaks"&", ",IF(CB15="TL","B5="&"("&BB15&"), ","")) | CR15: =IF(CC15="TL","R.B="&"("&FIXED((BC15),2)&"), ", "") | CS15: =IF(CD15="TL","R.AB="&"("&FIXED((BD15),2)&"), ", "") | CT15: =IF(CE15="TL","N.A="&"("&FIXED((BH15),2)&").", "") | CU15: =IF(BF15="-","Renang= tdk melaks"&", ", IF(RIGHT(BF15,1)="M","Renang="&""&BF15&", ",""))
A16: 4 | B16: 4 | C16: MN3644PL | D16: A | E16: 4 | F16: ANDRI A RAHMAN | G16: P | H16: 164.1 | I16: 58.1 | J16: =IF(OR(H16="",I16="",H16=0),"",K16-0.1) -> 48.5115 | K16: =IF(OR(H16="",I16="",H16=0),"",Q16-(Q16*15%)) -> 48.6115 | L16: =IF(OR(H16="",I16="",H16=0),"",M16-0.1) -> 49.94125 | M16: =IF(OR(H16="",I16="",H16=0),"",Q16-(Q16*12.5%)) -> 50.04125 | N16: =IF(OR(H16="",I16="",H16=0),"",O16-0.1) -> 52.80075 | O16: =IF(OR(H16="",I16="",H16=0),"",Q16-(Q16*7.5%)) -> 52.90075 | P16: =IF(OR(H16="",I16="",H16=0),"",Q16-0.1) -> 57.09 | Q16: =IF(OR(H16="",I16="",H16=0),"",90%*(H16-100)-0.5) -> 57.19 | R16: =IF(OR(H16="",I16="",H16=0),"",90%*(H16-100)) -> 57.69 | S16: =IF(OR(H16="",I16="",,H16=0),"",R16+0.1) -> 57.79 | T16: =IF(OR(H16="",I16="",H16=0),"",90%*(H16-100)+0.5) -> 58.19 | U16: =IF(OR(H16="",I16="",H16=0),"",T16+0.1) -> 58.29 | V16: =IF(OR(H16="",I16="",H16=0),"",T16+(T16*7.5%)) -> 62.55425 | W16: =IF(OR(H16="",I16="",H16=0),"",V16+0.1) -> 62.65425 | X16: =IF(OR(H16="",I16="",H16=0),"",T16+(T16*12.5%)) -> 65.46375 | Y16: =IF(OR(H16="",I16="",H16=0),"",X16+0.1) -> 65.56375 | Z16: =IF(OR(H16="",I16="",H16=0),"",T16+(T16*15%)) -> 66.9185 | AA16: =IF(OR(H16="",I16="",H16=0),"",Z16+0.1) -> 67.0185 | AB16: =IF(AC16="LLA","BB lebih"&" "&FIXED((I16-Z16),1) &" kg",IF(AC16="LLB","BB kurang"&" "&FIXED((I16-K16),1)&" kg","")) | AC16: =IF(OR(H16="",I16="", H16=0),"",IF(I16<K16,"LLB",IF(AND(I16>J16,I16<M16),"LB",IF(AND(I16>L16,I16<O16),"NB",IF(AND(I16>N16,I16<Q16),"HB",IF(AND(I16>P16,I16<S16),"IB",IF(AND(I16>R16,I16<U16),"IA",IF(AND(I16>T16,I16<W16),"HA",IF(AND(I16>V16,I16<Y16),"NA",IF(AND(I16>X16,I16<AA16),"LA",IF(I16>=AA16,"LLA",""))))))))))) -> IA | AD16: =IF(AC16="","", VLOOKUP(AC16,NILAI_TB_BB,2)) -> 100 | AE16: 0 | AF16: 7 | AG16: NM-= SDR, XBEEN-3, HAP-3 | AH16: =IF(OR(AE16="",AF16=""),"", IF(OR(AE16="-",AF16="-"),"-", IF(AE16=0,VLOOKUP(AF16,NSA,2), IF(AE16=1,VLOOKUP(AF16,NSA,3), IF(AE16=2,VLOOKUP(AF16,NSA,4), IF(AE16=3,VLOOKUP(AF16,NSA,5), IF(AE16=4,VLOOKUP(AF16,NSA,6), IF(AE16=5,VLOOKUP(AF16,NSA,7), IF(AE16=6,VLOOKUP(AF16,NSA,8), IF(AE16=7,VLOOKUP(AF16,NSA,9), IF(AE16=8,VLOOKUP(AF16,NSA,10), IF(AE16=9,VLOOKUP(AF16,NSA,11), IF(AE16=10,VLOOKUP(AF16,NSA,12),""))))))))))))) -> 30 | AI16: 0 | AJ16: 2 | AK16: NM-= Berjalan feminim, Mata mengantuk | AL16: =IF(AM16="","",IF(AM16>=81,"SGP-0",IF(AND(AM16>=61,AM16<=80),"SGP-1",IF(AND(AM16>=41,AM16<=60),"SGP-2",IF(AND(AM16>=21,AM16<=40),"SGP-3",IF(AND(AM16>=0,AM16<=20),"SGP-4","")))))) -> SGP-1 | AM16: =IF(OR(AI16="",AJ16=""),"",IF(AI16=0,VLOOKUP(AJ16,NILAI_SGP,2),IF(AI16=1,VLOOKUP(AJ16,NILAI_SGP,3),IF(AI16=2,VLOOKUP(AJ16,NILAI_SGP,4),IF(AI16=3,VLOOKUP(AJ16,NILAI_SGP,5),IF(AI16=4,VLOOKUP(AJ16,NILAI_SGP,6),IF(AI16=5,VLOOKUP(AJ16,NILAI_SGP,7),IF(AI16=6,VLOOKUP(AJ16,NILAI_SGP,8),IF(AI16=7,VLOOKUP(AJ16,NILAI_SGP,9),IF(AI16=8,VLOOKUP(AJ16,NILAI_SGP,10),IF(AI16=9,VLOOKUP(AJ16,NILAI_SGP,11),IF(AI16=10,VLOOKUP(AJ16,NILAI_SGP,12),"")))))))))))) -> 80 | AN16: =IF(OR(AD16="",AH16="",AM16=""),"",VALUE(FIXED(((AD16+AH16+AM16)/3),2))) -> 70 | AO16: 7 | AP16: 70 | AQ16: =IF(OR(AO16="",AP16="",AO16=0),"",IF(OR(AO16="-",AP16="-"),"-",(AO16*$AO$10)+AP16)) -> 2870 | AR16: =IF(OR(G16="",AQ16="",AQ16=0),"",IF(OR(AO16="-",AP16="-"),"-",IF(G16="P",VLOOKUP(AQ16,LARI12mnt_CALON_PRIA,2),IF(G16="W",VLOOKUP(AQ16,LARI12mnt_CALON_WANITA,2),"")))) -> 66 | AS16: 16 | AT16: =IF(OR(G16="",AS16=""),"", IF(AS16="-","-", IF(G16="P",VLOOKUP(AS16,PULLUP_CALON_PRIA,2),IF(G16="W",VLOOKUP(AS16,CHINNING_CALON_WANITA,2),"")))) -> 90 | AU16: 41 | AV16: =IF(OR(G16="",AU16=""),"", IF(AU16="-","-", IF(G16="P",VLOOKUP(AU16,SITUP_CALON_PRIA,2),IF(G16="W",VLOOKUP(AU16,SITUP_CALON_WANITA,2),"")))) -> 100 | AW16: 54 | AX16: =IF(OR(G16="",AW16=""),"",IF(AW16="-","-", IF(G16="P",VLOOKUP(AW16,LUNGES_CALON_PRIA,2),IF(G16="W",VLOOKUP(AW16,LUNGES_CALON_WANITA,2),"")))) -> 100 | AY16: 43 | AZ16: =IF(OR(G16="",AY16=""),"", IF(AY16="-","-", IF(G16="P",VLOOKUP(AY16,PUSHUP_CALON_PRIA,2),IF(G16="W",VLOOKUP(AY16,MODIFPUSHUP_CALON_WANITA,2),"")))) -> 100 | BA16: 5.08 | BB16: =IF(OR(G16="",BA16="",BA16=0),"",IF(BA16="-","-", IF(G16="P",VLOOKUP(BA16,SHUTTLERUN_CALON_PRIA,2),IF(G16="W",VLOOKUP(BA16,SHUTTLERUN_CALON_WANITA,2),"")))) -> 77 | BC16: =IF(OR(AT16="",AV16="",AX16="",AZ16="",BB16=""),"",IF(OR(AS16="-",AU16="-",AW16="-",AY16="-",BA16="-"),0,VALUE(FIXED(((AT16+AV16+AX16+AZ16+BB16)/5),2)))) -> 93.4 | BD16: =IF(OR(AR16="",BC16=""),"",IF(OR(AS16="-",AU16="-",AW16="-",AY16="-",BA16="-"),0, VALUE(FIXED(((AR16+BC16)/2),2)))) -> 79.7 | BE16: G | BF16: 1.07 | BG16: =IF(BF16="","",IF(RIGHT(BF16,1)="M","","""")) -> " | BH16: =IF(OR(G16="",AN16="",BD16=""),"", IF(OR(AE16="-",AF16="-",AI16="-",AJ16="-",AS16="-",AU16="-",AW16="-",AY16="-",BA16="-"),0, VALUE(FIXED(((AN16*30%)+(BD16*70%)),2)))) -> 76.79 | BI16: =IF(OR(G16="",BH16=""),"", IF(OR(AE16="-",AF16="-",AI16="-",AJ16="-",AS16="-",AU16="-",AW16="-",BA16="-"),0, IF(AND(BJ16="TL",OR(BH16<=40.99,BH16>=41)),VLOOKUP(BH16,NILAI_KONVERSI,2),IF(BJ16="L",BH16,"")))) -> 38 | BJ16: =IF(BH16="","", IF(OR(AQ16="-",AS16="-",AU16="-",AW16="-",AY16="-", BA16="-"),"-", IF(COUNTIF(BS16:CE16,"TL")>=1,"TL","L"))) -> TL | BK16: =IF(BJ16="","",CONCATENATE(CH16,CI16,CJ16,CK16,CL16,CM16,CN16,CO16,CP16,CQ16,CR16,CS16,CU16,CT16)) -> NSA=N-7(30)(NM-= SDR, XBEEN-3, HAP-3), | BS16: =IF(AD16="","",IF(AD16="-","-",IF(AD16<=20,"TL","L"))) -> L | BT16: =IF(AH16="","",IF(AH16="-","-",IF(AH16<=30,"TL","L"))) -> TL | BU16: =IF(AM16="","",IF(AM16="-","-",IF(AM16<=20,"TL","L"))) -> L | BV16: =IF(AN16="","",IF(AN16="-","-",IF(AN16<=20.99,"TL","L"))) -> L | BW16: =IF(AR16="","", IF(AR16="-","-", IF(AR16<=34,"TL","L"))) -> L | BX16: =IF(AT16="","",IF(AT16="-","-",IF(G16="P",IF(AT16<=24,"TL",IF(AT16>=25,"L")),IF(G16="W",IF(AT16<=30,"TL",IF(AT16>=31,"L")))))) -> L | BY16: =IF(AV16="","",IF(AV16="-","-",IF(G16="P",IF(AV16<=30,"TL",IF(AV16>=31,"L")),IF(G16="W",IF(AV16<=30,"TL",IF(AV16>=31,"L")))))) -> L | BZ16: =IF(AX16="","",IF(AX16="-","-",IF(G16="P",IF(AX16<=30,"TL",IF(AX16>=31,"L")),IF(G16="W",IF(AX16<=30,"TL",IF(AX16>=31,"L")))))) -> L | CA16: =IF(AZ16="","",IF(AZ16="-","-",IF(G16="P",IF(AZ16<=30,"TL",IF(AZ16>=31,"L")),IF(G16="W",IF(AZ16<=30,"TL",IF(AZ16>=31,"L")))))) -> L | CB16: =IF(BB16="","",IF(BB16="-","-",IF(G16="P",IF(BB16<=30,"TL",IF(BB16>=31,"L")),IF(G16="W",IF(BB16<=30,"TL",IF(BB16>=31,"L")))))) -> L | CC16: =IF(BC16="","", IF(G16="P",IF(BC16<=34.99,"TL", IF(BC16>=35,"L")), IF(G16="W", IF(BC16<=34.99,"TL", IF(BC16>=35,"L"))))) -> L | CD16: =IF(BD16="","", IF(G16="P",IF(BD16<=40.99,"TL", IF(BD16>=41,"L")), IF(G16="W", IF(BD16<=40.99,"TL", IF(BD16>=41,"L"))))) -> L | CE16: =IF(BH16="","",IF(BH16<=40.99,"TL", IF(BH16>=41,"L"))) -> L | CH16: =IF(BS16="TL","BB="&""&AC16&"("&AD16&"), ", "") | CI16: =IF(OR(AE16="-",AF16="-"),"NSA= tdk melaks"&", ",IF(BT16="TL","NSA=N-"&AF16&""&"("&AH16&")"&"("&AG16&")"&", ","")) -> NSA=N-7(30)(NM-= SDR, XBEEN-3, HAP-3), | CJ16: =IF(AL16="-","SGP= tdk melaks"&", ",IF(BU16="TL",AL16&"="&""&"("&AM16&"), ","")) | CK16: =IF(BV16="TL","NP="&"("&FIXED((AN16),2)&"), ","") | CL16: =IF(AQ16="-","A= tdk melaks"&", ", IF(BW16="TL","A="&"("&AR16&")"&" (Lari Kurang "&(AQ16-2272)&"m), ","")) | CM16: =IF(AS16="-","B1= tdk melaks"&", ",IF(BX16="TL","B1="&"("&AT16&"), ","")) | CN16: =IF(AU16="-","B2= tdk melaks"&", ",IF(BY16="TL","B2="&"("&AV16&"), ","")) | CO16: =IF(AW16="-","B3= tdk melaks"&", ",IF(BZ16="TL","B3="&"("&AX16&"), ","")) | CP16: =IF(BA16="-","B4= tdk melaks"&", ",IF(CA16="TL","B4="&"("&AZ16&"), ","")) | CQ16: =IF(BB16="-","B4= tdk melaks"&", ",IF(CB16="TL","B5="&"("&BB16&"), ","")) | CR16: =IF(CC16="TL","R.B="&"("&FIXED((BC16),2)&"), ", "") | CS16: =IF(CD16="TL","R.AB="&"("&FIXED((BD16),2)&"), ", "") | CT16: =IF(CE16="TL","N.A="&"("&FIXED((BH16),2)&").", "") | CU16: =IF(BF16="-","Renang= tdk melaks"&", ", IF(RIGHT(BF16,1)="M","Renang="&""&BF16&", ",""))
A17: 5 | B17: 5 | C17: MN3645PL | D17: A | E17: 5 | F17: ABD KADIR JAELANI B KANOLI | G17: P | H17: 170.5 | I17: 59.2 | J17: =IF(OR(H17="",I17="",H17=0),"",K17-0.1) -> 53.4075 | K17: =IF(OR(H17="",I17="",H17=0),"",Q17-(Q17*15%)) -> 53.5075 | L17: =IF(OR(H17="",I17="",H17=0),"",M17-0.1) -> 54.98125 | M17: =IF(OR(H17="",I17="",H17=0),"",Q17-(Q17*12.5%)) -> 55.08125 | N17: =IF(OR(H17="",I17="",H17=0),"",O17-0.1) -> 58.12875 | O17: =IF(OR(H17="",I17="",H17=0),"",Q17-(Q17*7.5%)) -> 58.22875 | P17: =IF(OR(H17="",I17="",H17=0),"",Q17-0.1) -> 62.85 | Q17: =IF(OR(H17="",I17="",H17=0),"",90%*(H17-100)-0.5) -> 62.95 | R17: =IF(OR(H17="",I17="",H17=0),"",90%*(H17-100)) -> 63.45 | S17: =IF(OR(H17="",I17="",,H17=0),"",R17+0.1) -> 63.55 | T17: =IF(OR(H17="",I17="",H17=0),"",90%*(H17-100)+0.5) -> 63.95 | U17: =IF(OR(H17="",I17="",H17=0),"",T17+0.1) -> 64.05 | V17: =IF(OR(H17="",I17="",H17=0),"",T17+(T17*7.5%)) -> 68.74625 | W17: =IF(OR(H17="",I17="",H17=0),"",V17+0.1) -> 68.84625 | X17: =IF(OR(H17="",I17="",H17=0),"",T17+(T17*12.5%)) -> 71.94375 | Y17: =IF(OR(H17="",I17="",H17=0),"",X17+0.1) -> 72.04375 | Z17: =IF(OR(H17="",I17="",H17=0),"",T17+(T17*15%)) -> 73.5425 | AA17: =IF(OR(H17="",I17="",H17=0),"",Z17+0.1) -> 73.6425 | AB17: =IF(AC17="LLA","BB lebih"&" "&FIXED((I17-Z17),1) &" kg",IF(AC17="LLB","BB kurang"&" "&FIXED((I17-K17),1)&" kg","")) | AC17: =IF(OR(H17="",I17="", H17=0),"",IF(I17<K17,"LLB",IF(AND(I17>J17,I17<M17),"LB",IF(AND(I17>L17,I17<O17),"NB",IF(AND(I17>N17,I17<Q17),"HB",IF(AND(I17>P17,I17<S17),"IB",IF(AND(I17>R17,I17<U17),"IA",IF(AND(I17>T17,I17<W17),"HA",IF(AND(I17>V17,I17<Y17),"NA",IF(AND(I17>X17,I17<AA17),"LA",IF(I17>=AA17,"LLA",""))))))))))) -> HB | AD17: =IF(AC17="","", VLOOKUP(AC17,NILAI_TB_BB,2)) -> 70 | AE17: 0 | AF17: 4 | AG17: NM-= SDL, HAS, KT, HAP | AH17: =IF(OR(AE17="",AF17=""),"", IF(OR(AE17="-",AF17="-"),"-", IF(AE17=0,VLOOKUP(AF17,NSA,2), IF(AE17=1,VLOOKUP(AF17,NSA,3), IF(AE17=2,VLOOKUP(AF17,NSA,4), IF(AE17=3,VLOOKUP(AF17,NSA,5), IF(AE17=4,VLOOKUP(AF17,NSA,6), IF(AE17=5,VLOOKUP(AF17,NSA,7), IF(AE17=6,VLOOKUP(AF17,NSA,8), IF(AE17=7,VLOOKUP(AF17,NSA,9), IF(AE17=8,VLOOKUP(AF17,NSA,10), IF(AE17=9,VLOOKUP(AF17,NSA,11), IF(AE17=10,VLOOKUP(AF17,NSA,12),""))))))))))))) -> 60 | AI17: 1 | AJ17: 1 | AK17: BN= Tahi lalat / NM-= Berjalan mengangkat tumit | AL17: =IF(AM17="","",IF(AM17>=81,"SGP-0",IF(AND(AM17>=61,AM17<=80),"SGP-1",IF(AND(AM17>=41,AM17<=60),"SGP-2",IF(AND(AM17>=21,AM17<=40),"SGP-3",IF(AND(AM17>=0,AM17<=20),"SGP-4","")))))) -> SGP-0 | AM17: =IF(OR(AI17="",AJ17=""),"",IF(AI17=0,VLOOKUP(AJ17,NILAI_SGP,2),IF(AI17=1,VLOOKUP(AJ17,NILAI_SGP,3),IF(AI17=2,VLOOKUP(AJ17,NILAI_SGP,4),IF(AI17=3,VLOOKUP(AJ17,NILAI_SGP,5),IF(AI17=4,VLOOKUP(AJ17,NILAI_SGP,6),IF(AI17=5,VLOOKUP(AJ17,NILAI_SGP,7),IF(AI17=6,VLOOKUP(AJ17,NILAI_SGP,8),IF(AI17=7,VLOOKUP(AJ17,NILAI_SGP,9),IF(AI17=8,VLOOKUP(AJ17,NILAI_SGP,10),IF(AI17=9,VLOOKUP(AJ17,NILAI_SGP,11),IF(AI17=10,VLOOKUP(AJ17,NILAI_SGP,12),"")))))))))))) -> 89 | AN17: =IF(OR(AD17="",AH17="",AM17=""),"",VALUE(FIXED(((AD17+AH17+AM17)/3),2))) -> 73 | AO17: 7 | AP17: 390 | AQ17: =IF(OR(AO17="",AP17="",AO17=0),"",IF(OR(AO17="-",AP17="-"),"-",(AO17*$AO$10)+AP17)) -> 3190 | AR17: =IF(OR(G17="",AQ17="",AQ17=0),"",IF(OR(AO17="-",AP17="-"),"-",IF(G17="P",VLOOKUP(AQ17,LARI12mnt_CALON_PRIA,2),IF(G17="W",VLOOKUP(AQ17,LARI12mnt_CALON_WANITA,2),"")))) -> 83 | AS17: 13 | AT17: =IF(OR(G17="",AS17=""),"", IF(AS17="-","-", IF(G17="P",VLOOKUP(AS17,PULLUP_CALON_PRIA,2),IF(G17="W",VLOOKUP(AS17,CHINNING_CALON_WANITA,2),"")))) -> 75 | AU17: 41 | AV17: =IF(OR(G17="",AU17=""),"", IF(AU17="-","-", IF(G17="P",VLOOKUP(AU17,SITUP_CALON_PRIA,2),IF(G17="W",VLOOKUP(AU17,SITUP_CALON_WANITA,2),"")))) -> 100 | AW17: 54 | AX17: =IF(OR(G17="",AW17=""),"",IF(AW17="-","-", IF(G17="P",VLOOKUP(AW17,LUNGES_CALON_PRIA,2),IF(G17="W",VLOOKUP(AW17,LUNGES_CALON_WANITA,2),"")))) -> 100 | AY17: 43 | AZ17: =IF(OR(G17="",AY17=""),"", IF(AY17="-","-", IF(G17="P",VLOOKUP(AY17,PUSHUP_CALON_PRIA,2),IF(G17="W",VLOOKUP(AY17,MODIFPUSHUP_CALON_WANITA,2),"")))) -> 100 | BA17: 5.08 | BB17: =IF(OR(G17="",BA17="",BA17=0),"",IF(BA17="-","-", IF(G17="P",VLOOKUP(BA17,SHUTTLERUN_CALON_PRIA,2),IF(G17="W",VLOOKUP(BA17,SHUTTLERUN_CALON_WANITA,2),"")))) -> 77 | BC17: =IF(OR(AT17="",AV17="",AX17="",AZ17="",BB17=""),"",IF(OR(AS17="-",AU17="-",AW17="-",AY17="-",BA17="-"),0,VALUE(FIXED(((AT17+AV17+AX17+AZ17+BB17)/5),2)))) -> 90.4 | BD17: =IF(OR(AR17="",BC17=""),"",IF(OR(AS17="-",AU17="-",AW17="-",AY17="-",BA17="-"),0, VALUE(FIXED(((AR17+BC17)/2),2)))) -> 86.7 | BE17: G | BF17: 0.56 | BG17: =IF(BF17="","",IF(RIGHT(BF17,1)="M","","""")) -> " | BH17: =IF(OR(G17="",AN17="",BD17=""),"", IF(OR(AE17="-",AF17="-",AI17="-",AJ17="-",AS17="-",AU17="-",AW17="-",AY17="-",BA17="-"),0, VALUE(FIXED(((AN17*30%)+(BD17*70%)),2)))) -> 82.59 | BI17: =IF(OR(G17="",BH17=""),"", IF(OR(AE17="-",AF17="-",AI17="-",AJ17="-",AS17="-",AU17="-",AW17="-",BA17="-"),0, IF(AND(BJ17="TL",OR(BH17<=40.99,BH17>=41)),VLOOKUP(BH17,NILAI_KONVERSI,2),IF(BJ17="L",BH17,"")))) -> 82.59 | BJ17: =IF(BH17="","", IF(OR(AQ17="-",AS17="-",AU17="-",AW17="-",AY17="-", BA17="-"),"-", IF(COUNTIF(BS17:CE17,"TL")>=1,"TL","L"))) -> L | BK17: =IF(BJ17="","",CONCATENATE(CH17,CI17,CJ17,CK17,CL17,CM17,CN17,CO17,CP17,CQ17,CR17,CS17,CU17,CT17)) | BS17: =IF(AD17="","",IF(AD17="-","-",IF(AD17<=20,"TL","L"))) -> L | BT17: =IF(AH17="","",IF(AH17="-","-",IF(AH17<=30,"TL","L"))) -> L | BU17: =IF(AM17="","",IF(AM17="-","-",IF(AM17<=20,"TL","L"))) -> L | BV17: =IF(AN17="","",IF(AN17="-","-",IF(AN17<=20.99,"TL","L"))) -> L | BW17: =IF(AR17="","", IF(AR17="-","-", IF(AR17<=34,"TL","L"))) -> L | BX17: =IF(AT17="","",IF(AT17="-","-",IF(G17="P",IF(AT17<=24,"TL",IF(AT17>=25,"L")),IF(G17="W",IF(AT17<=30,"TL",IF(AT17>=31,"L")))))) -> L | BY17: =IF(AV17="","",IF(AV17="-","-",IF(G17="P",IF(AV17<=30,"TL",IF(AV17>=31,"L")),IF(G17="W",IF(AV17<=30,"TL",IF(AV17>=31,"L")))))) -> L | BZ17: =IF(AX17="","",IF(AX17="-","-",IF(G17="P",IF(AX17<=30,"TL",IF(AX17>=31,"L")),IF(G17="W",IF(AX17<=30,"TL",IF(AX17>=31,"L")))))) -> L | CA17: =IF(AZ17="","",IF(AZ17="-","-",IF(G17="P",IF(AZ17<=30,"TL",IF(AZ17>=31,"L")),IF(G17="W",IF(AZ17<=30,"TL",IF(AZ17>=31,"L")))))) -> L | CB17: =IF(BB17="","",IF(BB17="-","-",IF(G17="P",IF(BB17<=30,"TL",IF(BB17>=31,"L")),IF(G17="W",IF(BB17<=30,"TL",IF(BB17>=31,"L")))))) -> L | CC17: =IF(BC17="","", IF(G17="P",IF(BC17<=34.99,"TL", IF(BC17>=35,"L")), IF(G17="W", IF(BC17<=34.99,"TL", IF(BC17>=35,"L"))))) -> L | CD17: =IF(BD17="","", IF(G17="P",IF(BD17<=40.99,"TL", IF(BD17>=41,"L")), IF(G17="W", IF(BD17<=40.99,"TL", IF(BD17>=41,"L"))))) -> L | CE17: =IF(BH17="","",IF(BH17<=40.99,"TL", IF(BH17>=41,"L"))) -> L | CH17: =IF(BS17="TL","BB="&""&AC17&"("&AD17&"), ", "") | CI17: =IF(OR(AE17="-",AF17="-"),"NSA= tdk melaks"&", ",IF(BT17="TL","NSA=N-"&AF17&""&"("&AH17&")"&"("&AG17&")"&", ","")) | CJ17: =IF(AL17="-","SGP= tdk melaks"&", ",IF(BU17="TL",AL17&"="&""&"("&AM17&"), ","")) | CK17: =IF(BV17="TL","NP="&"("&FIXED((AN17),2)&"), ","") | CL17: =IF(AQ17="-","A= tdk melaks"&", ", IF(BW17="TL","A="&"("&AR17&")"&" (Lari Kurang "&(AQ17-2272)&"m), ","")) | CM17: =IF(AS17="-","B1= tdk melaks"&", ",IF(BX17="TL","B1="&"("&AT17&"), ","")) | CN17: =IF(AU17="-","B2= tdk melaks"&", ",IF(BY17="TL","B2="&"("&AV17&"), ","")) | CO17: =IF(AW17="-","B3= tdk melaks"&", ",IF(BZ17="TL","B3="&"("&AX17&"), ","")) | CP17: =IF(BA17="-","B4= tdk melaks"&", ",IF(CA17="TL","B4="&"("&AZ17&"), ","")) | CQ17: =IF(BB17="-","B4= tdk melaks"&", ",IF(CB17="TL","B5="&"("&BB17&"), ","")) | CR17: =IF(CC17="TL","R.B="&"("&FIXED((BC17),2)&"), ", "") | CS17: =IF(CD17="TL","R.AB="&"("&FIXED((BD17),2)&"), ", "") | CT17: =IF(CE17="TL","N.A="&"("&FIXED((BH17),2)&").", "") | CU17: =IF(BF17="-","Renang= tdk melaks"&", ", IF(RIGHT(BF17,1)="M","Renang="&""&BF17&", ",""))
A18: 6 | B18: 6 | C18: MN3646PL | D18: A | E18: 11 | F18: REYNALD WENSESLAUS KALANGI | G18: P | H18: 170 | I18: 61.1 | J18: =IF(OR(H18="",I18="",H18=0),"",K18-0.1) -> 53.025 | K18: =IF(OR(H18="",I18="",H18=0),"",Q18-(Q18*15%)) -> 53.125 | L18: =IF(OR(H18="",I18="",H18=0),"",M18-0.1) -> 54.5875 | M18: =IF(OR(H18="",I18="",H18=0),"",Q18-(Q18*12.5%)) -> 54.6875 | N18: =IF(OR(H18="",I18="",H18=0),"",O18-0.1) -> 57.7125 | O18: =IF(OR(H18="",I18="",H18=0),"",Q18-(Q18*7.5%)) -> 57.8125 | P18: =IF(OR(H18="",I18="",H18=0),"",Q18-0.1) -> 62.4 | Q18: =IF(OR(H18="",I18="",H18=0),"",90%*(H18-100)-0.5) -> 62.5 | R18: =IF(OR(H18="",I18="",H18=0),"",90%*(H18-100)) -> 63 | S18: =IF(OR(H18="",I18="",,H18=0),"",R18+0.1) -> 63.1 | T18: =IF(OR(H18="",I18="",H18=0),"",90%*(H18-100)+0.5) -> 63.5 | U18: =IF(OR(H18="",I18="",H18=0),"",T18+0.1) -> 63.6 | V18: =IF(OR(H18="",I18="",H18=0),"",T18+(T18*7.5%)) -> 68.2625 | W18: =IF(OR(H18="",I18="",H18=0),"",V18+0.1) -> 68.3625 | X18: =IF(OR(H18="",I18="",H18=0),"",T18+(T18*12.5%)) -> 71.4375 | Y18: =IF(OR(H18="",I18="",H18=0),"",X18+0.1) -> 71.5375 | Z18: =IF(OR(H18="",I18="",H18=0),"",T18+(T18*15%)) -> 73.025 | AA18: =IF(OR(H18="",I18="",H18=0),"",Z18+0.1) -> 73.125 | AB18: =IF(AC18="LLA","BB lebih"&" "&FIXED((I18-Z18),1) &" kg",IF(AC18="LLB","BB kurang"&" "&FIXED((I18-K18),1)&" kg","")) | AC18: =IF(OR(H18="",I18="", H18=0),"",IF(I18<K18,"LLB",IF(AND(I18>J18,I18<M18),"LB",IF(AND(I18>L18,I18<O18),"NB",IF(AND(I18>N18,I18<Q18),"HB",IF(AND(I18>P18,I18<S18),"IB",IF(AND(I18>R18,I18<U18),"IA",IF(AND(I18>T18,I18<W18),"HA",IF(AND(I18>V18,I18<Y18),"NA",IF(AND(I18>X18,I18<AA18),"LA",IF(I18>=AA18,"LLA",""))))))))))) -> HB | AD18: =IF(AC18="","", VLOOKUP(AC18,NILAI_TB_BB,2)) -> 70 | AE18: 0 | AF18: 6 | AG18: NM-= SDR, LD-2, KP, XBEEN, HAP | AH18: =IF(OR(AE18="",AF18=""),"", IF(OR(AE18="-",AF18="-"),"-", IF(AE18=0,VLOOKUP(AF18,NSA,2), IF(AE18=1,VLOOKUP(AF18,NSA,3), IF(AE18=2,VLOOKUP(AF18,NSA,4), IF(AE18=3,VLOOKUP(AF18,NSA,5), IF(AE18=4,VLOOKUP(AF18,NSA,6), IF(AE18=5,VLOOKUP(AF18,NSA,7), IF(AE18=6,VLOOKUP(AF18,NSA,8), IF(AE18=7,VLOOKUP(AF18,NSA,9), IF(AE18=8,VLOOKUP(AF18,NSA,10), IF(AE18=9,VLOOKUP(AF18,NSA,11), IF(AE18=10,VLOOKUP(AF18,NSA,12),""))))))))))))) -> 40 | AI18: 0 | AJ18: 2 | AK18: NM-= Berjalan mengangkang, Muka bercak | AL18: =IF(AM18="","",IF(AM18>=81,"SGP-0",IF(AND(AM18>=61,AM18<=80),"SGP-1",IF(AND(AM18>=41,AM18<=60),"SGP-2",IF(AND(AM18>=21,AM18<=40),"SGP-3",IF(AND(AM18>=0,AM18<=20),"SGP-4","")))))) -> SGP-1 | AM18: =IF(OR(AI18="",AJ18=""),"",IF(AI18=0,VLOOKUP(AJ18,NILAI_SGP,2),IF(AI18=1,VLOOKUP(AJ18,NILAI_SGP,3),IF(AI18=2,VLOOKUP(AJ18,NILAI_SGP,4),IF(AI18=3,VLOOKUP(AJ18,NILAI_SGP,5),IF(AI18=4,VLOOKUP(AJ18,NILAI_SGP,6),IF(AI18=5,VLOOKUP(AJ18,NILAI_SGP,7),IF(AI18=6,VLOOKUP(AJ18,NILAI_SGP,8),IF(AI18=7,VLOOKUP(AJ18,NILAI_SGP,9),IF(AI18=8,VLOOKUP(AJ18,NILAI_SGP,10),IF(AI18=9,VLOOKUP(AJ18,NILAI_SGP,11),IF(AI18=10,VLOOKUP(AJ18,NILAI_SGP,12),"")))))))))))) -> 80 | AN18: =IF(OR(AD18="",AH18="",AM18=""),"",VALUE(FIXED(((AD18+AH18+AM18)/3),2))) -> 63.33 | AO18: 7 | AP18: 20 | AQ18: =IF(OR(AO18="",AP18="",AO18=0),"",IF(OR(AO18="-",AP18="-"),"-",(AO18*$AO$10)+AP18)) -> 2820 | AR18: =IF(OR(G18="",AQ18="",AQ18=0),"",IF(OR(AO18="-",AP18="-"),"-",IF(G18="P",VLOOKUP(AQ18,LARI12mnt_CALON_PRIA,2),IF(G18="W",VLOOKUP(AQ18,LARI12mnt_CALON_WANITA,2),"")))) -> 63 | AS18: 16 | AT18: =IF(OR(G18="",AS18=""),"", IF(AS18="-","-", IF(G18="P",VLOOKUP(AS18,PULLUP_CALON_PRIA,2),IF(G18="W",VLOOKUP(AS18,CHINNING_CALON_WANITA,2),"")))) -> 90 | AU18: 41 | AV18: =IF(OR(G18="",AU18=""),"", IF(AU18="-","-", IF(G18="P",VLOOKUP(AU18,SITUP_CALON_PRIA,2),IF(G18="W",VLOOKUP(AU18,SITUP_CALON_WANITA,2),"")))) -> 100 | AW18: 54 | AX18: =IF(OR(G18="",AW18=""),"",IF(AW18="-","-", IF(G18="P",VLOOKUP(AW18,LUNGES_CALON_PRIA,2),IF(G18="W",VLOOKUP(AW18,LUNGES_CALON_WANITA,2),"")))) -> 100 | AY18: 43 | AZ18: =IF(OR(G18="",AY18=""),"", IF(AY18="-","-", IF(G18="P",VLOOKUP(AY18,PUSHUP_CALON_PRIA,2),IF(G18="W",VLOOKUP(AY18,MODIFPUSHUP_CALON_WANITA,2),"")))) -> 100 | BA18: 5.05 | BB18: =IF(OR(G18="",BA18="",BA18=0),"",IF(BA18="-","-", IF(G18="P",VLOOKUP(BA18,SHUTTLERUN_CALON_PRIA,2),IF(G18="W",VLOOKUP(BA18,SHUTTLERUN_CALON_WANITA,2),"")))) -> 78 | BC18: =IF(OR(AT18="",AV18="",AX18="",AZ18="",BB18=""),"",IF(OR(AS18="-",AU18="-",AW18="-",AY18="-",BA18="-"),0,VALUE(FIXED(((AT18+AV18+AX18+AZ18+BB18)/5),2)))) -> 93.6 | BD18: =IF(OR(AR18="",BC18=""),"",IF(OR(AS18="-",AU18="-",AW18="-",AY18="-",BA18="-"),0, VALUE(FIXED(((AR18+BC18)/2),2)))) -> 78.3 | BE18: G | BF18: 1.11 | BG18: =IF(BF18="","",IF(RIGHT(BF18,1)="M","","""")) -> " | BH18: =IF(OR(G18="",AN18="",BD18=""),"", IF(OR(AE18="-",AF18="-",AI18="-",AJ18="-",AS18="-",AU18="-",AW18="-",AY18="-",BA18="-"),0, VALUE(FIXED(((AN18*30%)+(BD18*70%)),2)))) -> 73.81 | BI18: =IF(OR(G18="",BH18=""),"", IF(OR(AE18="-",AF18="-",AI18="-",AJ18="-",AS18="-",AU18="-",AW18="-",BA18="-"),0, IF(AND(BJ18="TL",OR(BH18<=40.99,BH18>=41)),VLOOKUP(BH18,NILAI_KONVERSI,2),IF(BJ18="L",BH18,"")))) -> 73.81 | BJ18: =IF(BH18="","", IF(OR(AQ18="-",AS18="-",AU18="-",AW18="-",AY18="-", BA18="-"),"-", IF(COUNTIF(BS18:CE18,"TL")>=1,"TL","L"))) -> L | BK18: =IF(BJ18="","",CONCATENATE(CH18,CI18,CJ18,CK18,CL18,CM18,CN18,CO18,CP18,CQ18,CR18,CS18,CU18,CT18)) | BS18: =IF(AD18="","",IF(AD18="-","-",IF(AD18<=20,"TL","L"))) -> L | BT18: =IF(AH18="","",IF(AH18="-","-",IF(AH18<=30,"TL","L"))) -> L | BU18: =IF(AM18="","",IF(AM18="-","-",IF(AM18<=20,"TL","L"))) -> L | BV18: =IF(AN18="","",IF(AN18="-","-",IF(AN18<=20.99,"TL","L"))) -> L | BW18: =IF(AR18="","", IF(AR18="-","-", IF(AR18<=34,"TL","L"))) -> L | BX18: =IF(AT18="","",IF(AT18="-","-",IF(G18="P",IF(AT18<=24,"TL",IF(AT18>=25,"L")),IF(G18="W",IF(AT18<=30,"TL",IF(AT18>=31,"L")))))) -> L | BY18: =IF(AV18="","",IF(AV18="-","-",IF(G18="P",IF(AV18<=30,"TL",IF(AV18>=31,"L")),IF(G18="W",IF(AV18<=30,"TL",IF(AV18>=31,"L")))))) -> L | BZ18: =IF(AX18="","",IF(AX18="-","-",IF(G18="P",IF(AX18<=30,"TL",IF(AX18>=31,"L")),IF(G18="W",IF(AX18<=30,"TL",IF(AX18>=31,"L")))))) -> L | CA18: =IF(AZ18="","",IF(AZ18="-","-",IF(G18="P",IF(AZ18<=30,"TL",IF(AZ18>=31,"L")),IF(G18="W",IF(AZ18<=30,"TL",IF(AZ18>=31,"L")))))) -> L | CB18: =IF(BB18="","",IF(BB18="-","-",IF(G18="P",IF(BB18<=30,"TL",IF(BB18>=31,"L")),IF(G18="W",IF(BB18<=30,"TL",IF(BB18>=31,"L")))))) -> L | CC18: =IF(BC18="","", IF(G18="P",IF(BC18<=34.99,"TL", IF(BC18>=35,"L")), IF(G18="W", IF(BC18<=34.99,"TL", IF(BC18>=35,"L"))))) -> L | CD18: =IF(BD18="","", IF(G18="P",IF(BD18<=40.99,"TL", IF(BD18>=41,"L")), IF(G18="W", IF(BD18<=40.99,"TL", IF(BD18>=41,"L"))))) -> L | CE18: =IF(BH18="","",IF(BH18<=40.99,"TL", IF(BH18>=41,"L"))) -> L | CH18: =IF(BS18="TL","BB="&""&AC18&"("&AD18&"), ", "") | CI18: =IF(OR(AE18="-",AF18="-"),"NSA= tdk melaks"&", ",IF(BT18="TL","NSA=N-"&AF18&""&"("&AH18&")"&"("&AG18&")"&", ","")) | CJ18: =IF(AL18="-","SGP= tdk melaks"&", ",IF(BU18="TL",AL18&"="&""&"("&AM18&"), ","")) | CK18: =IF(BV18="TL","NP="&"("&FIXED((AN18),2)&"), ","") | CL18: =IF(AQ18="-","A= tdk melaks"&", ", IF(BW18="TL","A="&"("&AR18&")"&" (Lari Kurang "&(AQ18-2272)&"m), ","")) | CM18: =IF(AS18="-","B1= tdk melaks"&", ",IF(BX18="TL","B1="&"("&AT18&"), ","")) | CN18: =IF(AU18="-","B2= tdk melaks"&", ",IF(BY18="TL","B2="&"("&AV18&"), ","")) | CO18: =IF(AW18="-","B3= tdk melaks"&", ",IF(BZ18="TL","B3="&"("&AX18&"), ","")) | CP18: =IF(BA18="-","B4= tdk melaks"&", ",IF(CA18="TL","B4="&"("&AZ18&"), ","")) | CQ18: =IF(BB18="-","B4= tdk melaks"&", ",IF(CB18="TL","B5="&"("&BB18&"), ","")) | CR18: =IF(CC18="TL","R.B="&"("&FIXED((BC18),2)&"), ", "") | CS18: =IF(CD18="TL","R.AB="&"("&FIXED((BD18),2)&"), ", "") | CT18: =IF(CE18="TL","N.A="&"("&FIXED((BH18),2)&").", "") | CU18: =IF(BF18="-","Renang= tdk melaks"&", ", IF(RIGHT(BF18,1)="M","Renang="&""&BF18&", ",""))
A19: 7 | B19: 7 | C19: MN3647PL | D19: A | E19: 12 | F19: NOPRI JAMALUDIN | G19: P | H19: 173.2 | I19: 61.5 | J19: =IF(OR(H19="",I19="",H19=0),"",K19-0.1) -> 55.473 | K19: =IF(OR(H19="",I19="",H19=0),"",Q19-(Q19*15%)) -> 55.573 | L19: =IF(OR(H19="",I19="",H19=0),"",M19-0.1) -> 57.1075 | M19: =IF(OR(H19="",I19="",H19=0),"",Q19-(Q19*12.5%)) -> 57.2075 | N19: =IF(OR(H19="",I19="",H19=0),"",O19-0.1) -> 60.3765 | O19: =IF(OR(H19="",I19="",H19=0),"",Q19-(Q19*7.5%)) -> 60.4765 | P19: =IF(OR(H19="",I19="",H19=0),"",Q19-0.1) -> 65.28 | Q19: =IF(OR(H19="",I19="",H19=0),"",90%*(H19-100)-0.5) -> 65.38 | R19: =IF(OR(H19="",I19="",H19=0),"",90%*(H19-100)) -> 65.88 | S19: =IF(OR(H19="",I19="",,H19=0),"",R19+0.1) -> 65.98 | T19: =IF(OR(H19="",I19="",H19=0),"",90%*(H19-100)+0.5) -> 66.38 | U19: =IF(OR(H19="",I19="",H19=0),"",T19+0.1) -> 66.48 | V19: =IF(OR(H19="",I19="",H19=0),"",T19+(T19*7.5%)) -> 71.3585 | W19: =IF(OR(H19="",I19="",H19=0),"",V19+0.1) -> 71.4585 | X19: =IF(OR(H19="",I19="",H19=0),"",T19+(T19*12.5%)) -> 74.6775 | Y19: =IF(OR(H19="",I19="",H19=0),"",X19+0.1) -> 74.7775 | Z19: =IF(OR(H19="",I19="",H19=0),"",T19+(T19*15%)) -> 76.337 | AA19: =IF(OR(H19="",I19="",H19=0),"",Z19+0.1) -> 76.437 | AB19: =IF(AC19="LLA","BB lebih"&" "&FIXED((I19-Z19),1) &" kg",IF(AC19="LLB","BB kurang"&" "&FIXED((I19-K19),1)&" kg","")) | AC19: =IF(OR(H19="",I19="", H19=0),"",IF(I19<K19,"LLB",IF(AND(I19>J19,I19<M19),"LB",IF(AND(I19>L19,I19<O19),"NB",IF(AND(I19>N19,I19<Q19),"HB",IF(AND(I19>P19,I19<S19),"IB",IF(AND(I19>R19,I19<U19),"IA",IF(AND(I19>T19,I19<W19),"HA",IF(AND(I19>V19,I19<Y19),"NA",IF(AND(I19>X19,I19<AA19),"LA",IF(I19>=AA19,"LLA",""))))))))))) -> HB | AD19: =IF(AC19="","", VLOOKUP(AC19,NILAI_TB_BB,2)) -> 70 | AE19: 0 | AF19: 8 | AG19: NM-= HA-2, HAS-2, LD, KP-2, HAP | AH19: =IF(OR(AE19="",AF19=""),"", IF(OR(AE19="-",AF19="-"),"-", IF(AE19=0,VLOOKUP(AF19,NSA,2), IF(AE19=1,VLOOKUP(AF19,NSA,3), IF(AE19=2,VLOOKUP(AF19,NSA,4), IF(AE19=3,VLOOKUP(AF19,NSA,5), IF(AE19=4,VLOOKUP(AF19,NSA,6), IF(AE19=5,VLOOKUP(AF19,NSA,7), IF(AE19=6,VLOOKUP(AF19,NSA,8), IF(AE19=7,VLOOKUP(AF19,NSA,9), IF(AE19=8,VLOOKUP(AF19,NSA,10), IF(AE19=9,VLOOKUP(AF19,NSA,11), IF(AE19=10,VLOOKUP(AF19,NSA,12),""))))))))))))) -> 20 | AI19: 0 | AJ19: 2 | AK19: NM-= Bibir tidak simetris, Keloid | AL19: =IF(AM19="","",IF(AM19>=81,"SGP-0",IF(AND(AM19>=61,AM19<=80),"SGP-1",IF(AND(AM19>=41,AM19<=60),"SGP-2",IF(AND(AM19>=21,AM19<=40),"SGP-3",IF(AND(AM19>=0,AM19<=20),"SGP-4","")))))) -> SGP-1 | AM19: =IF(OR(AI19="",AJ19=""),"",IF(AI19=0,VLOOKUP(AJ19,NILAI_SGP,2),IF(AI19=1,VLOOKUP(AJ19,NILAI_SGP,3),IF(AI19=2,VLOOKUP(AJ19,NILAI_SGP,4),IF(AI19=3,VLOOKUP(AJ19,NILAI_SGP,5),IF(AI19=4,VLOOKUP(AJ19,NILAI_SGP,6),IF(AI19=5,VLOOKUP(AJ19,NILAI_SGP,7),IF(AI19=6,VLOOKUP(AJ19,NILAI_SGP,8),IF(AI19=7,VLOOKUP(AJ19,NILAI_SGP,9),IF(AI19=8,VLOOKUP(AJ19,NILAI_SGP,10),IF(AI19=9,VLOOKUP(AJ19,NILAI_SGP,11),IF(AI19=10,VLOOKUP(AJ19,NILAI_SGP,12),"")))))))))))) -> 80 | AN19: =IF(OR(AD19="",AH19="",AM19=""),"",VALUE(FIXED(((AD19+AH19+AM19)/3),2))) -> 56.67 | AO19: 7 | AP19: 110 | AQ19: =IF(OR(AO19="",AP19="",AO19=0),"",IF(OR(AO19="-",AP19="-"),"-",(AO19*$AO$10)+AP19)) -> 2910 | AR19: =IF(OR(G19="",AQ19="",AQ19=0),"",IF(OR(AO19="-",AP19="-"),"-",IF(G19="P",VLOOKUP(AQ19,LARI12mnt_CALON_PRIA,2),IF(G19="W",VLOOKUP(AQ19,LARI12mnt_CALON_WANITA,2),"")))) -> 68 | AS19: 18 | AT19: =IF(OR(G19="",AS19=""),"", IF(AS19="-","-", IF(G19="P",VLOOKUP(AS19,PULLUP_CALON_PRIA,2),IF(G19="W",VLOOKUP(AS19,CHINNING_CALON_WANITA,2),"")))) -> 100 | AU19: 41 | AV19: =IF(OR(G19="",AU19=""),"", IF(AU19="-","-", IF(G19="P",VLOOKUP(AU19,SITUP_CALON_PRIA,2),IF(G19="W",VLOOKUP(AU19,SITUP_CALON_WANITA,2),"")))) -> 100 | AW19: 54 | AX19: =IF(OR(G19="",AW19=""),"",IF(AW19="-","-", IF(G19="P",VLOOKUP(AW19,LUNGES_CALON_PRIA,2),IF(G19="W",VLOOKUP(AW19,LUNGES_CALON_WANITA,2),"")))) -> 100 | AY19: 40 | AZ19: =IF(OR(G19="",AY19=""),"", IF(AY19="-","-", IF(G19="P",VLOOKUP(AY19,PUSHUP_CALON_PRIA,2),IF(G19="W",VLOOKUP(AY19,MODIFPUSHUP_CALON_WANITA,2),"")))) -> 93 | BA19: 5.06 | BB19: =IF(OR(G19="",BA19="",BA19=0),"",IF(BA19="-","-", IF(G19="P",VLOOKUP(BA19,SHUTTLERUN_CALON_PRIA,2),IF(G19="W",VLOOKUP(BA19,SHUTTLERUN_CALON_WANITA,2),"")))) -> 78 | BC19: =IF(OR(AT19="",AV19="",AX19="",AZ19="",BB19=""),"",IF(OR(AS19="-",AU19="-",AW19="-",AY19="-",BA19="-"),0,VALUE(FIXED(((AT19+AV19+AX19+AZ19+BB19)/5),2)))) -> 94.2 | BD19: =IF(OR(AR19="",BC19=""),"",IF(OR(AS19="-",AU19="-",AW19="-",AY19="-",BA19="-"),0, VALUE(FIXED(((AR19+BC19)/2),2)))) -> 81.1 | BE19: G | BF19: 1.07 | BG19: =IF(BF19="","",IF(RIGHT(BF19,1)="M","","""")) -> " | BH19: =IF(OR(G19="",AN19="",BD19=""),"", IF(OR(AE19="-",AF19="-",AI19="-",AJ19="-",AS19="-",AU19="-",AW19="-",AY19="-",BA19="-"),0, VALUE(FIXED(((AN19*30%)+(BD19*70%)),2)))) -> 73.77 | BI19: =IF(OR(G19="",BH19=""),"", IF(OR(AE19="-",AF19="-",AI19="-",AJ19="-",AS19="-",AU19="-",AW19="-",BA19="-"),0, IF(AND(BJ19="TL",OR(BH19<=40.99,BH19>=41)),VLOOKUP(BH19,NILAI_KONVERSI,2),IF(BJ19="L",BH19,"")))) -> 37.5 | BJ19: =IF(BH19="","", IF(OR(AQ19="-",AS19="-",AU19="-",AW19="-",AY19="-", BA19="-"),"-", IF(COUNTIF(BS19:CE19,"TL")>=1,"TL","L"))) -> TL | BK19: =IF(BJ19="","",CONCATENATE(CH19,CI19,CJ19,CK19,CL19,CM19,CN19,CO19,CP19,CQ19,CR19,CS19,CU19,CT19)) -> NSA=N-8(20)(NM-= HA-2, HAS-2, LD, KP-2, HAP), | BS19: =IF(AD19="","",IF(AD19="-","-",IF(AD19<=20,"TL","L"))) -> L | BT19: =IF(AH19="","",IF(AH19="-","-",IF(AH19<=30,"TL","L"))) -> TL | BU19: =IF(AM19="","",IF(AM19="-","-",IF(AM19<=20,"TL","L"))) -> L | BV19: =IF(AN19="","",IF(AN19="-","-",IF(AN19<=20.99,"TL","L"))) -> L | BW19: =IF(AR19="","", IF(AR19="-","-", IF(AR19<=34,"TL","L"))) -> L | BX19: =IF(AT19="","",IF(AT19="-","-",IF(G19="P",IF(AT19<=24,"TL",IF(AT19>=25,"L")),IF(G19="W",IF(AT19<=30,"TL",IF(AT19>=31,"L")))))) -> L | BY19: =IF(AV19="","",IF(AV19="-","-",IF(G19="P",IF(AV19<=30,"TL",IF(AV19>=31,"L")),IF(G19="W",IF(AV19<=30,"TL",IF(AV19>=31,"L")))))) -> L | BZ19: =IF(AX19="","",IF(AX19="-","-",IF(G19="P",IF(AX19<=30,"TL",IF(AX19>=31,"L")),IF(G19="W",IF(AX19<=30,"TL",IF(AX19>=31,"L")))))) -> L | CA19: =IF(AZ19="","",IF(AZ19="-","-",IF(G19="P",IF(AZ19<=30,"TL",IF(AZ19>=31,"L")),IF(G19="W",IF(AZ19<=30,"TL",IF(AZ19>=31,"L")))))) -> L | CB19: =IF(BB19="","",IF(BB19="-","-",IF(G19="P",IF(BB19<=30,"TL",IF(BB19>=31,"L")),IF(G19="W",IF(BB19<=30,"TL",IF(BB19>=31,"L")))))) -> L | CC19: =IF(BC19="","", IF(G19="P",IF(BC19<=34.99,"TL", IF(BC19>=35,"L")), IF(G19="W", IF(BC19<=34.99,"TL", IF(BC19>=35,"L"))))) -> L | CD19: =IF(BD19="","", IF(G19="P",IF(BD19<=40.99,"TL", IF(BD19>=41,"L")), IF(G19="W", IF(BD19<=40.99,"TL", IF(BD19>=41,"L"))))) -> L | CE19: =IF(BH19="","",IF(BH19<=40.99,"TL", IF(BH19>=41,"L"))) -> L | CH19: =IF(BS19="TL","BB="&""&AC19&"("&AD19&"), ", "") | CI19: =IF(OR(AE19="-",AF19="-"),"NSA= tdk melaks"&", ",IF(BT19="TL","NSA=N-"&AF19&""&"("&AH19&")"&"("&AG19&")"&", ","")) -> NSA=N-8(20)(NM-= HA-2, HAS-2, LD, KP-2, HAP), | CJ19: =IF(AL19="-","SGP= tdk melaks"&", ",IF(BU19="TL",AL19&"="&""&"("&AM19&"), ","")) | CK19: =IF(BV19="TL","NP="&"("&FIXED((AN19),2)&"), ","") | CL19: =IF(AQ19="-","A= tdk melaks"&", ", IF(BW19="TL","A="&"("&AR19&")"&" (Lari Kurang "&(AQ19-2272)&"m), ","")) | CM19: =IF(AS19="-","B1= tdk melaks"&", ",IF(BX19="TL","B1="&"("&AT19&"), ","")) | CN19: =IF(AU19="-","B2= tdk melaks"&", ",IF(BY19="TL","B2="&"("&AV19&"), ","")) | CO19: =IF(AW19="-","B3= tdk melaks"&", ",IF(BZ19="TL","B3="&"("&AX19&"), ","")) | CP19: =IF(BA19="-","B4= tdk melaks"&", ",IF(CA19="TL","B4="&"("&AZ19&"), ","")) | CQ19: =IF(BB19="-","B4= tdk melaks"&", ",IF(CB19="TL","B5="&"("&BB19&"), ","")) | CR19: =IF(CC19="TL","R.B="&"("&FIXED((BC19),2)&"), ", "") | CS19: =IF(CD19="TL","R.AB="&"("&FIXED((BD19),2)&"), ", "") | CT19: =IF(CE19="TL","N.A="&"("&FIXED((BH19),2)&").", "") | CU19: =IF(BF19="-","Renang= tdk melaks"&", ", IF(RIGHT(BF19,1)="M","Renang="&""&BF19&", ",""))
